BEGIN:VCALENDAR
VERSION:2.0
PRODID:-//wp-events-plugin.com//7.2.3.1//EN
TZID:Europe/Rome
X-WR-TIMEZONE:Europe/Rome
BEGIN:VEVENT
UID:38950@lazioeventi.com
DTSTART;TZID=Europe/Rome;VALUE=DATE:20240426
DTEND;TZID=Europe/Rome;VALUE=DATE:20240503
DTSTAMP:20240410T192912Z
URL:https://lazioeventi.com/eventi/my-heart-cuore-mio
SUMMARY:MY HEART-CUORE MIO - Roma - 26 Aprile 24 00:00
DESCRIPTION:SOLO EXHIBIT DI BERRAK IPEK TATBUL\n“MY HEART-CUORE MIO”\nR
 oma 26 aprile 2 maggio\, 2024\nDal 26 aprile al 2 maggio 2024 Medina Art G
 allery presenta la mostra personale di Berrak Ipek Tatbul “MY HEART-CUOR
 E MIO” presso la galleria di Via Merulana 220. \nL’evento di opening s
 i terrà il giorno 26 aprile 2024 alle ore 18:00 presso la galleria di Via
  Merulana 220\nMostra personale di Berrak İpek Tatbul.\nOgni pezzo\, nato
  dal profondo delle sue emozioni\, cerca di connetterci attraverso vulnera
 bilità e trionfi condivisi.\nUn'immersione nei "sentimenti comuni" per es
 plorare il caleidoscopio dei nostri mondi interiori.\nUn tocco acuto\, un 
 cuore ferito: riflessioni su emozioni e arte\n"Le tue spine sono affilate 
 e ti importa poco del mio dolore"\, disse una volta qualcuno. Hai mai sent
 ito quel formicolio dentro\, una vulnerabilità che protegge e ferisce all
 o stesso tempo? Come una rosa\, bellezza e pericolo si intrecciano.\nLa tu
 a passione ti ha mai lasciato bruciato\, consumato\, forse addirittura sch
 iacciato? Comprendi il dolore di tali emozioni\, il desiderio di scomparir
 e semplicemente nell'abbraccio di un altro?\nIl tuo mondo si è mai sentit
 o eclissato\, avvolto nell'oscurità dove un tempo splendeva la tua luce? 
 Ma il sole è sorto di nuovo\, illuminando un sentiero che pensavi perduto
  per sempre?\nPuoi amare l'intero tuo spettro emotivo\, anche le spine e l
 e ombre\, sapendo che sono unicamente tue?\nSe è così\, non sei solo. Un
 isciti a noi nel celebrare il tessuto dell'esperienza umana attraverso l'a
 rte di Berrak İpek Tatbul.\n\nIn breve:\nTitolo Mostra: “MY HEART-CUORE
  MIO”\nOpening Mostra: venerdì 26 aprile\, ore 18:00\nDurata Mostra: da
 l 26 aprile al 2 maggio 2024 \nLuogo: Medina Art Gallery | Via Merulana 22
 0\, Roma \nContatti Medina Art Gallery:\nEmail: info@medinaroma.com -Tel. 
 +39 06 960 30 764\nSocial: facebook.com / medinaroma.arte / Instagram.com 
 / medinaroma.arte\nWebsite: https://www.medinaroma.com \nOrario: apertura:
  10:00-13:00 e 15:00-19:00\n
ATTACH;FMTTYPE=image/jpeg:https://lazioeventi.com/wp-content/uploads/2024/
 04/LOCANDINA-MY-HEART-1-1.jpg
CATEGORIES:Arte e Cultura nel Lazio
LOCATION:Roma\, Via Leopardi\, Roma\, Roma\, Lazio\, Italia
GEO:41.8942;12.5017
X-APPLE-STRUCTURED-LOCATION;VALUE=URI;X-ADDRESS=Via Leopardi\, Roma\, Roma\
 , Lazio\, Italia;X-APPLE-RADIUS=100;X-TITLE=Roma:geo:41.8942,12.5017
END:VEVENT
BEGIN:VTIMEZONE
TZID:Europe/Rome
X-LIC-LOCATION:Europe/Rome
BEGIN:DAYLIGHT
DTSTART:20240331T030000
TZOFFSETFROM:+0100
TZOFFSETTO:+0200
TZNAME:CEST
END:DAYLIGHT
END:VTIMEZONE
END:VCALENDAR