BEGIN:VCALENDAR
VERSION:2.0
PRODID:-//wp-events-plugin.com//7.2.3.1//EN
TZID:Europe/Rome
X-WR-TIMEZONE:Europe/Rome
BEGIN:VEVENT
UID:42957@lazioeventi.com
DTSTART;TZID=Europe/Rome;VALUE=DATE:20251106
DTEND;TZID=Europe/Rome;VALUE=DATE:20251110
DTSTAMP:20251103T075111Z
URL:https://lazioeventi.com/eventi/naked
SUMMARY:Naked - Roma - 6 Novembre 25 00:00
DESCRIPTION:NAKED\nStudi nudi di improvvisazione teatrale\ncon Patrizio Cos
 sa e Fabrizio Lo Bello\nRegia Giorgia Giuntoli\n\nDal 6 al 9 novembre 2025
  \nTeatrosophia torna ad accogliere\, ad altissimi livelli\, l’arte deli
 cata e complessa dell’improvvisazione teatrale. Protagonista è la AST C
 ompany\, compagnia di punta del Centro Sperimentale di Improvvisazione e T
 eatro – Assetto Teatro\, composta da attori e improvvisatori professioni
 sti che fondano il proprio lavoro sulla sinergia tra testo e improvvisazio
 ne\, dando vita al loro inconfondibile Teatro Improvvisato\, dove ogni rep
 lica è unica e irripetibile.\n\nNaked è uno spettacolo sperimentale di i
 mprovvisazione teatrale basato sull'esasperazione del lavoro dell'attore: 
 non ci sono costumi\, non c'è quarta parete\, non c'è scenografia. Non c
 'è il testo scritto. Tutto è rigorosamente improvvisato. Gli attori ogni
  sera saranno nudi con la propria capacità di creare personaggi e storie\
 , senza nessuna rete di protezione. In scena non c'è altro se non la vita
 . L'essenza stessa delle relazioni moderne\, ogni sera diversa da quella p
 recedente\, ogni volta unica e irripetibile. Il pubblico partecipa così a
 d una vera e propria epifania: gli attori a nudo con loro stessi non potra
 nno fare altro che immergersi e vivere i loro personaggi senza più confin
 i di immedesimazione\; diventano al contempo attori\, sceneggiatori\, auto
 ri\, registi. Il risultato è uno spettacolo nuovo e irripetibile ad ogni 
 replica.\nDopo lo spettacolo Teatrosophia avrà il piacere di offrire il s
 uo consueto aperitivo ad artisti e pubblico!\n \nOrari spettacolo: Gioved
 ì e venerdì – ore 21:00 – Sabato e domenica – ore 18:00\nBiglietti
 : Intero: euro 15\,00 + tessera associativa annuale € 5\,00\n\nPrenotazi
 oni: https://www.teatrosophia.it/index.php?view=article&id=88&catid=9\n \n
 N.B: Per accedere alla prenotazione è necessaria la registrazione all’A
 ssociazione Culturale Teatrosophia per la sottoscrizione della tessera ass
 ociativa che sarà valida per tutta la stagione 2025/2026.\n 
ATTACH;FMTTYPE=image/jpeg:https://lazioeventi.com/wp-content/uploads/2025/
 11/naked.jpg
CATEGORIES:Musica, Spettacoli e Danza nel Lazio
LOCATION:Roma\, Via Leopardi\, Roma\, Roma\, Lazio\, Italia
GEO:41.8942;12.5017
X-APPLE-STRUCTURED-LOCATION;VALUE=URI;X-ADDRESS=Via Leopardi\, Roma\, Roma\
 , Lazio\, Italia;X-APPLE-RADIUS=100;X-TITLE=Roma:geo:41.8942,12.5017
END:VEVENT
BEGIN:VTIMEZONE
TZID:Europe/Rome
X-LIC-LOCATION:Europe/Rome
BEGIN:STANDARD
DTSTART:20251026T020000
TZOFFSETFROM:+0200
TZOFFSETTO:+0100
TZNAME:CET
END:STANDARD
END:VTIMEZONE
END:VCALENDAR