BEGIN:VCALENDAR
VERSION:2.0
PRODID:-//wp-events-plugin.com//7.2.3.1//EN
TZID:Europe/Rome
X-WR-TIMEZONE:Europe/Rome
BEGIN:VEVENT
UID:33143@lazioeventi.com
DTSTART;TZID=Europe/Rome:20230113T203000
DTEND;TZID=Europe/Rome:20230129T203000
DTSTAMP:20221119T064248Z
URL:https://lazioeventi.com/eventi/napoletano-e-famme-na-pizza
SUMMARY:Napoletano? E famme ‘na pizza - Roma - 13 Gennaio 23 20:30
DESCRIPTION:“Napoletano? E famme ‘na pizza” è uno spettacolo che nas
 ce dal mio libro uscito con lo stesso titolo agli inizi di marzo. Titolo c
 he fa riferimento ad una battuta di una mia commedia teatrale\, “E… fu
 ori nevica”\, nella quale uno dei personaggi chiede al fratello di dimos
 trare la sua presunta napoletanità facendogli una pizza. E sì\, perché 
 ogni buon napoletano deve saper fare le pizze\, deve saper cantare\, deve 
 essere sempre allegro\, amare il caffè bollente in tazza rovente\, ogni n
 apoletano che si rispetti deve essere devoto a San Gennaro\, tifare Napoli
 \, amare il ragù di mamma’… e via così con gli stereotipi che rischi
 ano di rendere la vita di un napoletano più simile ad una gabbia che ad u
 n percorso libero e indipendente. Tutte le città vivono sulla propria pel
 le il peso degli stereotipi ma Napoli più di ogni altra. E\, molto spesso
 \, sono i napoletani stessi a pretendere dai propri concittadini una auten
 ticità così ortodossa da rischiare l’integralismo culturale. Allora io
  con questo spettacolo provo a capire\, in chiave ironica\, se sono un nap
 oletano autentico o un traditore dei sacri e inviolabili usi e costumi del
 la nostra terra. Cominciando dalla confessione di un primo tradimento\, un
 a sorta di peccato originale che rischierebbe di intaccare la mia immagine
  di attore comico napoletano. Così\, il più delle volte\, mi definiscono
  quando mi presentano da qualche parte. Ed io\, il più delle volte sto zi
 tto. Ebbene\, confesso il mio peccato: io non sono nato a Napoli ma a Baco
 li\, in provincia di Napoli! Quindi questo che vuol dire? Che non sono nap
 oletano d.o.c.? Significa che da anni usurpo un titolo culturale? Voglio c
 ercare con voi la risposta a questa domanda: “sono” napoletano o “fa
 ccio” il napoletano? Aiutatemi!\n\nUna produzione Teatro Diana- Centro P
 roduzione Teatrale e Chi è di scena\n\nScritto\, diretto e interpretato d
 a Vincenzo Salemme\nCon Vincenzo Borrino\, Sergio D’Auria\, Teresa Del V
 ecchio\, Antonio Guerriero\, Fernanda Pinto\nScene e costumi Francesca Rom
 ana Scudiero\nMusiche Antonio Boccia\n\nSpettacoli dal martedì al sabato 
 ore 20.30\, domenica ore 18
ATTACH;FMTTYPE=image/jpeg:https://lazioeventi.com/wp-content/uploads/2022/
 11/SALEMME_scale.jpg
CATEGORIES:Musica, Spettacoli e Danza nel Lazio
LOCATION:Roma\, Via Leopardi\, Roma\, Roma\, Lazio\, Italia
GEO:41.8942;12.5017
X-APPLE-STRUCTURED-LOCATION;VALUE=URI;X-ADDRESS=Via Leopardi\, Roma\, Roma\
 , Lazio\, Italia;X-APPLE-RADIUS=100;X-TITLE=Roma:geo:41.8942,12.5017
END:VEVENT
BEGIN:VTIMEZONE
TZID:Europe/Rome
X-LIC-LOCATION:Europe/Rome
BEGIN:STANDARD
DTSTART:20221030T020000
TZOFFSETFROM:+0200
TZOFFSETTO:+0100
TZNAME:CET
END:STANDARD
END:VTIMEZONE
END:VCALENDAR