BEGIN:VCALENDAR
VERSION:2.0
PRODID:-//wp-events-plugin.com//7.2.3.1//EN
TZID:Europe/Rome
X-WR-TIMEZONE:Europe/Rome
BEGIN:VEVENT
UID:32176@lazioeventi.com
DTSTART;TZID=Europe/Rome;VALUE=DATE:20221001
DTEND;TZID=Europe/Rome;VALUE=DATE:20221003
DTSTAMP:20220903T214912Z
URL:https://lazioeventi.com/eventi/nasa-international-space-apps-challenge
SUMMARY:Nasa International Space Apps Challenge - Frascati - 1 Ottobre 22 0
 0:00
DESCRIPTION:Nasa International Space Apps Challenge - Rome 2022 torna...in 
 PRESENZA\n\nDal 1 al 2 Ottobre 2022 va in orbita la sfida spaziale più gr
 ande al mondo!\n\nCrea il tuo team\, realizza il tuo progetto in 2 giornat
 e di hacking senza limiti e metti alla prova le tue capacità sfidandoti c
 on appassionati dello spazio e della tecnologia da tutto il mondo\, a colp
 i d’innovazione e creatività.\n\nHai letto bene\, quest'anno l'hackatho
 n si svolgerà in forma ibrida\, online e in presenza (posti limitati) all
 'interno dell'Auditorium Scuderie Aldobrandini di #Frascati con il support
 o e la collaborazione di tanti prestigiosi partner.\nSei pronto ad accetta
 re la sfida?!\n\nREGISTRATI ORA -> https://2022.spaceappschallenge.org/loc
 ations/rome/\n\nL’evento è GRATUITO e aperto a tutti\, clicca il link p
 er registrarti\, inserisci i tuoi dati e scegli di partecipare con il nost
 ro hub ROME.\n\nTi aspettiamo!\n
ATTACH;FMTTYPE=image/jpeg:https://lazioeventi.com/wp-content/uploads/2022/
 09/space-challenge.jpg
CATEGORIES:Arte e Cultura nel Lazio,Varie
LOCATION:Frascati\, Comune\, Frascati\, Roma\, Lazio\, Italia
GEO:41.807;12.6786
X-APPLE-STRUCTURED-LOCATION;VALUE=URI;X-ADDRESS=Comune\, Frascati\, Roma\, 
 Lazio\, Italia;X-APPLE-RADIUS=100;X-TITLE=Frascati:geo:41.807,12.6786
END:VEVENT
BEGIN:VTIMEZONE
TZID:Europe/Rome
X-LIC-LOCATION:Europe/Rome
BEGIN:DAYLIGHT
DTSTART:20220327T030000
TZOFFSETFROM:+0100
TZOFFSETTO:+0200
TZNAME:CEST
END:DAYLIGHT
END:VTIMEZONE
END:VCALENDAR