BEGIN:VCALENDAR
VERSION:2.0
PRODID:-//wp-events-plugin.com//7.2.3.1//EN
TZID:Europe/Rome
X-WR-TIMEZONE:Europe/Rome
BEGIN:VEVENT
UID:38163@lazioeventi.com
DTSTART;TZID=Europe/Rome;VALUE=DATE:20231223
DTEND;TZID=Europe/Rome;VALUE=DATE:20231229
DTSTAMP:20231219T203321Z
URL:https://lazioeventi.com/eventi/natale-a-campoli-appennino
SUMMARY:Natale a Campoli Appennino - Campoli Appennino - 23 Dicembre 23 00:
 00
DESCRIPTION:Natale Campolese\n\nEcco a voi il calendario degli appuntamenti
  del periodo delle feste natalizie a #CampoliAppennino\n\nGrazie a tutte l
 e Associazioni Campolesi per il prezioso contributo che offrono quotidiana
 mente al nostro paese. \n\nVi aspettiamo ai molteplici eventi in calendari
 o!\n\n
ATTACH;FMTTYPE=image/jpeg:https://lazioeventi.com/wp-content/uploads/2023/
 12/campoli_natale023_1.jpg
CATEGORIES:Sport, Tempo Libero e Divertimento nel Lazio
LOCATION:Campoli Appennino\, Comune\, Campoli Appennino\, Frosinone\, Lazio
 \, Italia
GEO:41.738;13.6788
X-APPLE-STRUCTURED-LOCATION;VALUE=URI;X-ADDRESS=Comune\, Campoli Appennino\
 , Frosinone\, Lazio\, Italia;X-APPLE-RADIUS=100;X-TITLE=Campoli Appennino:
 geo:41.738,13.6788
END:VEVENT
BEGIN:VTIMEZONE
TZID:Europe/Rome
X-LIC-LOCATION:Europe/Rome
BEGIN:STANDARD
DTSTART:20231029T020000
TZOFFSETFROM:+0200
TZOFFSETTO:+0100
TZNAME:CET
END:STANDARD
END:VTIMEZONE
END:VCALENDAR