BEGIN:VCALENDAR
VERSION:2.0
PRODID:-//wp-events-plugin.com//7.2.3.1//EN
TZID:Europe/Rome
X-WR-TIMEZONE:Europe/Rome
BEGIN:VEVENT
UID:33313@lazioeventi.com
DTSTART;TZID=Europe/Rome:20221208T160000
DTEND;TZID=Europe/Rome:20221211T220000
DTSTAMP:20221130T195314Z
URL:https://lazioeventi.com/eventi/natale-a-castello
SUMMARY:Natale a Castello - Formia - 8 Dicembre 22 16:00
DESCRIPTION:Natale a Castello - Castellonorato - Formia LT\n\nIl borgo medi
 evale di Castellonorato farà da cornice a quattro giornate piene di inizi
 ative speciali da vivere in famiglia e con gli amici.\n\nIl Programma\n\nG
 io 8 Dicembre (16:00-22:00)\n• Apertura e inaugurazione di “Natale a C
 astello”\n• Spettacolo itinerante con il Mangiafuoco\n• Corteo stori
 co medievale\n• Spettacolo degli Sbandieratori di Minturno Ass. "Le Tre 
 Torri"\n• Apertura della Casa di Babbo Natale e consegna delle letterine
 \n• Street food e artigianato\n• Spettacoli itineranti con “I Bagace
 ni”\n• Musiche popolari con organetti e zampogne\n\nVen 9 Dicembre (16
 :00-22:00)\n• Spettacolo itinerante con il Mangiafuoco\n• Maurizio Sta
 mmati e la sua Compagnia\n• Casa di Babbo Natale e consegna delle letter
 ine\n• Street food e artigianato\n• Spettacoli itineranti con “I Bag
 aceni”\n• Musiche popolari con organetti e zampogne\n\nSab 10 Dicembre
  (16:00-22:00)\n• Rievocazione storica dei mestieri del Medioevo a cura 
 dell'Associazione MURISTAN\n• Casa di Babbo Natale e consegna delle lett
 erine\n• Street food e artigianato\n• Prova di abilità con l’arco c
 on arcieri addestrati\n• Combattimenti di scherma medievale\n• Spettac
 olo dei Falconieri della FC-Falconeria\n• Spettacoli itineranti con “I
  Bagaceni”\n• Spettacolo itinerante con il Mangiafuoco\n• Musiche po
 polari con organetti e zampogne\n\nDom 11 Dicembre (16:00-22:00)\n• Spet
 tacoli itineranti con il Mangiafuoco\n• Spettacolo dei Falconieri della 
 FC-Falconeria\n• Casa di Babbo Natale e consegna delle letterine\n• St
 reet food e artigianato\n• Spettacoli itineranti con “I Bagaceni”\n
 • Arcieri addestrati "Compagnia di S. Giovanni"\n• Musiche popolari co
 n organetti e zampogne
ATTACH;FMTTYPE=image/jpeg:https://lazioeventi.com/wp-content/uploads/2022/
 11/natale-al-castellonorato.jpg
CATEGORIES:Sport, Tempo Libero e Divertimento nel Lazio,Musica, Spettacoli
 e Danza nel Lazio
LOCATION:Formia\, Comune\, Formia\, Latina\, Lazio\, Italia
GEO:41.2559;13.6059
X-APPLE-STRUCTURED-LOCATION;VALUE=URI;X-ADDRESS=Comune\, Formia\, Latina\, 
 Lazio\, Italia;X-APPLE-RADIUS=100;X-TITLE=Formia:geo:41.2559,13.6059
END:VEVENT
BEGIN:VTIMEZONE
TZID:Europe/Rome
X-LIC-LOCATION:Europe/Rome
BEGIN:STANDARD
DTSTART:20221030T020000
TZOFFSETFROM:+0200
TZOFFSETTO:+0100
TZNAME:CET
END:STANDARD
END:VTIMEZONE
END:VCALENDAR