BEGIN:VCALENDAR
VERSION:2.0
PRODID:-//wp-events-plugin.com//7.2.3.1//EN
TZID:Europe/Rome
X-WR-TIMEZONE:Europe/Rome
BEGIN:VEVENT
UID:43198@lazioeventi.com
DTSTART;TZID=Europe/Rome;VALUE=DATE:20251130
DTEND;TZID=Europe/Rome;VALUE=DATE:20260107
DTSTAMP:20251125T095007Z
URL:https://lazioeventi.com/eventi/natale-a-lanuvio
SUMMARY:Natale a Lanuvio - Lanuvio - 30 Novembre 25 00:00
DESCRIPTION:"Lanuvio 2025 – Accendiamo il Natale": al via oltre un mese d
 i festeggiamenti tra tradizione\, cultura e solidarietà\nIl Comune di Lan
 uvio\, con il contributo della Regione Lazio e la collaborazione della Nuo
 va Pro Loco e delle associazioni locali\, è lieto di presentare il calend
 ario ufficiale degli eventi natalizi. Dal 30 novembre al 6 gennaio\, la ci
 ttà e la frazione di Campoleone si trasformeranno in un palcoscenico a ci
 elo aperto con la rassegna "Lanuvio 2025 - Accendiamo il Natale".\nUn prog
 ramma ricco e variegato che unisce la sacralità della tradizione\, la mag
 ia per i più piccoli e momenti di alta cultura\, coinvolgendo luoghi simb
 olo come Villa Sforza Cesarini\, il Borgo Antico e il Teatro Don Bosco.\nL
 'Inaugurazione e la Tradizione dei Presepi Si parte ufficialmente sabato 3
 0 novembre alle ore 17:00 presso Largo Vittime di Brescia con l'accensione
  delle luminarie. Il Natale a Lanuvio è sinonimo di presepi d'autore:\n\n
 \n 	Dal 6 dicembre sarà visitabile il "Presepe Monumentale" al Santuario 
 Madonna delle Grazie.\n 	L'8 dicembre (Immacolata) vedrà l'inaugurazione 
 del "Presepe Napoletano" del maestro Giuseppe Maione e del "Presepe della 
 Natività" presso il Fontanone\, accompagnati dal suggestivo suono degli z
 ampognari per le vie del Borgo.\n\nMusica e Cultura La musica sarà grande
  protagonista con appuntamenti di rilievo:\n\n\n 	Il 9 dicembre a Campoleo
 ne (Centro Polivalente) si terrà un suggestivo "Candlelight Concert" con 
 il coro polifonico Liberi Cantores.\n 	Il 20 dicembre si festeggerà la X 
 Edizione del "Concerto di Natale dell'Amicizia".\n 	Il 21 dicembre\, nella
  splendida cornice di Villa Sforza Cesarini\, spazio a "Voci e pianoforte"
 . Non mancherà la cultura con la rassegna letteraria "Lanuvio Librintorno
  Christmas Edition" e visite guidate al Museo Diffuso.\n\nLa Magia per i B
 ambini e le Famiglie Tantissime le attività pensate per i più piccoli\, 
 tra laboratori creativi ("Ambarabà Ricicloclò") e animazione:\n\n\n 	Il 
 14 dicembre grande festa con l'arrivo di Babbo Natale.\n 	Il 21 dicembre t
 orna l'atteso appuntamento con i "Babbi Natali in Vespa"\, un momento di g
 ioia e distribuzione di dolciumi a cura del Vespa Club.\n 	Chiusura in all
 egria il 6 gennaio con la "Befana Civitana" a Lanuvio e l'arrivo della Bef
 ana a Campoleone.\n\nSport e Solidarietà Il calendario abbraccia anche lo
  sport con la manifestazione podistica "Stramaledetta" (7 dicembre) e il t
 orneo di scacchi (4 gennaio)\, senza dimenticare la solidarietà con cene 
 e tombolate dedicate alla comunità.\nL'Assessore agli Eventi Irene Quadra
 na e il Sindaco Andrea Volpi invitano tutta la cittadinanza e i visitatori
  dei Castelli Romani a partecipare per vivere insieme il calore delle fest
 ività.\nPer maggiori informazioni: Comune di Lanuvio / Nuova Pro Loco Lan
 uvio Sito web istituzionale e canali social ufficiali.
ATTACH;FMTTYPE=image/jpeg:https://lazioeventi.com/wp-content/uploads/2025/
 11/natale-lanuvio.jpg
CATEGORIES:Arte e Cultura nel Lazio,Fiere e Mercatini nel Lazio,Musica,
 Spettacoli e Danza nel Lazio,Sagre, Gastronomia e Tradizioni nel
 Lazio,Sport, Tempo Libero e Divertimento nel Lazio,Varie
LOCATION:Lanuvio\, Comune\, Lanuvio\, Roma\, Lazio\, Italia
GEO:41.6758;12.6975
X-APPLE-STRUCTURED-LOCATION;VALUE=URI;X-ADDRESS=Comune\, Lanuvio\, Roma\, L
 azio\, Italia;X-APPLE-RADIUS=100;X-TITLE=Lanuvio:geo:41.6758,12.6975
END:VEVENT
BEGIN:VTIMEZONE
TZID:Europe/Rome
X-LIC-LOCATION:Europe/Rome
BEGIN:STANDARD
DTSTART:20251026T020000
TZOFFSETFROM:+0200
TZOFFSETTO:+0100
TZNAME:CET
END:STANDARD
END:VTIMEZONE
END:VCALENDAR