BEGIN:VCALENDAR
VERSION:2.0
PRODID:-//wp-events-plugin.com//7.2.3.1//EN
TZID:Europe/Rome
X-WR-TIMEZONE:Europe/Rome
BEGIN:VEVENT
UID:33258@lazioeventi.com
DTSTART;TZID=Europe/Rome;VALUE=DATE:20251208
DTEND;TZID=Europe/Rome;VALUE=DATE:20251221
DTSTAMP:20251201T143133Z
URL:https://lazioeventi.com/eventi/natale-a-latina-scalo
SUMMARY:Natale a Latina scalo - Latina - 8 Dicembre 25 00:00
DESCRIPTION:Lunedì 8 dicembre 2025 parte la Rassegna “Natale a Latina Sc
 alo”\, una carrellata di eventi dedicati al Natale\, organizzati dalla r
 ete di Associazioni "Cinema Enal - Insieme per Latina Scalo" con il patroc
 inio del Comune di Latina grazie al Patto di Collaborazione complesso che 
 presiede lo stabile e che vede coinvolte\, appunto\, le associazioni del t
 erritorio.\n\nTante sorprese\, iniziative... per adulti\, ragazzi e per i 
 più piccoli!\n\nTutte presso la Casa di Quartiere "Ex Cinema Enal" di Lat
 ina Scalo\, in via della Stazione 170\, accanto alle Poste.\n\nLa rassegna
  è nata con l’intento di scaldare i cuori delle persone attraverso l’
 arte e la solidarietà\, un connubio indispensabile\, oggi più che mai\, 
 per volgersi verso la Bellezza e i Valori che uniscono la società\, in un
  mondo purtroppo troppo carico di divisioni.\n\nEcco che si avvia\, la ras
 segna\, con un concerto PRESEPE… bellissimo\, artigianale\, realizzato d
 a alcuni volontari della rete: Alfonso Borzacchiello\, Marino Musolino Car
 mela Padovano\, Totò Musolino\, che con arte e dedizione\, per oltre un m
 ese\, hanno tagliato\, levigato\, scolpito e verniciato le tante figure ch
 e saranno allestite nella Casa di Quartiere dello Scalo proprio a partire 
 dall’8 dicembre. Presepe che si renderà “VIVENTE” domenica 21 dicem
 bre con la partecipazione della cittadinanza dello scalo: bambini\, ragazz
 i\, adulti\, mamme\, papà\, nonni\, tutti insomma\, impersoneranno il pre
 sepe regalando un momento “di senso”\, in questo Natale così signific
 ativo e bisognoso di pace e speranza\, mai come quest’anno.\n\nE ancora\
 , il 14 e 15 dicembre la Mostra delle Arti e dei Mestieri\, organizzata da
 l Comitato di Quartiere Latina Scalo-Tor Tre Ponti-S. Fecitola\, il 19 dic
 embre piccoli attori daranno vita a sketch esilaranti sotto la direzione d
 ell’Associazione Culturale “Gli Aviattori”.\n\nGiornatona il 20 dice
 mbre! La mattina\, alle 9.30\, andrà in scena l’ultimo progetto di Ange
 la Forghieri\, volontaria de “Il Patto del Giardino della Biblioteca”:
  “Storie sotto l’albero: i Nonni raccontano”. I nonni di Latina Scal
 o\, alcuni del Centro Anziani di Latina Scalo che ha collaborato attivamen
 te al progetto\, altri provenienti dalle altre associazioni\, custodi di s
 torie e saggezze “si raccontano”. Del resto\, quella del Natale è un
 ’occasione unica per tessere relazioni tra piccoli e grandi\, far loro p
 ercepire i valori\, confrontare il vecchio col nuovo per creare un modello
  dove ci si comprende e ci si sente amati vicendevolmente\, dove ci si sen
 te parte di una comunità in un patrimonio di memoria storica che non si d
 isperde. Ecco perché ad introdurre il loro momento ci saranno i piccoli d
 ella scuola di Danza “Movimento e Danza Movimento Raffaella Di Vincenzo
 ”\, e durante le loro narrazioni\, coordinate dall’Associazione Cultur
 ale “Aviattori”\, la sonorizzazione sarà affidata agli altri piccoli 
 musicisti del Luogo Arte Accademia Musicale\, con la partecipazione straor
 dinaria degli Scout di Latina Scalo e il Centro Minori di Latina Scalo. Al
 le 17.00 si prosegue con il Concerto di Natale del Luogo Arte Accademia Mu
 sicale con una staffetta di bellissime canzoni natalizie eseguite dai giov
 ani e talentuosi cantanti della scuola di musica e accompagnate da altrett
 anto giovani e abili strumentisti studenti dell’Accademia.\n\nPer essere
  aggiornati su tutti gli eventi è sufficiente leggere il blog dedicato al
 la rassegna: https://natalealatinascalo.blogspot.com/.
ATTACH;FMTTYPE=image/jpeg:https://lazioeventi.com/wp-content/uploads/2022/
 11/2025-NATALE-A-LATINA-SCALO.jpeg
CATEGORIES:Arte e Cultura nel Lazio,Fiere e Mercatini nel Lazio,Musica,
 Spettacoli e Danza nel Lazio,Varie
LOCATION:Latina\, Comune di Latina\, Latina\, Latina\, Lazio\, Italia
GEO:41.4674;12.9034
X-APPLE-STRUCTURED-LOCATION;VALUE=URI;X-ADDRESS=Comune di Latina\, Latina\,
  Latina\, Lazio\, Italia;X-APPLE-RADIUS=100;X-TITLE=Latina:geo:41.4674,12.
 9034
END:VEVENT
BEGIN:VTIMEZONE
TZID:Europe/Rome
X-LIC-LOCATION:Europe/Rome
BEGIN:STANDARD
DTSTART:20251026T020000
TZOFFSETFROM:+0200
TZOFFSETTO:+0100
TZNAME:CET
END:STANDARD
END:VTIMEZONE
END:VCALENDAR