BEGIN:VCALENDAR
VERSION:2.0
PRODID:-//wp-events-plugin.com//7.2.3.1//EN
TZID:Europe/Rome
X-WR-TIMEZONE:Europe/Rome
BEGIN:VEVENT
UID:43220@lazioeventi.com
DTSTART;TZID=Europe/Rome;VALUE=DATE:20251205
DTEND;TZID=Europe/Rome;VALUE=DATE:20260107
DTSTAMP:20251211T232144Z
URL:https://lazioeventi.com/eventi/natale-a-minturno-scauri
SUMMARY:Natale a Minturno Scauri - Minturno - 5 Dicembre 25 00:00
DESCRIPTION:Natale a Minturno/Scauri VI Edizione: Un Mese di Tradizioni\, E
 nogastronomia e Spettacoli per Tutta la Famiglia\n\nPrende il via la sesta
  edizione di "Natale a Minturno/Scauri"\, un ricco cartellone di eventi ch
 e anima il periodo delle feste con un mix di cultura\, musica\, laboratori
  del gusto e attività per i bambini\, coinvolgendo il Castello di Minturn
 o\, il Centro Storico e la Lungomare di Scauri.\nLaboratori del Gusto e Tr
 adizione\nIl programma valorizza l'enogastronomia locale in collaborazione
  con Slow Food Golfo di Gaeta e Monti Aurunci:\n\n 	20 Dicembre (Ore 18:00
 ): I Sapori di Minturno – Degustazione guidata della Pacsetta di Traetto
  e del pregiato olio EVO presso il Castello di Minturno\, con la partecipa
 zione del Prof. Giuseppe Nocca Archeo-nutrizionista.\n 	21 Dicembre (Ore 1
 8:00): Il Tartufo Invernale degli Aurunci e l'uovo 64°-37° Cbt Live – 
 Laboratorio e degustazione a cura dello Chef Enzo Manfellotti (Castello di
  Minturno).\n 	27 Dicembre (Ore 18:00): La Porchetta Aurunca – Degustazi
 one e dimostrazione della lavorazione della porchetta\, con presentazione 
 sulle piante aromatiche e i segreti della tradizione (Castello di Minturno
 ).\n 	30 Dicembre (Ore 18:00): Aperitivo di Capodanno – Con DJ Set Mario
  Tribuzio e Champagne Supersonic con guest tribute in collaborazione con M
 alerva Tapas Bar (Castello di Minturno).\n\nEventi al Castello e nel Borgo
  (Minturno)\nIl Castello di Minturno ospita una serie di attività a tema 
 natalizio\, tra cui:\n\n 	Fino al 6 Gennaio 2026: Natale al Castello con l
 a Stanza di Babbo Natale\, Candy World &amp\; il Grinch\, e l'Incanto di N
 atale con laboratori a tema.\n 	6 Dicembre (Ore 19:00): Gospel’n Joy –
  Coro Gospel (Scalinata di San Pietro).\n 	14 Dicembre (Ore 16:00-18:00): 
 Santa Lucia – Gli intrecciati: gli arazzi medievali e Laboratorio per ba
 mbini (Castello di Minturno).\n 	21 Dicembre (Ore 18:00): Babbo Natale e i
 l mistero della lista scomparsa a cura della Compagnia La Mansarda.\n 	27 
 Dicembre (Ore 19:00): Tombolata al Castello con Fabio Brescia e Gianni Mob
 ilya band.\n 	28 Dicembre (Ore 18:00): Variety Cartoon - Spettacolo per ba
 mbini (Castello di Minturno).\n 	30 Dicembre (Ore 19:00): Natale in Casa C
 upiello a cura dell'Ass. Le Capricciose.\n\nNatale al Mare (Scauri)\nLa Lu
 ngomare di Scauri e la Villa Comunale si trasformano in un Villaggio con m
 ercatino di Natale e spettacoli musicali:\n\n 	20 Dicembre (Ore 18:00): Ta
 nia Frison &amp\; Band e Mercatino di Natale.\n 	21 Dicembre (Ore 11:00): 
 Natale al Mare\, Gonfiabili e animazione per Bambini.\n 	28 Dicembre (Ore 
 11:00): Natale al Mare\, DJ Set con Luciano Pernice e Mercatino di Natale.
 \n 	31 Dicembre (Ore 23:30): Scauri 2026\, Millennium Party\, Guarda Canta
  e Balla – Grande festa di fine anno in Lungomare di Scauri.\n 	1° Genn
 aio (Ore 18:00): Capodanno in Musica con Coldplay Tribute Band (Lungomare 
 di Scauri).\n\nLa Festa della Befana\nLa conclusione delle feste è dedica
 ta all'arrivo della Befana\, con appuntamenti tra Minturno e Scauri:\n\n 	
 4 Gennaio (Ore 17:00-20:00): Domenica Laboratorio della Befana (Castello d
 i Minturno).\n 	5 Gennaio (Ore 18:00): Aspettando la Befana 2026 - Spettac
 olo e Animazione (Castello di Minturno).\n 	6 Gennaio (Ore 10:30): Festa d
 ella Befana in Piazza Portanova (Minturno) e Pedalata della Befana (Lungom
 are Scauri).\n\n 	Ore 19:30: Tombolata per bambini e arrivo della Befana (
 Oratorio del Sacro Cuore\, Tremensuoli).\n\n\n\nPer il programma completo 
 di tutte le date e gli orari\, si prega di consultare gli organizzatori.
ATTACH;FMTTYPE=image/jpeg:https://lazioeventi.com/wp-content/uploads/2025/
 11/Natale-2025-a-Minturno-5.jpg
CATEGORIES:Fiere e Mercatini nel Lazio,Musica, Spettacoli e Danza nel
 Lazio,Sport, Tempo Libero e Divertimento nel Lazio,Varie
LOCATION:Minturno\, Comune\, Minturno\, Latina\, Lazio\, Italia
GEO:41.262274;13.746796000000018
X-APPLE-STRUCTURED-LOCATION;VALUE=URI;X-ADDRESS=Comune\, Minturno\, Latina\
 , Lazio\, Italia;X-APPLE-RADIUS=100;X-TITLE=Minturno:geo:41.262274,13.7467
 96000000018
END:VEVENT
BEGIN:VTIMEZONE
TZID:Europe/Rome
X-LIC-LOCATION:Europe/Rome
BEGIN:STANDARD
DTSTART:20251026T020000
TZOFFSETFROM:+0200
TZOFFSETTO:+0100
TZNAME:CET
END:STANDARD
END:VTIMEZONE
END:VCALENDAR