BEGIN:VCALENDAR
VERSION:2.0
PRODID:-//wp-events-plugin.com//7.2.3.1//EN
TZID:Europe/Rome
X-WR-TIMEZONE:Europe/Rome
BEGIN:VEVENT
UID:29503@lazioeventi.com
DTSTART;TZID=Europe/Rome;VALUE=DATE:20211208
DTEND;TZID=Europe/Rome;VALUE=DATE:20220109
DTSTAMP:20211210T191255Z
URL:https://lazioeventi.com/eventi/natale-a-paliano
SUMMARY:Natale a Paliano - Paliano - 8 Dicembre 21 00:00
DESCRIPTION:Dall'8 Dicembre 2021 all'8 gennaio 2021 "Natale a Paliano" tutt
 i gli eventi del Natale 2021 di Paliano\n\nGrandissime sorprese per i bamb
 ini\n\nVi ricordiamo come da decreto che per partecipare a tutti i spettac
 oli sarà necessario possedere il nuovo super green pass (per i bambini è
  riferito ai soli accompagnatori).\n\nPer prenotare potete chiamare il num
 ero: 3319715188
ATTACH;FMTTYPE=image/jpeg:https://lazioeventi.com/wp-content/uploads/2021/
 12/natale_paliano.jpg
CATEGORIES:Sport, Tempo Libero e Divertimento nel Lazio,Musica, Spettacoli
 e Danza nel Lazio,Varie
LOCATION:Paliano\, Comune\, Paliano\, Frosinone\, Lazio\, Italia
GEO:41.8048;13.0599
X-APPLE-STRUCTURED-LOCATION;VALUE=URI;X-ADDRESS=Comune\, Paliano\, Frosinon
 e\, Lazio\, Italia;X-APPLE-RADIUS=100;X-TITLE=Paliano:geo:41.8048,13.0599
END:VEVENT
BEGIN:VTIMEZONE
TZID:Europe/Rome
X-LIC-LOCATION:Europe/Rome
BEGIN:STANDARD
DTSTART:20211031T020000
TZOFFSETFROM:+0200
TZOFFSETTO:+0100
TZNAME:CET
END:STANDARD
END:VTIMEZONE
END:VCALENDAR