BEGIN:VCALENDAR
VERSION:2.0
PRODID:-//wp-events-plugin.com//7.2.3.1//EN
TZID:Europe/Rome
X-WR-TIMEZONE:Europe/Rome
BEGIN:VEVENT
UID:38167@lazioeventi.com
DTSTART;TZID=Europe/Rome;VALUE=DATE:20231208
DTEND;TZID=Europe/Rome;VALUE=DATE:20240107
DTSTAMP:20231219T223159Z
URL:https://lazioeventi.com/eventi/natale-a-picinisco
SUMMARY:Natale a Picinisco - Picinisco - 8 Dicembre 23 00:00
DESCRIPTION: Benvenuti nella Magia del Natale a Picinisco in Valle di Comin
 o!\n\nLasciatevi avvolgere dall’atmosfera incantata delle festività nel
  pittoresco Comune di Picinisco\, dove la tradizione si unisce alla gioia 
 e alla condivisione.\n\nPROGRAMMA\n8 DICEMBRE\nAccensione delle luminarie 
 alle ore 11:00: Inaugurazione della “Casa di Babbo Natale” con la pres
 enza di Babbo Natale (organizzato da: Alimentari 1 Agostino\, Francesca Pe
 losi\, Maria Rosaria Fabrizio e Luisa Marken).\n\n16 DICEMBRE\nTORNEO DI S
 COPA dalle 16:00 (a cura del Bar Centrale).\n\n16-24 DICEMBRE\nNovena trad
 izionale con la partecipazione degli zampognari nelle contrade del paese.\
 n\n21 DICEMBRE\nAlle 18:00\, Recita Di Natale dei bambini della scuola pri
 maria e dell’infanzia presso la Sala Multimediale al Montano.\n\n22 DICE
 MBRE\nSerata gastronomica (organizzata da Pro-Loco “Orfeo Vacca”\, Ass
 ociazione Montecorno\, Associazione Pastorizia in Festival\, Associazione 
 Calamus).\n\n23 DICEMBRE\nLaboratori creativi per bambini (a cura di: Asso
 ciazione Abilità A.P.S.\, Indianapark Picinisco).\n\n28 DICEMBRE\nSerata 
 gastronomica (organizzata da: Associazione Montecorno).\n\n30 DICEMBRE\nSe
 rata gastronomica (a cura di Pro-Loco “Orfeo Vacca”).\n\n4 GENNAIO\nGi
 ornata dedicata ai bambini\n\n5 GENNAIO\nAlle 21:00\, Serata musicale con 
 il gruppo “Casa delle Nuvole” (organizzata dal Bar Centrale).\n\n6 GEN
 NAIO\nAlle 12:00\, Pranzo sociale presso la Sala Multimediale al Montano c
 on tombolata. Alle 15:00\, Arrivo della Befana.
ATTACH;FMTTYPE=image/jpeg:https://lazioeventi.com/wp-content/uploads/2023/
 12/natale_picinisco2023.jpg
CATEGORIES:Sport, Tempo Libero e Divertimento nel Lazio,Musica, Spettacoli
 e Danza nel Lazio,Sagre, Gastronomia e Tradizioni nel Lazio
LOCATION:Picinisco\, Comune\, Picinisco\, Frosinone\, Lazio\, Italia
GEO:41.6466;13.8673
X-APPLE-STRUCTURED-LOCATION;VALUE=URI;X-ADDRESS=Comune\, Picinisco\, Frosin
 one\, Lazio\, Italia;X-APPLE-RADIUS=100;X-TITLE=Picinisco:geo:41.6466,13.8
 673
END:VEVENT
BEGIN:VTIMEZONE
TZID:Europe/Rome
X-LIC-LOCATION:Europe/Rome
BEGIN:STANDARD
DTSTART:20231029T020000
TZOFFSETFROM:+0200
TZOFFSETTO:+0100
TZNAME:CET
END:STANDARD
END:VTIMEZONE
END:VCALENDAR