BEGIN:VCALENDAR
VERSION:2.0
PRODID:-//wp-events-plugin.com//7.2.3.1//EN
TZID:Europe/Rome
X-WR-TIMEZONE:Europe/Rome
BEGIN:VEVENT
UID:23318@lazioeventi.com
DTSTART;VALUE=DATE:20251206
DTEND;VALUE=DATE:20260107
DTSTAMP:20251201T090238Z
URL:https://lazioeventi.com/eventi/natale-a-san-donato
SUMMARY:Natale a San Donato - San Donato Val di Comino - 6 Dicembre 25 00:0
 0
DESCRIPTION:Un mese di magia a San Donato Val di Comino: al via il cartello
 ne degli eventi natalizi tra cultura\, musica e tradizione\n\nDal 6 Dicemb
 re 2025 al 6 Gennaio 2026\, il borgo di San Donato Val di Comino si trasfo
 rma in un villaggio incantato. L’Amministrazione Comunale\, in sinergia 
 con la Pro Loco\, il Centro Anziani e le associazioni locali\, e con il su
 pporto della Camera di Commercio Frosinone Latina\, presenta un programma 
 ricchissimo che accompagnerà residenti e turisti per tutte le festività.
 \n\nUn calendario che spazia dalle celebrazioni solenni ai momenti convivi
 ali\, dal cinema d’autore ai grandi concerti\, senza dimenticare lo spaz
 io dedicato ai più piccoli.\n\nL'Apertura e i Grandi Classici\nSi parte S
 abato 6 Dicembre con l'atmosfera delle grandi occasioni: alle ore 18:00 in
  Piazza Carlo Coletti ci sarà l'accensione del grande albero e delle lumi
 narie\, preceduta da una Masterclass di batteria. Il giorno dell'Immacolat
 a\, Lunedì 8 Dicembre\, sarà un trionfo di tradizione: fin dal mattino M
 ercatino Natalizio in Piazza Libertà\, l'arrivo di Babbo Natale\, la Pole
 nta a cura del Centro Anziani e\, al calar del sole\, l'accensione della S
 tella di Natale presso il Santuario.\n\nCultura\, Spettacolo e Cinema\nIl 
 Teatro Comunale sarà il cuore pulsante della cultura con la rassegna "Nat
 ale al Cinema" (proiezioni di classici come Love Actually\, 10 Giorni con 
 Babbo Natale ed Encanto) e spettacoli teatrali come "Il Berretto a Sonagli
 " (13 Dicembre). Spazio anche alla letteratura e alla storia locale con la
  presentazione del libro "Atti dei convegni 2024-2025 Castrum Sancti Donat
 i" (7 Dicembre) e l'incontro con il meteorologo RAI Daniele Mocio (20 Dice
 mbre)\, dal titolo suggestivo "Il tempo che non t'aspetti".\n\nMusica e Su
 ggestioni\nLa musica accompagnerà i momenti più salienti: dal Concerto d
 i Natale del Coro Polifonico "Voci Sparse" (21 Dicembre) allo show della s
 cuola di musica "La chiave giusta" (23 Dicembre). Un appuntamento imperdib
 ile per gli amanti della natura e delle atmosfere suggestive sarà la Fiac
 colata del 26 Dicembre a cura del CAI\, seguita dall'accensione del falò 
 e polentata in Piazza Libertà.\n\nIl Gran Finale\nIl nuovo anno si aprir
 à con la tombolata (5 Gennaio) e culminerà il 6 Gennaio con una giornata
  interamente dedicata all'Epifania: al mattino selfie e animazione con la 
 Befana\, e alle 18:00 il prestigioso Concerto dell'Epifania "Da Vivaldi a 
 Morricone" nella Chiesa S. Maria &amp\; S. Marcello\, con Loreto Gismondi 
 al violino solista e Gaetano di Bacco al sassofono.\n\nMostre d'Arte\nPer 
 l'intera durata delle feste (8 Dicembre - 6 Gennaio)\, sarà inoltre visit
 abile la mostra permanente dell'artista Luciano Tocci presso il Centro di 
 Cultura Leonardo.
ATTACH;FMTTYPE=image/jpeg:https://lazioeventi.com/wp-content/uploads/2022/
 11/natale-san-donato-val-comino.jpg
CATEGORIES:Varie,Musica, Spettacoli e Danza nel Lazio,Sport, Tempo Libero
 e Divertimento nel Lazio
LOCATION:San Donato Val di Comino\, Comune\, San Donato Val di Comino\, Fro
 sinone\, Lazio\, Italia
GEO:41.7079;13.8147
X-APPLE-STRUCTURED-LOCATION;VALUE=URI;X-ADDRESS=Comune\, San Donato Val di 
 Comino\, Frosinone\, Lazio\, Italia;X-APPLE-RADIUS=100;X-TITLE=San Donato 
 Val di Comino:geo:41.7079,13.8147
END:VEVENT
END:VCALENDAR