BEGIN:VCALENDAR
VERSION:2.0
PRODID:-//wp-events-plugin.com//7.2.3.1//EN
TZID:Europe/Rome
X-WR-TIMEZONE:Europe/Rome
BEGIN:VEVENT
UID:37912@lazioeventi.com
DTSTART;TZID=Europe/Rome:20231126T173000
DTEND;TZID=Europe/Rome:20231126T190000
DTSTAMP:20231123T122725Z
URL:https://lazioeventi.com/eventi/natale-da-incubo-canino
SUMMARY:Natale da Incubo - Canino - 26 Novembre 23 17:30
DESCRIPTION:Ispirato a Nightmare before Christmas di Tim Burton\ncon Agnese
  Lorenzini\, Ilaria Manocchio e Fabio Versaci\nregia Ilaria Manocchio\npre
 parazione vocale Veronica Astrid Giachè\ntecnica Giorgia Calcari\nscene r
 ealizzate in collaborazione con Federico Iacoboni\n\nSpettacolo di TEATRO 
 DI FIGURA con ombre cinesi\, cantato dal vivo\n\nJack\, il re delle zucche
 \, inizia a perdere interesse per la festa di Halloween e scopre casualmen
 te l’esistenza del Natale. Dispiaciuto dall’incapacità dei suoi amici
  di capire il Natale\, Jack si chiude in casa e inizia a fare vari esperim
 enti per capirlo fino in fondo\, giungendo alla conclusione che per riusci
 re a capirlo\, deve organizzarlo anche lui… Decide così di portare ques
 ta nuova festa\, più allegra\, ai suoi concittadini e di sostituirsi a Ba
 bbo Natale\, con esiti del tutto imprevisti…\nIL NATALE È LA FESTA DELL
 A FANTASIA\nStare con la propria famiglia non è poi un’impresa così di
 fficile. La condivisione è di gran lunga più gratificante dello stare so
 li e anche le piccole cose\, se fatte con le persone giuste\, possono rega
 lare bellissime emozioni.
ATTACH;FMTTYPE=image/jpeg:https://lazioeventi.com/wp-content/uploads/2023/
 11/Stagione-2023-24-Teatro-Comunale-Canino-social.jpg
CATEGORIES:Musica, Spettacoli e Danza nel Lazio
LOCATION:Canino\, Comune di Canino\, Canino\, Viterbo\, Lazio\, Italia
GEO:42.4639;11.7489
X-APPLE-STRUCTURED-LOCATION;VALUE=URI;X-ADDRESS=Comune di Canino\, Canino\,
  Viterbo\, Lazio\, Italia;X-APPLE-RADIUS=100;X-TITLE=Canino:geo:42.4639,11
 .7489
END:VEVENT
BEGIN:VTIMEZONE
TZID:Europe/Rome
X-LIC-LOCATION:Europe/Rome
BEGIN:STANDARD
DTSTART:20231029T020000
TZOFFSETFROM:+0200
TZOFFSETTO:+0100
TZNAME:CET
END:STANDARD
END:VTIMEZONE
END:VCALENDAR