BEGIN:VCALENDAR
VERSION:2.0
PRODID:-//wp-events-plugin.com//7.2.3.1//EN
TZID:Europe/Rome
X-WR-TIMEZONE:Europe/Rome
BEGIN:VEVENT
UID:33630@lazioeventi.com
DTSTART;TZID=Europe/Rome:20230105T210000
DTEND;TZID=Europe/Rome:20230105T223000
DTSTAMP:20230103T084339Z
URL:https://lazioeventi.com/eventi/natale-e-un-flauto-dalba
SUMMARY:Natale è un flauto d'Alba - Morolo - 5 Gennaio 23 21:00
DESCRIPTION:Concerco poetico musicale a Morolo per festeggiare in musica l'
 entrata nel nuovo anno.\n\nIndeato\, interpretato e diretto da Amedeo Di S
 ora\n\nAl pianoforte Vittorio Oi\nAlla chitarra Giuseppe Palombo
ATTACH;FMTTYPE=image/jpeg:https://lazioeventi.com/wp-content/uploads/2023/
 01/flauto-morolo.jpg
CATEGORIES:Musica, Spettacoli e Danza nel Lazio
LOCATION:Morolo\, Comune\, Morolo\, Frosinone\, Lazio\, Italia
GEO:41.638;13.1974
X-APPLE-STRUCTURED-LOCATION;VALUE=URI;X-ADDRESS=Comune\, Morolo\, Frosinone
 \, Lazio\, Italia;X-APPLE-RADIUS=100;X-TITLE=Morolo:geo:41.638,13.1974
END:VEVENT
BEGIN:VTIMEZONE
TZID:Europe/Rome
X-LIC-LOCATION:Europe/Rome
BEGIN:STANDARD
DTSTART:20221030T020000
TZOFFSETFROM:+0200
TZOFFSETTO:+0100
TZNAME:CET
END:STANDARD
END:VTIMEZONE
END:VCALENDAR