BEGIN:VCALENDAR
VERSION:2.0
PRODID:-//wp-events-plugin.com//7.2.3.1//EN
TZID:Europe/Rome
X-WR-TIMEZONE:Europe/Rome
BEGIN:VEVENT
UID:33508@lazioeventi.com
DTSTART;TZID=Europe/Rome:20221227T190000
DTEND;TZID=Europe/Rome:20221227T203000
DTSTAMP:20221220T071331Z
URL:https://lazioeventi.com/eventi/natale-in-abbazia-san-nilo
SUMMARY:Natale in Abbazia - Grottaferrata - 27 Dicembre 22 19:00
DESCRIPTION:Un viaggio musicale interculturale attraverso la tradizione ita
 liana e straniera. \nIn arrivo tre serate imperdibili nella suggestiva co
 rnice dell’Abbazia di San Nilo\, che torna ad ospitare eventi artistici 
 e culturali per tre degli appuntamenti più attesi del Natale Grottaferrat
 ese 2022.\n\nUna rassegna realizzata grazie al finanziamento dalla Città 
 Metropolitana di Roma Capitale e promossa dal Comune di Grottaferrata in c
 ollaborazione con la Direzione Regionale Musei Lazio e la Congregazione d
 ’Italia dei monaci basiliani.\n\nSi parte martedì 20 dicembre con “Pa
 storali\, Strine\, canti e Pasquelle sul Mistero del Natale”\, con Nando
  Citarella e la Compagnia “La Paranza”. Un viaggio canoro nell’Itali
 a popolare che interesserà l’intera Penisola\, dalla Calabria al Friuli
 \, dal Piemonte alla Campania e al Lazio e così via. Una festa di dialett
 i\, suoni e ritmi diversi che si mescoleranno\, ognuno con la sua forza e 
 la sua bellezza.\n\nIl 21 dicembre sarà la volta di “Candle Light”\, 
 evento che ha già riscosso un grande successo in moltissime città italia
 ne. Effegi Live porta a Grottaferrata l’International String Quartet\, f
 ormazione di quattro professori d’Orchestra di grande esperienza ed elev
 atissime qualità artistiche. Le sonorità classiche del Natale\, i brani 
 classici e un omaggio al grande Maestro Ennio Morricone saranno resi unici
  dall’incredibile atmosfera creata dalla luce delle candele.\n\nL’ulti
 mo appuntamento\, il 27 dicembre\, con il “Concerto per la Pace” della
  Kyiv Virtuosi Orchestra organizzato dall’Associazione VA Culture. Una s
 quadra originale e unica di talentuosi musicisti ucraini\, vincitori di co
 ncorsi internazionali\, guidati dal direttore d’orchestra e violoncellis
 ta di fama mondiale Dmytry Yablonsky. Il patrimonio culturale della musica
  classica in Europa arriva così a Grottaferrata con una performance davve
 ro speciale.   \n\n“Grazie alla convenzione firmata con la Direzione M
 usei Lazio e la Congregazione dei monaci basiliani – spiega il Sindaco M
 irko Di Bernardo – abbiamo proposto lo svolgimento di questi tre concert
 i\, facenti parte della rassegna natalizia\, all’interno degli spazi abb
 aziali. Tre eventi finanziati con il contributo della Città Metropolitana
  di Roma\, con cui la collaborazione è sempre proficua ed efficace. l’A
 bbazia di San Nilo\, centro identitario di Grottaferrata\, torna così ad 
 essere un polo culturale d’eccezione in grado di attrarre manifestazioni
  di caratura nazionale e internazionale”. \n\nTutte le serate sono a ING
 RESSO GRATUITO e si svolgeranno tutte alle 19:00 nei giorni indicati press
 o l’Abbazia di San Nilo\, Corso del popolo 128\, Grottaferrata.
ATTACH;FMTTYPE=image/jpeg:https://lazioeventi.com/wp-content/uploads/2022/
 12/natale-abbazia-grottaferrata.jpg
CATEGORIES:Musica, Spettacoli e Danza nel Lazio
LOCATION:Grottaferrata\, Comune\, Grottaferrata\, Roma\, Lazio\, Italia
GEO:41.7916;12.6667
X-APPLE-STRUCTURED-LOCATION;VALUE=URI;X-ADDRESS=Comune\, Grottaferrata\, Ro
 ma\, Lazio\, Italia;X-APPLE-RADIUS=100;X-TITLE=Grottaferrata:geo:41.7916,1
 2.6667
END:VEVENT
BEGIN:VTIMEZONE
TZID:Europe/Rome
X-LIC-LOCATION:Europe/Rome
BEGIN:STANDARD
DTSTART:20221030T020000
TZOFFSETFROM:+0200
TZOFFSETTO:+0100
TZNAME:CET
END:STANDARD
END:VTIMEZONE
END:VCALENDAR