BEGIN:VCALENDAR
VERSION:2.0
PRODID:-//wp-events-plugin.com//7.2.3.1//EN
TZID:Europe/Rome
X-WR-TIMEZONE:Europe/Rome
BEGIN:VEVENT
UID:43241@lazioeventi.com
DTSTART;TZID=Europe/Rome:20251205T000000
DTEND;TZID=Europe/Rome:20260106T000000
DTSTAMP:20251201T084512Z
URL:https://lazioeventi.com/eventi/natale-incantato
SUMMARY:Natale Incantato - Bagnoregio - 5 Dicembre 25 00:00
DESCRIPTION:Bagnoregio si veste di magia: al via "Natale Incantato" tra luc
 i\, gospel e il suggestivo Presepe Vivente\n\nLa magia delle festività st
 a per avvolgere uno dei borghi più belli d'Italia. Il Comune di Bagnoregi
 o\, in collaborazione con la Pro Loco\, la Regione Lazio e le associazioni
  locali\, è lieto di presentare "Natale Incantato a Bagnoregio"\, un ricc
 o calendario di eventi che accompagnerà cittadini e visitatori dal 5 Dice
 mbre 2025 al 6 Gennaio 2026.\n\nUn mese intero di celebrazioni che unirà 
 la tradizione religiosa\, il divertimento per i più piccoli\, la musica e
  la valorizzazione delle eccellenze artigianali locali.\n\nIl Programma: U
 n Mese di Festa\n\n 	Si parte Venerdì 5 Dicembre con l'emozionante Accens
 ione delle Luminarie\, che darà ufficialmente il via al periodo natalizio
 . Il calendario prosegue con appuntamenti imperdibili:\n 	Domenica 14 Dice
 mbre: In Piazza Cavour\, dalle 16:00\, l'evento "Aspettando il Natale".\n 
 	Sabato 20 Dicembre: Un pomeriggio dedicato ai bambini presso la Sala Ex C
 inema (ore 15:30) con animazione e l'atteso arrivo di Babbo Natale.\n 	Dom
 enica 21 Dicembre: Doppio appuntamento. In Corso Mazzini si terrà il merc
 atino di antiquariato e artigianato "Indietro nel Tempo"\, mentre alle 17:
 30 l'Auditorium Taborra ospiterà il Concerto Gospel dei Gospel Act Singer
 s.\n 	Mercoledì 31 Dicembre: Grande festa di fine anno con il New Year Pa
 rty 2026 alla Sala Ex Cinema (dalle 23:30)\, per ballare sulle note della 
 musica anni '80\, '90 e 2000.\n 	Martedì 6 Gennaio: Chiusura in allegria 
 con l'arrivo della Befana e animazione per bambini all'Auditorium Taborra.
 \n\nIl Presepe Vivente: Unico al Mondo\nFiore all'occhiello della programm
 azione è lo storico Presepe Vivente\, che trasformerà lo scenario mozzaf
 iato di Bagnoregio e Civita in una piccola Betlemme. La rievocazione avrà
  luogo dalle 16:00 alle 18:30 nelle seguenti date:\n\n 	Dicembre 2025: 26 
 e 28\n 	Gennaio 2026: 1\, 4\, 5 e 6\n\nUn'esperienza immersiva che ogni an
 no richiama migliaia di visitatori\, pronti a vivere l'atmosfera della Nat
 ività in una cornice architettonica e paesaggistica senza eguali.\n\nSoci
 al: Facebook e Instagram @Proloco Bagnoregio\n\nVi aspettiamo a Bagnoregio
  per vivere insieme un Natale indimenticabile.
ATTACH;FMTTYPE=image/jpeg:https://lazioeventi.com/wp-content/uploads/2025/
 12/natale-bagnoregio.jpg
CATEGORIES:Musica, Spettacoli e Danza nel Lazio,Sport, Tempo Libero e
 Divertimento nel Lazio,Varie
LOCATION:Bagnoregio\, Comune di Bagnoregio\, Bagnoregio\, Viterbo\, Lazio\,
  Italia
GEO:42.6259;12.0986
X-APPLE-STRUCTURED-LOCATION;VALUE=URI;X-ADDRESS=Comune di Bagnoregio\, Bagn
 oregio\, Viterbo\, Lazio\, Italia;X-APPLE-RADIUS=100;X-TITLE=Bagnoregio:ge
 o:42.6259,12.0986
END:VEVENT
BEGIN:VTIMEZONE
TZID:Europe/Rome
X-LIC-LOCATION:Europe/Rome
BEGIN:STANDARD
DTSTART:20251026T020000
TZOFFSETFROM:+0200
TZOFFSETTO:+0100
TZNAME:CET
END:STANDARD
END:VTIMEZONE
END:VCALENDAR