BEGIN:VCALENDAR
VERSION:2.0
PRODID:-//wp-events-plugin.com//7.2.3.1//EN
TZID:Europe/Rome
X-WR-TIMEZONE:Europe/Rome
BEGIN:VEVENT
UID:36487@lazioeventi.com
DTSTART;TZID=Europe/Rome;VALUE=DATE:20230728
DTEND;TZID=Europe/Rome;VALUE=DATE:20230731
DTSTAMP:20230728T143828Z
URL:https://lazioeventi.com/eventi/naturalmente
SUMMARY:Naturalmente - Lenola - 28 Luglio 23 00:00
DESCRIPTION:Da Venerdì 28 Luglio e fino a Domenica 30 Luglio - NATURALMENT
 E\, la festa del territorio e della cultura rurale organizzata dall' AFV"L
 a Coturnice" Lenola -LT- con tantissimi appuntamenti in calendario\n\nPiaz
 zale Notarianni - Località Colle - Lenola
ATTACH;FMTTYPE=image/jpeg:https://lazioeventi.com/wp-content/uploads/2023/
 07/naturalmente-lenola.jpg
CATEGORIES:Musica, Spettacoli e Danza nel Lazio,Sport, Tempo Libero e
 Divertimento nel Lazio
LOCATION:Lenola\, Comune\, Lenola\, Latina\, Lazio\, Italia
GEO:41.4092;13.4621
X-APPLE-STRUCTURED-LOCATION;VALUE=URI;X-ADDRESS=Comune\, Lenola\, Latina\, 
 Lazio\, Italia;X-APPLE-RADIUS=100;X-TITLE=Lenola:geo:41.4092,13.4621
END:VEVENT
BEGIN:VTIMEZONE
TZID:Europe/Rome
X-LIC-LOCATION:Europe/Rome
BEGIN:DAYLIGHT
DTSTART:20230326T030000
TZOFFSETFROM:+0100
TZOFFSETTO:+0200
TZNAME:CEST
END:DAYLIGHT
END:VTIMEZONE
END:VCALENDAR