BEGIN:VCALENDAR
VERSION:2.0
PRODID:-//wp-events-plugin.com//7.2.3.1//EN
TZID:Europe/Rome
X-WR-TIMEZONE:Europe/Rome
BEGIN:VEVENT
UID:30892@lazioeventi.com
DTSTART;TZID=Europe/Rome:20220519T140000
DTEND;TZID=Europe/Rome:20220610T160000
DTSTAMP:20220510T215317Z
URL:https://lazioeventi.com/eventi/ndaaje-lincontro
SUMMARY:NDAAJÉ-L’incontro - Roma - 19 Maggio 22 14:00
DESCRIPTION:L’Arte come spazio di incontro tra popoli\, storie e culture.
  L’Arte come ponte tra le due sponde del Mediterraneo. L’Arte come str
 umento di pace.\n\nE’ questo il messaggio di Marina Tabacco e Mokodu Fal
 l\, protagonisti della mostra NDAAJÉ-L’INCONTRO che vede la Biennale di
  Dak'art Off 2022 sbarcare a Roma\, nella sede dell’Ambasciata del Seneg
 al\, trasformata in un insolito museo.\n\nIl vernissage si terrà il 19 Ma
 ggio dalle ore 11 alle 17 e lo spazio espositivo sarà visitabile dal 20 m
 aggio fino al 10 giugno dal lunedì al venerdì\, dalle ore 14 alle 16.\nL
 a prenotazione è obbligatoria via mail: mari.taba@virgilio.it e mokodufal
 l@gmail.com\n\nLe opere di Tabacco – nativa di Torino\, dove vive – e 
 di Fall – senegalese\, residente a Roma per 20 anni\, ora in Francia –
  dialogano armoniosamente nella cornice di NDAAJÉ-L’INCONTRO.\nImmagini
 \, stili e messaggi arricchiscono e impreziosiscono il loro percorso artis
 tico ed umano. Un connubio reso possibile dall’apertura della Biennale d
 i Dak’art Off agli artisti della diaspora.\nNegli spazi gentilmente conc
 essi dalla rappresentanza diplomatica\, ad aprire la serie di lavori di Ta
 bacco è “Lamb”\, dittico in omaggio al Senegal e allo sport nazionale
 \, per proseguire con tele di denuncia sociale sui diritti violati\, i lim
 iti alla libera circolazione delle persone e delle idee\, la difficoltà d
 i riconoscimento dell'identità di tutti gli individui senza alcuna differ
 enza di sesso\, colore o religione.\n\nI lavori presentati da Fall sono un
  omaggio a quattro presidenti senegalesi – Léopold Sédar Senghor\, Abd
 ou Diouf\, Abdoulaye Wade\, Macky Sall – e al percorso democratico del P
 aese della Teranga affinché sia di buon auspicio per la pace in Africa.\n
 Le sue altre opere sono dedicate a tre registi senegalesi ‘visionari’ 
 che con la loro arte hanno segnato un’epoca\, celebrandone\nl’eredità
  culturale e il patrimonio in lascito a tutto il continente.\nProtagonisti
  della mostra sono i Leoni\, animale simbolo del Senegal\, ma anche di res
 istenza\, coraggio e nobiltà\, tutte qualità fondamentali per superare l
 e avversità della vita. Le tele di Fall - ‘Les Tirailleurs’ e Nelson 
 Mandela - celebrano inoltre figure emblematiche della resistenza degli afr
 icani\, delle loro battaglie che hanno generato dialogo\, unione tra i pop
 oli\, libertà e pace.\n\nOPERE IN MOSTRA\n-Les Visionnaires\, acrilico su
  tela\, (2 volte cm115 ×75)\, 2020\n-Les Tirailleurs Sénégalais\, acril
 ico su tela\, (2 volte cm115×75)\, 2021\n-Nelson Mandela\, acrilico su te
 la\, (cm115×75)\, 2021\n-Lion d'Afrique\, acrilico su tela\, (cm110x80)\,
  2021\n-Les présidents de la République du Sénégal\, acrilico su tela\
 , (cm205x130)\, 2022
ATTACH;FMTTYPE=image/jpeg:https://lazioeventi.com/wp-content/uploads/2022/
 05/MOSTRA-INCONTRO-AFFICHE-2.jpg
CATEGORIES:Arte e Cultura nel Lazio
LOCATION:Roma\, Via Leopardi\, Roma\, Roma\, Lazio\, Italia
GEO:41.8942;12.5017
X-APPLE-STRUCTURED-LOCATION;VALUE=URI;X-ADDRESS=Via Leopardi\, Roma\, Roma\
 , Lazio\, Italia;X-APPLE-RADIUS=100;X-TITLE=Roma:geo:41.8942,12.5017
END:VEVENT
BEGIN:VTIMEZONE
TZID:Europe/Rome
X-LIC-LOCATION:Europe/Rome
BEGIN:DAYLIGHT
DTSTART:20220327T030000
TZOFFSETFROM:+0100
TZOFFSETTO:+0200
TZNAME:CEST
END:DAYLIGHT
END:VTIMEZONE
END:VCALENDAR