BEGIN:VCALENDAR
VERSION:2.0
PRODID:-//wp-events-plugin.com//7.2.3.1//EN
TZID:Europe/Rome
X-WR-TIMEZONE:Europe/Rome
BEGIN:VEVENT
UID:37875@lazioeventi.com
DTSTART;TZID=Europe/Rome;VALUE=DATE:20231222
DTEND;TZID=Europe/Rome;VALUE=DATE:20231231
DTSTAMP:20231229T163857Z
URL:https://lazioeventi.com/eventi/nei-paradisi-dinfanzia-mostra-di-anna-r
 inaldi
SUMMARY:"Nei paradisi d’infanzia"\, mostra di Anna Rinaldi - Roma - 22 Di
 cembre 23 00:00
DESCRIPTION:Dal 22 al 28 dicembre 2023 Medina Art Gallery presenta la mostr
 a personale di Anna Rinaldi “Nei paradisi d’infanzia”\, nella galler
 ia di Via Merulana 220 a Roma.\n\nL’evento di opening si terrà venerdì
  22 dicembre presso Medina Art Gallery di Via Merulana 220\, con la presen
 tazione di Marzia Natalini alle ore 18:00.\n\nAnna Rinaldi\, artista polie
 drica e dalla forte personalità\, nasce a Naro e vive e lavora ad Agrigen
 to\, città siciliana a cui è profondamente legata: da questa terra deriv
 a il complesso universo che ispira i suoi lavori e che forgia la sua forma
 zione personale nonché artistica. Il suo nome d’arte deriva dall’unio
 ne di Nuna\, appellativo del dialetto siciliano con cui suo padre la chiam
 ava affettuosamente\, e Luna che invece rimanda all’animo romantico e so
 gnante dell’artista. Il suo percorso di vita è molto variegato\; fin da
  giovane si appassiona all’insegnamento e ottiene l’abilitazione in ed
 ucazione artistica riuscendo\, così\, a combinare sia il mestiere di doce
 nte che la passione per l’arte. La sua natura eclettica la porta ad espr
 imere con passione il proprio mondo interiore non solo tramite la pittura 
 ma anche attraverso la scrittura e la poesia.\n\nNel campo pittorico debut
 ta per la prima volta con la mostra personale “Circolo della stampa” a
 l Palazzo della Prefettura nella città di Agrigento dove ottiene un conse
 nso unanime. Da quel punto in poi espone in diverse regioni d’Italia\; s
 i ricordano\, in particolar modo\, la mostra di Roma alla Galleria delle C
 olonnette\, già studio del Canova\, e quella a Nocciano\, in Abruzzo\, pr
 esso il Castello De Sterlich – Aliprandi. Nel 2022 alcune delle sue oper
 e vengono pubblicate all’interno del Catalogo dell’Arte Moderna e nuov
 amente selezionate per l’edizione dell’anno 2023. Con i suoi lavori\, 
 di carattere pittorico ma anche narrativo e poetico\, ottiene notevoli rec
 ensioni positive da parte di noti editori ed esponenti della critica d’a
 rte.\n\nI temi prediletti dalla pittrice sono molto diversi fra loro: l’
 amore e la passione per la vita e l’umanità si alternano alla sofferenz
 a umana\, all’isolamento e all’emarginazione\; i toni netti e decisi o
 ltrepassano le tele in modo primitivo e appassionato esaltando l’uso del
  colore. L’artista si ispira ad elementi propri della terra siciliana: i
  tramonti estivi caratterizzati da tinte rosso fuoco e la frutta tipica de
 l luogo\, come fichi d’india e melograni\, sono facilmente ravvisabili n
 elle sue opere. Tutto ciò che ne deriva è un complesso gioco sinestetico
  dove i colori diventano poesia in cui è possibile fare esperienza di viv
 idi paesaggi naturali ed inebrianti profumi. Citando le parole dell’arti
 sta la mostra esposta contiene una serie di “lezioni d’amore e di stor
 ia nell’isola bella di sole e di mare: preludi di soli nuovi in arrivo. 
 Febbre d’amore come dono. Desiderio di dignità e di verità in un mondo
  libero”.\n\nIn breve:\nTitolo Mostra: “Nei paradisi d’infanzia”\n
 Opening Mostra: venerdì 22 dicembre alle ore 18:00\nDurata Mostra: dal 22
  al 28 dicembre 2023\nLuogo: Medina Art Gallery | Via Merulana 220 | Roma\
 nContatti Medina Roma Art Gallery\nEmail: info@medinaroma.com - Tel. +39 0
 6 960 30 764\nWebsite: https://www.medinaroma.com/\nSocial: facebook.com/m
 edinaroma.arte / instagram.com/ medinaroma.arte\nOrari: Tutti i giorni\, o
 re 10:00 - 13:00 e 15:00 - 19:00\n
ATTACH;FMTTYPE=image/jpeg:https://lazioeventi.com/wp-content/uploads/2023/
 11/LOCANDINA-ANNA-RINALDI.jpg
CATEGORIES:Arte e Cultura nel Lazio,Varie
LOCATION:Roma\, Via Leopardi\, Roma\, Roma\, Lazio\, Italia
GEO:41.8942;12.5017
X-APPLE-STRUCTURED-LOCATION;VALUE=URI;X-ADDRESS=Via Leopardi\, Roma\, Roma\
 , Lazio\, Italia;X-APPLE-RADIUS=100;X-TITLE=Roma:geo:41.8942,12.5017
END:VEVENT
BEGIN:VTIMEZONE
TZID:Europe/Rome
X-LIC-LOCATION:Europe/Rome
BEGIN:STANDARD
DTSTART:20231029T020000
TZOFFSETFROM:+0200
TZOFFSETTO:+0100
TZNAME:CET
END:STANDARD
END:VTIMEZONE
END:VCALENDAR