BEGIN:VCALENDAR
VERSION:2.0
PRODID:-//wp-events-plugin.com//7.2.3.1//EN
TZID:Europe/Rome
X-WR-TIMEZONE:Europe/Rome
BEGIN:VEVENT
UID:32522@lazioeventi.com
DTSTART;TZID=Europe/Rome:20221001T210000
DTEND;TZID=Europe/Rome:20221001T223000
DTSTAMP:20220928T102419Z
URL:https://lazioeventi.com/eventi/nella-citta-linferno
SUMMARY:Nella città l’inferno - Colleferro - 1 Ottobre 22 21:00
DESCRIPTION:Sabato 1 ottobre alle ore 21.00\, presso il Teatro Comunale Vit
 torio Veneto\, si terrà lo spettacolo della compagnia dell’Emilia Romag
 na Teatro delle Forchette\, che metterà in scena “Nella città l’infe
 rno”.\n\nDal romanzo di Isa Mari “Via delle Mantellate”. Galleria di
  donne in un carcere romano: Egle\, prostituta incallita\; Lina\, servetta
  spaurita accusata ingiustamente di complicità in un furto\; una ragazzin
 a già pentita e innamorata di un ragazzo che vede dalla finestra. Egle in
 segna come farsi furba a Lina che impara anche troppo bene.\nUno spettacol
 o di fortissime emozioni\, talvolta trattenute\, spesso manifestate.\n\nLo
  spettacolo è inserito all’interno del Gran premio del teatro amatorial
 e\, che quest’anno si svolge a Colleferro e vede la partecipazione di co
 mpagnie teatrali amatoriali provenienti da tutta Italia.
ATTACH;FMTTYPE=image/jpeg:https://lazioeventi.com/wp-content/uploads/2022/
 09/citta-inferno.jpg
CATEGORIES:Musica, Spettacoli e Danza nel Lazio
LOCATION:Colleferro\, Comune\, Colleferro\, Roma\, Lazio\, Italia
GEO:41.7302;13.0058
X-APPLE-STRUCTURED-LOCATION;VALUE=URI;X-ADDRESS=Comune\, Colleferro\, Roma\
 , Lazio\, Italia;X-APPLE-RADIUS=100;X-TITLE=Colleferro:geo:41.7302,13.0058
END:VEVENT
BEGIN:VTIMEZONE
TZID:Europe/Rome
X-LIC-LOCATION:Europe/Rome
BEGIN:DAYLIGHT
DTSTART:20220327T030000
TZOFFSETFROM:+0100
TZOFFSETTO:+0200
TZNAME:CEST
END:DAYLIGHT
END:VTIMEZONE
END:VCALENDAR