BEGIN:VCALENDAR
VERSION:2.0
PRODID:-//wp-events-plugin.com//7.2.3.1//EN
TZID:Europe/Rome
X-WR-TIMEZONE:Europe/Rome
BEGIN:VEVENT
UID:30109@lazioeventi.com
DTSTART;TZID=Europe/Rome:20220320T103000
DTEND;TZID=Europe/Rome:20220320T123000
DTSTAMP:20220316T220239Z
URL:https://lazioeventi.com/eventi/nepi-uomini-e-mura
SUMMARY:Nepi: Uomini e Mura - Nepi - 20 Marzo 22 10:30
DESCRIPTION:Domenica 20 marzo. Appuntamento alle 10.30 al piazzale della Bo
 ttata (con parcheggio). Durata dell’evento 1h e 45′. Condurranno le na
 rratrici Liliana Scaffa (regia e scelta testi) e Maria Letizia Cecconi (le
 tture). Intermezzi e “pettegolezzi” narrativi di Ricci.\n\n“NEPI: UO
 MINI E MURA. Come l’uomo imparò ad amare la roccia” è un viaggio att
 raverso Nepi alla ricerca di segni\, strade\, suoni e pensieri degli uomin
 i che l’hanno abitata. La bizzarra compagnia dell’Armata Brancaleone c
 i scorterà fino alla porta d’accesso per lasciarci entrare dentro le mu
 ra\, tra i dolori di Lucrezia e la conversione alla cristianità del popol
 o nepesino grazie ai santissimi Tolomeo e Romano. Il popolo nepesino ci sv
 elerà le sue origini contadine e – scivolando lungo le strade del borgo
  – arriveremo fin là dove si svela il convento di S. Tolomeo stagliato 
 sullo sfondo del monte Soratte. Ancora due passi per lo sperone dove la ci
 ttà ha fine\, nel suo più profondo simbolo di austerità e beatitudine. 
 E da lì l’ultimo volo\, per la libertà.\n\n“Un paesaggio può” si 
 svolge nell’ambito del “Festival culturale dell’area etrusco cimina
 ”\, progetto organizzato dal SISC (Sistema integrato dei servizi cultura
 li dell’area etrusco cimina) per la “Comunità montana dei Cimini” e
  realizzato con il sostegno della Regione Lazio per biblioteche\, musei e 
 archivi\, piano annuale 2021\, L.R. 24/2019.\nLa partecipazione agli event
 i è libera. Gradita la prenotazione whatsapp al numero 3939373586.\n\nLe 
 passeggiate\, organizzate in osservanza della normativa di contenimento de
 l Covid\, saranno trasmesse in diretta Facebook.\nComuni partecipanti: Bar
 barano Romano\, Blera\, Canepina\, Capranica\, Caprarola\, Carbognano\, Ga
 llese\, Nepi\, Oriolo Romano\, Ronciglione\, Soriano nel Cimino\, Vetralla
 \, Vignanello\, Vitorchiano e Viterbo (Fondazione Carivit).\n\nQuesta la n
 utrita pattuglia dei narratori che scenderanno in campo – qua e là\, se
 condo l’occasione – per “Un paesaggio può”: Fabrizio Allegrini\, 
 Sofia Barbanti\, Tiziana Ceccarelli\, Maria Letizia Cecconi\, Franco Cheru
 bini\, Laura De Felicis\, Sara Forliti\, Maria Morena Lepri\, Alessio Masc
 agna\, Amerildo Menditto\, Andrea Natali\, Marco Rossi\, Giovanna Rossiell
 o\, Barbara Sarti\, Liliana Scaffa\, Silvia Scialanca\, Biagio Stefani\, S
 onia Stefanucci e Alessandro Vagnoni. Con la partecipazione straordinaria 
 dell’attrice Laura Antonini. Riprese video a cura di Marco D’Aureli. C
 omunicazione a cura di Simona Soprano.\n\nDomenica 27 marzo sarà la volta
  di Canepina. Protagonisti la guerra\, il dialetto\, il leggendario fantin
 o del Palio di Siena Picino. Condurranno le narratrici Sara Forliti e Soni
 a Stefanucci. Sofia Barbanti: itinerario e scelta testi. Intermezzi e “p
 ettegolezzi” critico-narrativi di Ricci. Incursione narrativa di Felice 
 Arletti.»
ATTACH;FMTTYPE=image/jpeg:https://lazioeventi.com/wp-content/uploads/2022/
 03/nepi-immagine.jpg
CATEGORIES:Musica, Spettacoli e Danza nel Lazio,Sport, Tempo Libero e
 Divertimento nel Lazio
LOCATION:Nepi\, Comune\, Nepi\, Viterbo\, Lazio\, Italia
GEO:42.2424;12.3487
X-APPLE-STRUCTURED-LOCATION;VALUE=URI;X-ADDRESS=Comune\, Nepi\, Viterbo\, L
 azio\, Italia;X-APPLE-RADIUS=100;X-TITLE=Nepi:geo:42.2424,12.3487
END:VEVENT
BEGIN:VTIMEZONE
TZID:Europe/Rome
X-LIC-LOCATION:Europe/Rome
BEGIN:STANDARD
DTSTART:20211031T020000
TZOFFSETFROM:+0200
TZOFFSETTO:+0100
TZNAME:CET
END:STANDARD
END:VTIMEZONE
END:VCALENDAR