BEGIN:VCALENDAR
VERSION:2.0
PRODID:-//wp-events-plugin.com//7.2.3.1//EN
TZID:Europe/Rome
X-WR-TIMEZONE:Europe/Rome
BEGIN:VEVENT
UID:28944@lazioeventi.com
DTSTART;TZID=Europe/Rome:20211126T200000
DTEND;TZID=Europe/Rome:20211126T234500
DTSTAMP:20211029T150959Z
URL:https://lazioeventi.com/eventi/never-again-kabarett-2021-11-26
SUMMARY:NEVER AGAIN Kabarett - Roma - 26 Novembre 21 20:00
DESCRIPTION:Le luci del varietà illuminano il Pigneto con “Never Again K
 abarett”\, il nuovo spettacolo dell’Ellington Club\n\nSpettacolo in re
 plica Tutti i Venerdì\, dal 5 novembre 2021 al 28 gennaio 2022\nApertura\
 , ore 20.00 | Inizio Spettacolo\, ore 21.30 | After Show\, ore 23.30\n\nC
 ’è un luogo a Roma nel quartiere Pigneto in cui\, varcando la soglia d
 ’ingresso\, si travalicano i decenni che tornano indietro nel tempo. È 
 un tempio per gli appassionati dello stile retrò che si chiama Ellington 
 Club\, i cui fondatori Vera Dragone e Alessandro Casella\, dedicano tutto 
 il loro impegno nella cura di ogni dettaglio\, per fornire agli avventori 
 un’esperienza immersiva all’interno di un tempo che\, nel loro club\, 
 si è fermato ai primi anni del ‘900. In questo contesto\, singolare ed 
 esclusivo\, ogni sera si esibiscono esponenti di quel genere meglio noto c
 ome avanspettacolo\, con live performance che sono omaggio al varietà che
  non c’è più e che\, in Via Anassimandro\, ritorna con grande lustro.\
 n\nA partire dal 5 novembre 2021\, in replica fino al 28 gennaio 2022\, pe
 r tutti i venerdì sarà in scena “Never Again Kabarett”\, spettacolo 
 nato da un’idea di Vera Dragone\, Camilla Nigro e Miriam Gaudio\, con pr
 otagonisti Attilio Fontana\, Camilla Nigro\, Miriam Gaudio e Vera Dragone.
  Insieme a loro le ballerine Lorena Noce e Chiara Albi\, dirette dai coreo
 grafi Paolo Di Caprio e Marco Rea\, che danzano sulle note suonate dal viv
 o da Riccardo Balsamo al pianoforte\, Lorenzo Remia alla chitarra\, Hector
  Faustini al basso\, Alberto Damieto alla batteria e Gianmarco Iaselli al 
 sassofono\, per gli arrangiamenti firmati da Riccardo Balsamo e la regia d
 i Vera Dragone.\n“Never Again Kabarett” è uno spettacolo che unisce i
  numeri di varietà (nel senso più classico del termine)\, alle performan
 ce artistiche del teatro e della danza contemporanea\, in un format musica
 le che spazia tra i generi\, riproponendo chansons\, cabaret berlinese di 
 Kurt Weill\, fino a sonorità pop di Achille Lauro. Un mash-up artistico\,
  performativo e teatralizzato che rivivrà ogni settimana\, all’interno 
 di uno spazio inusuale come l’Ellington Club\, che si pone come crocevia
  di personaggi e anime perdute\, pronte ad illuminare lo stage con la loro
  arte.\n\nLo spettacolo ha vissuto la sua fase embrionale durante i 19 mes
 i di chiusura a causa dell’emergenza pandemica\, un periodo in cui gli s
 pazi deputati all’arte\, sono stati congelati all’interno di un tempo 
 che è sembrato infinito\, soprattutto agli attori\, cantanti\, musicisti 
 e performer che hanno cessato le loro attività. Da qui è nata la voglia 
 di scrivere un testo che offrisse al pubblico uno show che andasse oltre i
 l classico intrattenimento offerto dal cabaret. In uno spazio “altro” 
 vanno così in scena tanti professionisti dello spettacolo che\, a tempo d
 i musica rigorosamente suonata dal vivo (nello stile del locale)\, scongel
 eranno le loro anime per offrirsi alla platea\, come esempio concreto di t
 utti quei talenti che al Pigneto trovano una nuova casa artistica.\nUno sp
 ettacolo che diviene una riflessione\, all’emozione\, all’empatia\, al
 la veicolazione di un messaggio in cui\, mai come oggi\, c’è bisogno di
  credere: quella “bellezza” che “salverà il mondo” e che spesso n
 on trova spazio in circuiti mainstream. Una bellezza che\, senza un palco\
 , rischia di scomparire.\n\nSpettacolo in scena tutti i venerdì\, presso 
 Ellington Club\ncon Attilio Fontana\, Camilla Nigro\, Miriam Gaudio\, Vera
  Dragone\,\ncon le ballerine Lorena Noce e Chiara Albi\ne Riccardo Balsamo
  (Piano)\, Lorenzo Remia (Chitarra)\, Hector Faustini (Basso)\, Alberto Da
 mieto (Batteria)\, Gianmarco Iaselli (Sax)\nCoreografie di Paolo Di Caprio
  e Marco Rea | Arrangiamenti di Riccardo Balsamo | Fotografo di Scena Cosi
 mo Sinforini\nRegia di Vera Dragone\nLa nuova stagione dell’Ellington Cl
 ub\nOltre a “Never Again Kabarett”\, che andrà in scena ogni venerdì
  dal 5 novembre 2021 al 28 gennaio 2022\, il club del Pigneto ospita per d
 ue sabati al mese\, i concerti di Emanuele Urso e la sua Orchestra Swing\,
  per uno spettacolo musicale di rara qualità in grado di offrire agli app
 assionati un’esperienza unica nel suo genere. Negli altri due sabati inv
 ece\, s’illuminano i riflettori per il Burlesque Show\, un classico dell
 ’Ellington. Ogni mercoledì lo stage si riempie delle battute irriverent
 i della Stand Up Comedy\, con una girandola di nomi specializzati nell’a
 rte della parola che commenta la realtà. Nelle serate del giovedì invece
 \, si fanno largo gli spettacoli di arte varia\, con una programmazione ch
 e sarà rinnovata di mese in mese e che proporrà al pubblico\, dagli show
  musicali di jazz\, blues e soul\, ai più colorati Drag &amp\; Queer Show
 . La domenica si parte dalla tarda mattinata con il Brunch a cura dello Ch
 ef Massimiliano Sbardella\, impreziosito per una domenica al mese (sempre 
 la prima del mese)\, dall’evento Pigneto Vinyl Fest a cura di Francesco 
 Bonaccorso\, con djset in vinile a cura di Marco Buscema e Misterstereo8. 
 Per quanto riguarda l’intrattenimento dedicato alle ore più tarde\, l
 ’Ellington ospiterà a partire dal 6 novembre il party “Quelli del Mic
 ca Club”\, un appuntamento-revival del locale cult di Porta Maggiore\, d
 ove i DJs Alessandro Casella\, Luzy L\, Misterstereo8 e Dandy WOlly sono p
 ronti a far rivivere i fasti della buona musica da ballare\, tra soul\, be
 at\, surf\, doo wop e tutti i generi più irresistibili delle epoche più 
 indimenticabili della storia della musica.\n\nL’ingresso al locale è li
 bero con Green Pass o Tampone Negativo eseguito nelle ultime 48 ore.\n\nMO
 DALITÀ D'INGRESSO\nEllington Club\, Via Anassimandro\, 15 - Zona Pigneto\
 , Roma\nApertura ore 20.00 | Inizio Spettacolo ore 21.30 | After Show ore 
 23.30\nCena su Prenotazione dalle ore 20.00\nOgni Mercoledì: Stand Up Com
 edy - Ingresso 10 Euro\nOgni Giovedì: Spettacoli di Arte Varia con Progra
 mmazione Mensile - Ingresso 10 euro\nOgni Venerdì: Spettacolo “Never Ag
 ain Cabaret” - Ingresso 15 Euro\nOgni Sabato: Burlesque Show alternato a
  Orchestra Swing di Emanuele Urso – Ingresso 15 Euro\nOgni Domenica: Bru
 nch con Vinyl DjSet\, apertura dalle ore 11.00 e chiusura alle ore 19:00 
 – Ingresso Libero\n\nPARKING\nPer parcheggiare senza problemi\, è consi
 gliato il Garage 2009\, il più vicino al club\, aperto fino all’una di 
 notte\nVia Augusto Dulceri 54\, Roma - 06 21704893. https://goo.gl/maps/Dn
 jdG71RvesgHLQx8
ATTACH;FMTTYPE=image/jpeg:https://lazioeventi.com/wp-content/uploads/2021/
 10/5nov_Ellington-Club_Never.jpeg
CATEGORIES:Musica, Spettacoli e Danza nel Lazio
LOCATION:Roma\, Via Leopardi\, Roma\, Roma\, Lazio\, Italia
GEO:41.8942;12.5017
X-APPLE-STRUCTURED-LOCATION;VALUE=URI;X-ADDRESS=Via Leopardi\, Roma\, Roma\
 , Lazio\, Italia;X-APPLE-RADIUS=100;X-TITLE=Roma:geo:41.8942,12.5017
END:VEVENT
BEGIN:VTIMEZONE
TZID:Europe/Rome
X-LIC-LOCATION:Europe/Rome
BEGIN:STANDARD
DTSTART:20211031T020000
TZOFFSETFROM:+0200
TZOFFSETTO:+0100
TZNAME:CET
END:STANDARD
END:VTIMEZONE
END:VCALENDAR