BEGIN:VCALENDAR
VERSION:2.0
PRODID:-//wp-events-plugin.com//7.2.3.1//EN
TZID:Europe/Rome
X-WR-TIMEZONE:Europe/Rome
BEGIN:VEVENT
UID:43591@lazioeventi.com
DTSTART;TZID=Europe/Rome:20260125T113000
DTEND;TZID=Europe/Rome:20260125T130000
DTSTAMP:20260121T091410Z
URL:https://lazioeventi.com/eventi/nido-di-vespe
SUMMARY:Nido di Vespe - Roma - 25 Gennaio 26 11:30
DESCRIPTION:Domenica 25 gennaio alle ore 11.30\, al Teatro Villa Pamphilj d
 i Roma\, in occasione delle iniziative per la Giornata della Memoria\, va 
 in scena Nido di Vespe di Simona Orlando\, spettacolo dedicato al rastrell
 amento del Quadraro\, per la regia e con Daniele Miglio\, con la partecipa
 zione alla chitarra del Maestro Dario Benedetti. \nBiglietto 10 euro.\n\n1
 7 aprile 1944\, periferia sud-est di Roma: le truppe tedesche assediano il
  Quadraro\, considerato “nido” di partigiani e oppositori al regime\, 
 per via di un sistema di grotte e cunicoli spesso usato dalle sacche di re
 sistenza. È l’alba quando i nazisti\, agli ordini del comandante Kapple
 r\, accerchiano la borgata romana abitata da operai del settore edile e da
  artigiani che lavorano nella grande industria cinematografica di Cinecitt
 à\, dando corpo al più grande e drammatico rastrellamento nella storia d
 ella città di Roma (insieme a quello del Ghetto)\, quell’Operazione Bal
 ena in cui vengono coinvolte più di duemila persone e che termina con la 
 deportazione di 947 uomini\, di età compresa tra i 15 e i 55 anni. In sce
 na rivivono le vere storie dei deportati\, prima nel campo di concentramen
 to di Fossoli e successivamente in Germania\, e le vicende quotidiane dell
 e famiglie rimaste ad attendere il loro ritorno.\nLo spettacolo trasporta 
 il pubblico direttamente in quel “covo” e nel tragico viaggio che per 
 molti fu di sola andata\, attraverso ricostruzioni recitate e videoproiezi
 oni di interviste\, preziose testimonianze dirette raccolte presso i super
 stiti e i familiari delle vittime. Per ribadire una volta di più che se c
 omprendere è impossibile\, conoscere è necessario.\n\nNIDO DI VESPE\ndi 
 Simona Orlando\ncon Daniele Miglio\nAlla chitarra il Maestro Dario Benedet
 ti\nregia Daniele Miglio\n\nSimona Orlando. Giornalista per Radio 24\, Il 
 Messaggero\, Rolling Stone\, attualmente collabora con La Repubblica\, è 
 autrice di vari libri musicali (con Afterhours e Elisa) e non (con Don Gal
 lo e sul G8 di Genova). Ha scritto monologhi per il collettivo U.G.O.\, 
 “Nido di vespe” sul rastrellamento del Quadraro\, spettacoli teatrali 
 per Simone Cristicchi (Franciscus\, L’Orcolat\, Trieste 1954) e per Simo
 na Molinari. \n\nDaniele Miglio. Formatosi al Centro Studi Ettore Petrolin
 i\, ha lavorato con Fiorenzo Fiorentini in molti spettacoli\, e attualment
 e tiene laboratori presso il Teatro Verde e il Teatro Villa Pamphilj. Ha a
 vuto ruoli in tv (Boris\, Distretto di polizia) e al cinema (La Tigre e la
  neve\, Renato Vallanzasca) Nel 2005 era “Scrocchiazeppi” del film Rom
 anzo Criminale.\n\nDario Benedetti. Diplomatosi in chitarra classica press
 o il Conservatorio di Santa Cecilia a Roma\, dal 1994 ha suonato dal vivo 
 e in studio con diversi artisti italiani e non\, tra cui Dhamm\,  Db Boule
 vard\, Luca Barbarossa\, Pino Strabioli\, Ké\, Eric Martin\, Judith Béra
 rd\, Shelly Bonet. Ha partecipato più volte al Festival di Sanremo e pubb
 licato diversi album per EMI e BMG.
ATTACH;FMTTYPE=image/jpeg:https://lazioeventi.com/wp-content/uploads/2026/
 01/attachment-7.jpeg
CATEGORIES:Arte e Cultura nel Lazio,Musica, Spettacoli e Danza nel Lazio
LOCATION:Roma\, Via Leopardi\, Roma\, Roma\, Lazio\, Italia
GEO:41.8942;12.5017
X-APPLE-STRUCTURED-LOCATION;VALUE=URI;X-ADDRESS=Via Leopardi\, Roma\, Roma\
 , Lazio\, Italia;X-APPLE-RADIUS=100;X-TITLE=Roma:geo:41.8942,12.5017
END:VEVENT
BEGIN:VTIMEZONE
TZID:Europe/Rome
X-LIC-LOCATION:Europe/Rome
BEGIN:STANDARD
DTSTART:20251026T020000
TZOFFSETFROM:+0200
TZOFFSETTO:+0100
TZNAME:CET
END:STANDARD
END:VTIMEZONE
END:VCALENDAR