BEGIN:VCALENDAR
VERSION:2.0
PRODID:-//wp-events-plugin.com//7.2.3.1//EN
TZID:Europe/Rome
X-WR-TIMEZONE:Europe/Rome
BEGIN:VEVENT
UID:39338@lazioeventi.com
DTSTART;TZID=Europe/Rome:20240619T150000
DTEND;TZID=Europe/Rome:20240706T190000
DTSTAMP:20240605T155416Z
URL:https://lazioeventi.com/eventi/nino-perrone-nel-vento-della-pittura
SUMMARY:Nino Perrone: Nel vento della pittura - Roma - 19 Giugno 24 15:00
DESCRIPTION:Nino Perrone presenta la sua nuova personale “Nel vento della
  pittura” alla Galleria Vittoria di Via Margutta 103 \, da mercoledì 19
  giugno alle ore 18.00 e fino al 6 luglio 2024.\n\nQuesto evento chiude il
  ciclo espositivo della stagione 2023-2024 di Galleria Vittoria.\n\nL'espo
 sizione\, curata da Lorenzo Canova\, che ne ha scritto anche il testo crit
 ico\, presenta circa 20 opere di Nino Perrone e sarà corredata da un cata
 logo\, appositamente pubblicato edito da Officine Vittoria.\n\nNino Perron
 e\, artista di grande sensibilità e talento\, ci invita a esplorare un un
 iverso di colori e forme che si librano nello spazio.\n\nCome afferma l'ar
 tista stesso: "Osservare\, guardare\, immaginare ... la natura richiama la
  mia attenzione in ogni dove\, in ogni forma\, nelle miriadi di combinazio
 ni di colori che si offrono alla mia vista come un inatteso spettacolo. Do
 po lunghi anni di figurativo e di studi sulle tecniche\, ho sentito la nec
 essità di valorizzare il particolare\, le sensazioni\, le emozioni."\n\nI
 l percorso artistico di Perrone si distingue per una continua ricerca inte
 riore\, dove le persone diventano personaggi densi di emotività. Attraver
 so i loro sguardi e abiti\, l'artista crea nuove forme e volumi\, esprimen
 do note di colore che generano contrasti\, toni e fusioni.\nNino Perrone r
 acconta la sua evoluzione artistica dal figurativo all'astratto\, spiegand
 o come il colore sia diventato il protagonista delle sue opere:\n\n"Il col
 ore prende il sopravvento sul disegno e diventa vibrante\, energico. Color
 e su colore\, dove l'uno diventa complementare dell'altro magnificandone l
 'aspetto esteriore. La materia si distrugge\, muore\; al contrario l'energ
 ia si scaglia nello spazio dando luogo a nuove fonti di luce."\n\nL'artist
 a utilizza tecniche miste su tele preparate con stucco\, gesso e colle\, g
 odendo del piacere della pennellata e della spatolata. Le sue opere cattur
 ano l'essenza della luce e delle ombre\, creando composizioni astratte che
  celebrano la bellezza e l'energia della natura.\n\n"Qui sta la mia ricerc
 a\, vedere oltre e dipingere piacevolmente queste nuove forme che si libra
 no nello spazio in una nuova dimensione. Dipingo su tele da me preparate c
 on stucco\, gesso e colle\, godendo il piacere della pennellata e della sp
 atolata. Creo colori\; le ombre diventano prigioniere della luce\; tutto l
 uccica\, tutto brilla\, tutto diventa brioso scintillante."\n\nLa mostra "
 Nel vento della pittura" di Nino Perrone offre al pubblico un viaggio attr
 averso l'arte che esplora l'armonia dei colori e delle forme\, unendo figu
 rativo e astratto in una sinfonia visiva che cattura e ispira.\n\nNel vent
 o della pittura testo di Lorenzo Canova\n\nNei turbini del caos \n\nA part
 ire dalle opere degli anni Duemila e fino a quelle più recenti\, Perrone 
 ha sviluppato quindi con coerenza la sua attenzione per la natura\, in una
  dimensione metaforica legata alle istanze di una visione di matrice ecolo
 gista.\n\nI quadri di quest’ultima fase sono difatti ideati e sviluppati
  quasi come una denuncia o come una poetica riflessione su un pianeta semp
 re più devastato dall’azione dell’uomo\, su una “ribellione” dell
 e forze naturali di fronte alle offese inferte dallo sfruttamento degli ec
 osistemi dovuta a un’ottusa fame di guadagno.\n\nPerrone non declina per
 ò il suo pensiero attraverso un’opera di matrice concettuale\, ma si af
 fida alla capacità archetipa della pittura di dare forma alle cose indici
 bili\, di trovare un senso nel mondo con strumenti espressivi che le parol
 e non possono avere.\n\nCosì\, ad esempio\, mentre le opere del 2019 eran
 o ancora fondate su una più serena e ordinata compostezza strutturale\, u
 n’opera del 2020 come Maroso 2 fa intuire una nuova percezione di turbam
 ento\, una drammatica rivelazione di energie nascoste nei vortici tracciat
 i dalle linee forza in cui le pennellate divengono quasi campi magnetici\,
  pulsazioni di materia che agitano il dipinto come le ondate di un misteri
 oso pulviscolo cromatico.\n\nIl Maroso ha perso peraltro molti dei suoi ri
 ferimenti “naturalistici” per trasformarsi in una sorta di figura simb
 olica\, in una struttura astratta ma\, allo stesso tempo\, carica di allus
 ioni\, potenziate dal cromatismo impetuoso che infuoca la materia pittoric
 a e che restituisce con intensità la violenza di una natura che cancella 
 tutto nella sua reazione inarrestabile.\n\nQuesto quadro apre pertanto all
 e opere del 2024 come Flusso ondoso\, Percezione impetuosa o Mare tumultuo
 so dove Perrone sviluppa il suo discorso su un’astrazione in grado di co
 municare gli stati d’animo e\, in particolare\, un sentimento di inquiet
 udine accresciuto dalla felice qualità dei passaggi coloristici.\n\nNei m
 ulinelli di pennellate dense come tasselli di pietra brillante si aprono v
 oragini oscure e si innalzano nuove ondate di luce\, si sovrappongono segn
 i e frammenti che risplendono come fiamme nelle tenebre\, scintille che si
  stagliano sullo spazio nero come segnali ardenti nel buio.\n\nIn questo m
 odo il pittore si confronta con i confini del caos\, con il pericolo dell
 ’annullamento\, rischiando la perdita totale della forma compositiva nel
  diluvio del colore che cala sul supporto come un uragano.\n\nTuttavia\, u
 n attimo prima della fine\, Perrone riesce a dare una nuova saldezza al su
 o dinamismo espressivo\, a ritrovare una segreta misura costruttiva\, a no
 n smarrire le coordinate della sua architettura progettuale\, aprendo a un
 a possibile speranza grazie alle felici combinazioni della sua opera\, all
 e pulsazioni radianti che donano un nuovo ordine al disordine del mondo\, 
 alla serenità celata nelle pieghe delle sue tempeste\, tra le fioriture a
 stratte che si aprono nel vento luminoso della sua pittura.\n\nBreve bio N
 ino Perrone\n\nNino Perrone è nato a Bari\, dove lavora nel suo studio in
  Piazza Chiurlia 4. Diplomato presso l'Istituto Statale d'Arte di Bari\, h
 a vinto numerosi premi e partecipato a varie mostre. Ha esposto in galleri
 e come la Michelangelo di Bari\, la Le Muse di Bari\, la d'Arte Moderna Al
 ba di Ferrara\, la Nuova Vernice Bari\, e la Bonan Studio D'Arte Due a Ven
 ezia.\n\nNel 1984 e nel 1986 ha vinto concorsi di pittura nazionali indett
 i da Giorgio Mondadori\, esponendo nelle gallerie “Rizzardi” a Milano 
 e “Il Parametro” a Roma. Ha partecipato a importanti collettive\, tra 
 cui Expo Arte di Bari e Arte in Regione nei castelli pugliesi.\n\nRecentem
 ente\, ha collaborato con l'associazione Incisori di Roma e ha esposto in 
 diverse collettive internazionali come “Spoleto Arte” e “La Grande E
 xposition Universelle” a Parigi. Ha partecipato a mostre come la Biennal
 e Internazionale di Palermo\, il Premio Sulmona\, e la Biennale di Venezia
 .\n\nNel 2021 ha esposto presso la Galleria Vittoria di Roma con la person
 ale “ANICONISMO ICONICO” e ha partecipato alle collettive “MASCHERIN
 E DELLA VITTORIA”\, “ZONA ROSSA”\, e “IMMERSIONI” organizzate da
 lla stessa galleria. Continua a essere attivo nel panorama artistico inter
 nazionale con partecipazioni a mostre a Cannes\, Novara\, Venezia\, Trevis
 o\, e Roma. Nel 2024 è previsto il lancio di pubblicazioni che includono 
 sue opere\, tra cui il volume “Interventi ed erratiche esplorazioni sull
 ’arte” e l’Atlante dell’Arte Contemporanea presso il Metropolitan 
 Museum of Art di New York.\n\nNel vento della pittura di Nino Perrone\n\nG
 alleria Vittoria\, Via Margutta 103 a Roma\n\nDal 19 giugno - 06 luglio 20
 24\n\nOrari lunedì-venerdì dalle 15.00 alle 19.00\, mattine e sabato sol
 o su appuntamento\n\ninfo@galleriavittoria.com  tel. 06.36001878 
ATTACH;FMTTYPE=image/jpeg:https://lazioeventi.com/wp-content/uploads/2024/
 06/Nino-Perrone-Mandorlo-olio-su-tela-80x60-cm.jpg
CATEGORIES:Arte e Cultura nel Lazio
LOCATION:Roma\, Via Leopardi\, Roma\, Roma\, Lazio\, Italia
GEO:41.8942;12.5017
X-APPLE-STRUCTURED-LOCATION;VALUE=URI;X-ADDRESS=Via Leopardi\, Roma\, Roma\
 , Lazio\, Italia;X-APPLE-RADIUS=100;X-TITLE=Roma:geo:41.8942,12.5017
END:VEVENT
BEGIN:VTIMEZONE
TZID:Europe/Rome
X-LIC-LOCATION:Europe/Rome
BEGIN:DAYLIGHT
DTSTART:20240331T030000
TZOFFSETFROM:+0100
TZOFFSETTO:+0200
TZNAME:CEST
END:DAYLIGHT
END:VTIMEZONE
END:VCALENDAR