BEGIN:VCALENDAR
VERSION:2.0
PRODID:-//wp-events-plugin.com//7.2.3.1//EN
TZID:Europe/Rome
X-WR-TIMEZONE:Europe/Rome
BEGIN:VEVENT
UID:30005@lazioeventi.com
DTSTART;TZID=Europe/Rome;VALUE=DATE:20220308
DTEND;TZID=Europe/Rome;VALUE=DATE:20220326
DTSTAMP:20220308T101312Z
URL:https://lazioeventi.com/eventi/no-violence-no-virus-no-war
SUMMARY:No Violence\, No Virus\, No War - Sabaudia - 8 Marzo 22 00:00
DESCRIPTION:In occasione della Giornata Internazionale della Donna\, torna 
 un appuntamento ormai consueto a Sabaudia: la collettiva MAD Donna\, giunt
 a alla sua 15esima edizione.\n\nUn importante traguardo per questa rassegn
 a d’arte contemporanea al femminile che giunge in un periodo storico dav
 vero complesso\, dopo due anni di pandemia e con una guerra che diventa pi
 ù violenta e pericolosa ogni giorno di più.\n\nE se la Festa della Donna
  ogni anno porta con sé l’importante dibattito sulla parità delle oppo
 rtunità\, dei diritti\, sulla lotta contro la violenza sulle donne\, il f
 emminicidio e le problematiche che purtroppo ancora nel 2022 bisogna affro
 ntare\, la pandemia e ora la guerra amplificano le paure\, le preoccupazio
 ni\, il dolore. Su questi temi oltre venti artiste sono state chiamate a r
 iflettere e a declinare attraverso tecniche diverse i loro sentimenti\, i 
 loro pensieri e le loro emozioni nell'edizione di quest'anno dal titolo No
  Violence\, No Virus\, No War.\n\nNe viene fuori un’esposizione original
 e e variegata\, a cura di Fabio D’Achille sostenuta dalla FIDAPA di Saba
 udia\, dal Soroptimist International Club di Latina e dal Museo Contempora
 neo MadXI.\n\nLa mostra\, che come è ormai tradizione\, sarà ospitata a 
 Sabaudia nello spazio espositivo della Biblioteca Comunale Feliciano Ianne
 lla a Palazzo Angiolo Mazzoni\, ex palazzo delle Poste. L’inaugurazione 
 si terrà ovviamente martedì 8 marzo\, l’esposizione sarà aperta al pu
 bblico fino al 25 marzo.\n\nL’inaugurazione che si svolgerà in presenza
  alle ore 16.30\, vedrà la partecipazione delle artiste\, del curatore Fa
 bio D’Achille e di Letizia De Magistris\, Presidentessa della FIDAPA di 
 Sabaudia.\n\nLe artiste partecipanti: Paola Acciarino\, pittura\, Roberta 
 Bartolomucci\, pittura\, Stefania Beltrami\, raku\, Giu Bocconcello\, scul
 tura\, Natasha Bozharova\, scultura\, Germana Brizio\, disegno\, Angela Ca
 cciotti\, pittura\, Jamila Campagna\, fotografia\, Giovanna Campoli\, pitt
 ura\, Erika Capobianco\, pittura\, Violetta Carpino\, pittura e disegno\, 
 Antonella Catini\, pittura\, Alessandra Chicarella\, pittura e libri d’a
 rtista\, Collettivo L’albero delle farfalle 2020\, libri d’artista\, L
 aura Criscuolo\, pittura\, Sara De Angelis\, pittura e disegno\, Marta Man
 giapelo\, digital painting – Manga\, Elisabetta Marangon\, fotografia e 
 video\, Roberta Modena\, pittura e collage\, Ljdia Musso\, fotografia\, St
 efania Romagna\, disegno\, performance e installazioni\, Silvia Rosa\, pit
 tura\, Daisy Triolo\, pittura e installazioni\, Piera Vertecchi\, pittura.
ATTACH;FMTTYPE=image/jpeg:https://lazioeventi.com/wp-content/uploads/2022/
 03/Mad-Donna-2022-2.jpeg
CATEGORIES:Arte e Cultura nel Lazio
LOCATION:Sabaudia\, Comune\, Sabaudia\, Latina\, Lazio\, Italia
GEO:41.3003;13.0255
X-APPLE-STRUCTURED-LOCATION;VALUE=URI;X-ADDRESS=Comune\, Sabaudia\, Latina\
 , Lazio\, Italia;X-APPLE-RADIUS=100;X-TITLE=Sabaudia:geo:41.3003,13.0255
END:VEVENT
BEGIN:VTIMEZONE
TZID:Europe/Rome
X-LIC-LOCATION:Europe/Rome
BEGIN:STANDARD
DTSTART:20211031T020000
TZOFFSETFROM:+0200
TZOFFSETTO:+0100
TZNAME:CET
END:STANDARD
END:VTIMEZONE
END:VCALENDAR