BEGIN:VCALENDAR
VERSION:2.0
PRODID:-//wp-events-plugin.com//7.2.3.1//EN
TZID:Europe/Rome
X-WR-TIMEZONE:Europe/Rome
BEGIN:VEVENT
UID:30335@lazioeventi.com
DTSTART;TZID=Europe/Rome:20220717T210000
DTEND;TZID=Europe/Rome:20220717T230000
DTSTAMP:20220402T153712Z
URL:https://lazioeventi.com/eventi/nomadi-in-concerto
SUMMARY:Nomadi in concerto - Castelliri - 17 Luglio 22 21:00
DESCRIPTION:“SOLO ESSERI UMANI” il nuovo album di inediti dei NOMADI\, 
 per la prima volta su etichetta BMG e pubblicato in formato Vinile\, CD e 
 Digital Download.\n\nValori / Amore / Vita Queste tre parole sono state il
  punto di partenza per ogni singola traccia inclusa in questo album ricco 
 di spunti di riflessione sulla nostra esistenza e sul momento complesso ch
 e stiamo vivendo.\nLa prima sorpresa di questo progetto è il brano che da
  il titolo all’album “Solo Essere Umani” cantato insieme all’amico
  storico della band\, ENZO IACCHETTI.\n\nIngresso libero
ATTACH;FMTTYPE=image/jpeg:https://lazioeventi.com/wp-content/uploads/2022/
 04/concerto-nomadi.jpg
CATEGORIES:Musica, Spettacoli e Danza nel Lazio
LOCATION:Castelliri\, Comune di Castelliri\, Castelliri\, Frosinone\, Lazio
 \, Italia
GEO:41.6794957;13.55002509999997
X-APPLE-STRUCTURED-LOCATION;VALUE=URI;X-ADDRESS=Comune di Castelliri\, Cast
 elliri\, Frosinone\, Lazio\, Italia;X-APPLE-RADIUS=100;X-TITLE=Castelliri:
 geo:41.6794957,13.55002509999997
END:VEVENT
BEGIN:VTIMEZONE
TZID:Europe/Rome
X-LIC-LOCATION:Europe/Rome
BEGIN:DAYLIGHT
DTSTART:20220327T030000
TZOFFSETFROM:+0100
TZOFFSETTO:+0200
TZNAME:CEST
END:DAYLIGHT
END:VTIMEZONE
END:VCALENDAR