BEGIN:VCALENDAR
VERSION:2.0
PRODID:-//wp-events-plugin.com//7.2.3.1//EN
TZID:Europe/Rome
X-WR-TIMEZONE:Europe/Rome
BEGIN:VEVENT
UID:43959@lazioeventi.com
DTSTART;TZID=Europe/Rome:20260315T170000
DTEND;TZID=Europe/Rome:20260315T183000
DTSTAMP:20260307T083451Z
URL:https://lazioeventi.com/eventi/non-tutte-le-intolleranze-fanno-male-on
 e-woman-show-2
SUMMARY:Non tutte le intolleranze fanno male - One Woman Show - Roma - 15 M
 arzo 26 17:00
DESCRIPTION:Lo spettacolo “Non tutte le intolleranze fanno male” affron
 ta in modo comico\, ironico ma anche riflessivo il tema delle intolleranze
 . Infatti\, viviamo in un mondo dove diventiamo sempre più intolleranti\,
  non soltanto al cibo (e a tutto ciò che tocchiamo e respiriamo)\, ma anc
 he a qualsiasi situazione\, tipo di persona e persino alla vita stessa.\nD
 all’intolleranza personale a uno sguardo universale.\n\nIn particolare\,
  questo spettacolo nasce da un’intolleranza che la protagonista ha scope
 rto di avere. Da lì\, si arriva alle intolleranze per alcuni tipi di uomi
 ni e a diverse situazioni assurde che accadono nel mondo dello spettacolo 
 di oggi. Inoltre\, il viaggio prosegue tra gli accenti e le varie regioni 
 d’Italia e del mondo.\nPer di più\, questo tema viene affrontato dall
 ’interprete in modo variegato\, grazie al suo essere un’artista polied
 rica. Molti momenti musicali saranno presenti\, visto che si parlerà anch
 e delle varie intolleranze che hanno colpito molte vip\, le quali sembrano
  apparentemente perfette\, ma anche loro vivono con delle intolleranze che
  le tormentano.\nInoltre\, ci saranno parti recitate\, cantate e molte imi
 tazioni\, che renderanno questo spettacolo completo. Interverranno anche d
 iversi personaggi sullo schermo\, con i quali l’interprete interagirà d
 irettamente.\n\nInfine\, dopo una bella scorpacciata di risate — che\, f
 ortunatamente\, non provocheranno nessuna intolleranza — la parte finale
  sarà più riflessiva e darà dei consigli utili su come affrontare tutte
  le varie intolleranze.\n\nDOMENICA 15 MARZO ALLE ORE 17:00\nTeatro S. Car
 lo Lwanga - Via Adolfo Ravà\, 31 – Roma\nInfo e prenotazione al seguent
 e link:\nhttps://artistinaty.it/non-tutte-le-intolleranze-fanno-male/#pren
 ota
ATTACH;FMTTYPE=image/jpeg:https://lazioeventi.com/wp-content/uploads/2026/
 03/non-tutte-le-intolleranze-orizzontale.jpg
CATEGORIES:Musica, Spettacoli e Danza nel Lazio
LOCATION:Roma\, Via Leopardi\, Roma\, Roma\, Lazio\, Italia
GEO:41.8942;12.5017
X-APPLE-STRUCTURED-LOCATION;VALUE=URI;X-ADDRESS=Via Leopardi\, Roma\, Roma\
 , Lazio\, Italia;X-APPLE-RADIUS=100;X-TITLE=Roma:geo:41.8942,12.5017
END:VEVENT
BEGIN:VTIMEZONE
TZID:Europe/Rome
X-LIC-LOCATION:Europe/Rome
BEGIN:STANDARD
DTSTART:20251026T020000
TZOFFSETFROM:+0200
TZOFFSETTO:+0100
TZNAME:CET
END:STANDARD
END:VTIMEZONE
END:VCALENDAR