BEGIN:VCALENDAR
VERSION:2.0
PRODID:-//wp-events-plugin.com//7.2.3.1//EN
TZID:Europe/Rome
X-WR-TIMEZONE:Europe/Rome
BEGIN:VEVENT
UID:32278@lazioeventi.com
DTSTART;TZID=Europe/Rome:20220924T100000
DTEND;TZID=Europe/Rome:20220924T130000
DTSTAMP:20220911T203119Z
URL:https://lazioeventi.com/eventi/nordic-walking-al-tuscolo
SUMMARY:Nordic-Walking al Tuscolo - Rocca di Papa - 24 Settembre 22 10:00
DESCRIPTION:Prenderanno ufficialmente il via la prossima domenica 18 settem
 bre le attività sul territorio della neonata associazione Boschi e Sorgen
 ti Latine Aps\, gruppo di recente fondazione\, vocato alla scoperta dei lu
 oghi e dei percorsi più antichi del Lazio.\nEscursionismo\, sport\, ricer
 ca storico-archeologica\, sociologica e spirituale tra gli obiettivi alla 
 base dell’associazione nata attorno all’impegno e alla dedizione di Si
 lvio Raparelli\, guida di media montagna che ha deciso assieme a un gruppo
  di fraterni amici di dare il via all’iniziativa che come start nel mese
  di settembre organizza una doppietta di appuntamenti mirati subito al cuo
 re di alcune delle attività “di movimento” che l’associazione inten
 derà svolgere nel tempo.\n\nSABATO 24 SETTEMBRE AL TUSCOLO PRESENTAZIONE 
 NORDIC-WALKING – La settimana successiva\, sabato 24 settembre alle ore
  10\,00 sul monte Tuscolo\, nei pressi dell’edicola dedicata a Santa Mar
 ia di Grottaferrata\, si terrà la presentazione dei corsi di Nordic-Walki
 ng\, particolare disciplina che consiste di fatto in una camminata con bas
 toncini\, inventata circa 90 anni fa in Scandinavia come allenamento estiv
 o-autunnale per gli atleti impegnati nello sci di fondo e nella combinata 
 nordica. \nIn Italia\, specie nelle zone di montagna del Trentino Alto Adi
 ge\, comincia a comparire negli anni 60\, per prendere definitivamente pie
 de circa vent’anni fa\, nei primi anni Duemila\, quando dalle zone alpin
 e\, il Nordic-Walking amplia il proprio raggio d’azione a tutte le altre
  regioni d’Italia.\nLe colline e le montagne del Lazio saranno le zone n
 elle quali Boschi e Sorgenti Latine Aps proporrà i suoi corsi che sabato 
 24 settembre saranno presentati ai futuri appassionati dei Castelli Romani
 .\n\nPer info e prenotazioni sulle due attività si possono consultare i c
 anali social Facebook e Instagram dell’associazione e contattare via Wha
 tsapp in orari d’ufficio il seguente numero telefonico 3922409667.
ATTACH;FMTTYPE=image/jpeg:https://lazioeventi.com/wp-content/uploads/2022/
 09/nemi-lago.jpg
CATEGORIES:Sport, Tempo Libero e Divertimento nel Lazio
LOCATION:Rocca di Papa\, Comune di Rocca di Papa\, Rocca di Papa\, Roma\, L
 azio\, Italia
GEO:41.762;12.7081
X-APPLE-STRUCTURED-LOCATION;VALUE=URI;X-ADDRESS=Comune di Rocca di Papa\, R
 occa di Papa\, Roma\, Lazio\, Italia;X-APPLE-RADIUS=100;X-TITLE=Rocca di P
 apa:geo:41.762,12.7081
END:VEVENT
BEGIN:VTIMEZONE
TZID:Europe/Rome
X-LIC-LOCATION:Europe/Rome
BEGIN:DAYLIGHT
DTSTART:20220327T030000
TZOFFSETFROM:+0100
TZOFFSETTO:+0200
TZNAME:CEST
END:DAYLIGHT
END:VTIMEZONE
END:VCALENDAR