BEGIN:VCALENDAR
VERSION:2.0
PRODID:-//wp-events-plugin.com//7.2.3.1//EN
TZID:Europe/Rome
X-WR-TIMEZONE:Europe/Rome
BEGIN:VEVENT
UID:40600@lazioeventi.com
DTSTART;TZID=Europe/Rome:20250125T210000
DTEND;TZID=Europe/Rome:20250126T210000
DTSTAMP:20250117T083419Z
URL:https://lazioeventi.com/eventi/norma-jeane-baker-mortenson-ovvero-mari
 lyn-monroe
SUMMARY:Norma Jeane Baker Mortenson  ovvero  Marilyn Monroe - Roma - 25 Gen
 naio 25 21:00
DESCRIPTION:La grande diva americana viene riproposta in una veste insolita
 \, capace di scandagliare nel profondo della sua anima e rivelare agli spe
 ttatori lati nascosti della sua personalità.\nNorma Jeane in preda ad una
  crisi depressiva non si muove dalla sua camera da letto che diventa il su
 o ufficio\, la sua sala prove\, il luogo dove incontrare fotografi e giorn
 alisti e la casa dei suoi incubi. La realtà si mescola ai sogni e all' im
 maginazione fino a quando...\n\nideazione e regia\ndi Francesca Stajano Sa
 sson\n\ncon Francesca Stajano Sasson\, Roberta Bobbi \ne il mimo Nino Mall
 ia.\n\nNOTE DI REGIA\nCosa c' è veramente dietro il successo di Marilyn M
 onroe? Possibile fosse superficiale come in molti l'hanno creduta? Marilyn
  nasce a Los Angeles il primo Giugno del 1926\, sotto il segno dei Gemelli
 \, nasce in una America bigotta dove il ruolo della donna onesta era quell
 o di mettere su famiglia e passare il resto della propria vita tra pentole
  e Feste del Ringraziamento\, sicuramente però non si fece influenzare da
  questo modo di pensare\, ebbe il coraggio di inseguire il suo sogno di di
 ventare attrice ad Hollywood\, tra millantatori\, gangster e produttori se
 nza scrupoli. Nonostante una infanzia non certo serena e normale in cui fu
  vittima di abusi di ogni tipo\, questa donna\, la cui sorte ha voluto fos
 se bella\, buona ed intelligente\, riesce ad affermarsi esclusivamente lot
 tando con le proprie forze ed usando l' unica cosa che possedeva\, la bell
 ezza del suo corpo usato sapientemente. Certamente problemi di alcolismo e
  dipendenza da psicofarmaci sono stati i compagni più fedeli del suo brev
 e viaggio terreno ma non le hanno impedito di dimostrare il suo incredibil
 e talento artistico\, anzi forse proprio questi suoi problemi ce la fanno 
 vedere più umana\, fragile\, vicina ed amabile.\n\nAmata da tutti ma capi
 ta da nessuno Marilyn\, che aveva una grande intelligenza non visibile ma 
 presente in ogni suo pensiero\, l'ho voluta far rivivere ed interpretare p
 er rendere giustizia a questa incredibile donna\, resiliente\, forte ed am
 ante della vita e dell'amore nonostante tutto\, una donna libera quasi una
  femminista ante litteram\, la cui immagine è stata strumentalizzata sen
 za mai restituirci la sua vera essenza. Per questo\, dopo un intenso studi
 o su di lei\, ho scelto il modo di rappresentarla\, preda di tutti i suoi 
 incubi e le sue paure\, ma in fondo libera di accettare la propria immagin
 e iconica di diva senza tempo\, da lei costruita a tavolino\, e finalmente
  in pace con il suo alter ego Zelda Zonk.\nMi sono chiesta e chiedo al pub
 blico diventerà libera finalmente di amarsi ed amare Norma Jeane? \nIn f
 ondo siamo tutti un po’ Marilyn\, ci costruiamo una immagine\, ci innamo
 riamo delle persone sbagliate e veniamo usati da persone senza scrupoli\, 
 ma lei non si è mai arresa e possiamo\, anzi dobbiamo\, considerarla un e
 sempio.\n\nCome tutti i miei spettacoli\, di cui amo curare regia\, scenog
 rafia e costumi\, non esiste un vero e proprio testo scritto\, questo per 
 dare modo a tutti noi in scena e al nostro pubblico\, di toccare quanto pi
 ù possibile la verità del personaggio seguendo la mia ideazione dello sp
 ettacolo\, nulla è improvvisato\, perché tutto è già costruito in prov
 a\, ma nulla è sempre uguale\,  questo perché nei miei spettacoli cerco
  di trovare sempre in scena un presente teatrale che \, a mio avviso\, non
  può essere conosciuto prima\, un pò come è la vita\, dove non possiamo
  mai fare dei programmi perché in grado di sorprenderci sempre. Francesca
  Stajano Sasson\n\nInfo e Prenotazioni:\nNorma Jeane Baker Mortenson ovver
 o Marilyn Monroe\nDi e con Francesca Stajano Sasson\n\nOrari: \nSabato 25 
 ore 21 e domenica 26 gennaio ore 18\,30\n\nPrezzi:\n€ 15\,00 
ATTACH;FMTTYPE=image/jpeg:https://lazioeventi.com/wp-content/uploads/2025/
 01/Locandina.jpeg
CATEGORIES:Musica, Spettacoli e Danza nel Lazio
LOCATION:Roma\, Via Leopardi\, Roma\, Roma\, Lazio\, Italia
GEO:41.8942;12.5017
X-APPLE-STRUCTURED-LOCATION;VALUE=URI;X-ADDRESS=Via Leopardi\, Roma\, Roma\
 , Lazio\, Italia;X-APPLE-RADIUS=100;X-TITLE=Roma:geo:41.8942,12.5017
END:VEVENT
BEGIN:VTIMEZONE
TZID:Europe/Rome
X-LIC-LOCATION:Europe/Rome
BEGIN:STANDARD
DTSTART:20241027T020000
TZOFFSETFROM:+0200
TZOFFSETTO:+0100
TZNAME:CET
END:STANDARD
END:VTIMEZONE
END:VCALENDAR