BEGIN:VCALENDAR
VERSION:2.0
PRODID:-//wp-events-plugin.com//7.2.3.1//EN
TZID:Europe/Rome
X-WR-TIMEZONE:Europe/Rome
BEGIN:VEVENT
UID:39722@lazioeventi.com
DTSTART;TZID=Europe/Rome:20240815T220000
DTEND;TZID=Europe/Rome:20240815T234500
DTSTAMP:20240809T153942Z
URL:https://lazioeventi.com/eventi/nostalgia-90
SUMMARY:Nostalgia 90 - Cisterna di Latina - 15 Agosto 24 22:00
DESCRIPTION:Il 15 agosto alle ore 22 è prevista l’esibizione di Nostalgi
 a 90: è la grande sorpresa che farà ballare tutta la città. \nSi tratta
  di un format noto su scala nazionale che porterà il pubblico nell’atmo
 sfera degli Anni ’90 con musiche\, spettacoli\, animazione a tema\, per 
 immergersi nei successi e nelle mode di quel decennio rimasto per tanti in
 dimenticabile.\n\nCi si potrà scatenare al ritmo della dance\, delle melo
 die coinvolgenti della pop per ballare e cantare le hit che hanno segnato 
 un’epoca.\n\nIl 16 agosto sarà la volta del doppio concerto: sul palco 
 centrale allestito in Piazza XIX Marzo\, che ha consentito all’Amministr
 azione comunale che la festa restasse al centro come vuole la tradizione e
  di non spostarla in altra area\, si esibiranno alle ore 21:30 Giuliano Pa
 lma e alle ore 23 Enrico Ruggeri.\n\nGiuliano Palma vanta innumerevoli col
 laborazioni\, dai Casino Royale a Neffa con cui ha inciso la bellissima 
 “Aspettando il sole”\, passando per i Bluebeaters\, gruppo di cui è s
 tato frontman e con cui ha pubblicato ben otto dischi.\n\nEnrico Ruggeri\,
  milanese come Palma\, è cantautore di lungo corso\, ma anche conduttore 
 radiofonico\, televisivo e scrittore affermato. Due le statuette di Sanrem
 o nella ricca vetrina dei riconoscimenti ottenuti: ha vinto il Festival ne
 l 1987 con “Si può dare di più” insieme a Gianni Morandi e Umberto T
 ozzi\, e nel 1993 con la canzone “Mistero”.
ATTACH;FMTTYPE=image/jpeg:https://lazioeventi.com/wp-content/uploads/2024/
 08/Concerto-16-agosto-2024-696x934-1.jpeg
CATEGORIES:Musica, Spettacoli e Danza nel Lazio
LOCATION:Cisterna di Latina\, Comune di Cisterna di Latina\, Cisterna di La
 tina\, Latina\, Lazio\, Italia
GEO:41.5927;12.8286
X-APPLE-STRUCTURED-LOCATION;VALUE=URI;X-ADDRESS=Comune di Cisterna di Latin
 a\, Cisterna di Latina\, Latina\, Lazio\, Italia;X-APPLE-RADIUS=100;X-TITL
 E=Cisterna di Latina:geo:41.5927,12.8286
END:VEVENT
BEGIN:VTIMEZONE
TZID:Europe/Rome
X-LIC-LOCATION:Europe/Rome
BEGIN:DAYLIGHT
DTSTART:20240331T030000
TZOFFSETFROM:+0100
TZOFFSETTO:+0200
TZNAME:CEST
END:DAYLIGHT
END:VTIMEZONE
END:VCALENDAR