BEGIN:VCALENDAR
VERSION:2.0
PRODID:-//wp-events-plugin.com//7.2.3.1//EN
TZID:Europe/Rome
X-WR-TIMEZONE:Europe/Rome
BEGIN:VEVENT
UID:27433@lazioeventi.com
DTSTART;TZID=Europe/Rome:20200824T211500
DTEND;TZID=Europe/Rome:20200827T230000
DTSTAMP:20200822T170247Z
URL:https://lazioeventi.com/eventi/note-tra-i-calanchi
SUMMARY:Note tra i Calanchi - Bagnoregio - 24 Agosto 20 21:15
DESCRIPTION:  Festival di Musica Classica e Masterclass di alto perfezionam
 ento   Dopo il successo delle edizioni precedenti\, dal 24 al 27 agosto B
 agnoregio\, presso l’Auditorium Taborra\, ospiterà alle 21.15 conce
 rti\, rigorosamente ad ingresso gratuito e
ATTACH;FMTTYPE=image/jpeg:https://lazioeventi.com/wp-content/uploads/2020/
 08/Note-tra-i-Calanchi.jpg
CATEGORIES:Musica, Spettacoli e Danza nel Lazio
LOCATION:Bagnoregio\, Comune di Bagnoregio\, Bagnoregio\, Viterbo\, Lazio\,
  Italia
GEO:42.6259;12.0986
X-APPLE-STRUCTURED-LOCATION;VALUE=URI;X-ADDRESS=Comune di Bagnoregio\, Bagn
 oregio\, Viterbo\, Lazio\, Italia;X-APPLE-RADIUS=100;X-TITLE=Bagnoregio:ge
 o:42.6259,12.0986
END:VEVENT
BEGIN:VTIMEZONE
TZID:Europe/Rome
X-LIC-LOCATION:Europe/Rome
BEGIN:DAYLIGHT
DTSTART:20200329T030000
TZOFFSETFROM:+0100
TZOFFSETTO:+0200
TZNAME:CEST
END:DAYLIGHT
END:VTIMEZONE
END:VCALENDAR