BEGIN:VCALENDAR
VERSION:2.0
PRODID:-//wp-events-plugin.com//7.2.3.1//EN
TZID:Europe/Rome
X-WR-TIMEZONE:Europe/Rome
BEGIN:VEVENT
UID:42632@lazioeventi.com
DTSTART;TZID=Europe/Rome:20251010T190000
DTEND;TZID=Europe/Rome:20251010T234500
DTSTAMP:20251001T202734Z
URL:https://lazioeventi.com/eventi/notte-bianca-a-monte-mario
SUMMARY:Notte Bianca a Monte Mario - Roma - 10 Ottobre 25 19:00
DESCRIPTION:Il 10 ottobre torna la Notte Bianca a Monte Mario\, con musica\
 , artigianato e divertimento in Piazza di Nostra Signora di Guadalupe fino
  alle 2 del mattino.\n\nIl 10 ottobre torna la Notte Bianca nel Municipio 
 XIV\, un evento che animerà il cuore di Monte Mario fino alle 2 del matti
 no. In Piazza di Nostra Signora di Guadalupe\, i partecipanti potranno god
 ere di musica dal vivo\, cibo\, bancarelle di artigianato e attività per 
 i più piccoli.\n\nL’iniziativa\, alla sua seconda edizione\, è organiz
 zata dall'Associazione Piccoli Mercanti con il patrocinio del Municipio Ro
 ma XIV\, confermandosi un appuntamento atteso e dedicato a tutta la famigl
 ia.
ATTACH;FMTTYPE=image/jpeg:https://lazioeventi.com/wp-content/uploads/2025/
 10/notte-bianca-monte-mario.jpg
CATEGORIES:Arte e Cultura nel Lazio,Sport, Tempo Libero e Divertimento nel
 Lazio,Varie
LOCATION:Roma\, Via Leopardi\, Roma\, Roma\, Lazio\, Italia
GEO:41.8942;12.5017
X-APPLE-STRUCTURED-LOCATION;VALUE=URI;X-ADDRESS=Via Leopardi\, Roma\, Roma\
 , Lazio\, Italia;X-APPLE-RADIUS=100;X-TITLE=Roma:geo:41.8942,12.5017
END:VEVENT
BEGIN:VTIMEZONE
TZID:Europe/Rome
X-LIC-LOCATION:Europe/Rome
BEGIN:DAYLIGHT
DTSTART:20250330T030000
TZOFFSETFROM:+0100
TZOFFSETTO:+0200
TZNAME:CEST
END:DAYLIGHT
END:VTIMEZONE
END:VCALENDAR