BEGIN:VCALENDAR
VERSION:2.0
PRODID:-//wp-events-plugin.com//7.2.3.1//EN
TZID:Europe/Rome
X-WR-TIMEZONE:Europe/Rome
BEGIN:VEVENT
UID:27370@lazioeventi.com
DTSTART;TZID=Europe/Rome:20200821T213000
DTEND;TZID=Europe/Rome:20200822T030000
DTSTAMP:20200819T080023Z
URL:https://lazioeventi.com/eventi/notte-bianca-del-cinema-sotto-le-stelle
SUMMARY:Notte Bianca del Cinema sotto le Stelle - Roma - 21 Agosto 20 21:30
DESCRIPTION:MARATONA CINEMATOGRAFICA AL CASALE ALBA 2 dalle 21.30 a notte f
 onda! La proprietà non è più un furto di Elio Petri ( Italia 1973) Comm
 . 126’ La cosa di John Carpenter (USA 1998) Fant. 109' Giù la testa di 
 Sergio Leone (Italia 1971) Western.150
ATTACH;FMTTYPE=image/jpeg:https://lazioeventi.com/wp-content/uploads/2020/
 08/notte-bianca-cinema.jpg
CATEGORIES:Musica, Spettacoli e Danza nel Lazio
LOCATION:Roma\, Via Leopardi\, Roma\, Roma\, Lazio\, Italia
GEO:41.8942;12.5017
X-APPLE-STRUCTURED-LOCATION;VALUE=URI;X-ADDRESS=Via Leopardi\, Roma\, Roma\
 , Lazio\, Italia;X-APPLE-RADIUS=100;X-TITLE=Roma:geo:41.8942,12.5017
END:VEVENT
BEGIN:VTIMEZONE
TZID:Europe/Rome
X-LIC-LOCATION:Europe/Rome
BEGIN:DAYLIGHT
DTSTART:20200329T030000
TZOFFSETFROM:+0100
TZOFFSETTO:+0200
TZNAME:CEST
END:DAYLIGHT
END:VTIMEZONE
END:VCALENDAR