BEGIN:VCALENDAR
VERSION:2.0
PRODID:-//wp-events-plugin.com//7.2.3.1//EN
TZID:Europe/Rome
X-WR-TIMEZONE:Europe/Rome
BEGIN:VEVENT
UID:36275@lazioeventi.com
DTSTART;TZID=Europe/Rome;VALUE=DATE:20230923
DTEND;TZID=Europe/Rome;VALUE=DATE:20230930
DTSTAMP:20230928T102728Z
URL:https://lazioeventi.com/eventi/notte-europea-dei-ricercatori
SUMMARY:Notte Europea dei Ricercatori - Frascati - 23 Settembre 23 00:00
DESCRIPTION:LEAF 23 Torna la ricerca che ci piace\n\n23 - 30 settembre Sett
 imana della Scienza\, 29 European Researchers’ Night\n\nSi parte con l
 ’evento di lancio del 23 settembre\, che darà il via alle danze mentre 
 l'appuntamento con l’edizione 2023 della Notte dedicata a ricercatori e 
 ricercatrici è fissata\, come ormai da tradizione\, per l’ultimo venerd
 ì di settembre\, che quest’anno sarà il 29. \n\nMa Frascati Scienza\, 
 sempre pronta a stupirvi non si ferma qui: organizza un’intera Settimana
  della Scienza ricchissima di eventi\, da sabato 23 a sabato 30 settembre\
 , per scoprire tutti insieme la...ricerca che ci piace!\n\nLa ricerca che 
 ci piace è divertente\, accessibile\, risolutiva!\n\nLa ricerca che ci pi
 ace è aperta a tutti e parla a tutti!\n\nLa ricerca che ci piace abbracci
 a tutte le età!\n\nQuesti gli obiettivi principali dell’iniziativa sull
 a scia dell’edizione passata: creare l’occasione per regalare\, a tutt
 i i partecipanti\, giornate\, pomeriggi e serate per piantare insieme il s
 eme della consapevolezza. Il tema è sempre LEAF – heaL thE plAnet’s F
 uture\, e gli argomenti trattati riprenderanno gli obiettivi del Green Dea
 l Europeo: dalla fattoria alla tavola\, biodiversità\, economia circolare
 \, zero inquinamento\, ambienti privi di sostanze tossiche\, salute e bene
 ssere\, efficientamento energetico e delle risorse degli edifici\, energia
  sicura\, mobilità smart e sostenibile. \n\nAiutare il pubblico ad aprire
  mente e cuore\, ai più disparati ambiti per comprendere al meglio tutte 
 le sfide che la comunità scientifica affronta\, ogni giorno\, per la nost
 ra salute e benessere\, per l’ecologia\, per tutelare la biodiversità\,
  per proporre un’economia circolare al passo con i tempi\, per studiare 
 sempre nuovi metodi per una mobilità sostenibile ed affrontare e vincere 
 le sfide\, sempre più urgenti\, che il cambiamento climatico impone.\n\nG
 LI EVENTI\n\nSarà possibile incontrare la ricerca che ci piace in tantiss
 ime città\, sparse su tutto il territorio nazionale\, che saranno costell
 ate da centinaia di appuntamenti! Sarà un viaggio lungo e ricco quello de
 lla Settimana della Scienza che quest’anno inizia il 23 settembre e si c
 hiude il 30\, con il clou il 29 settembre\, data ufficiale della Notte Eur
 opea. Piazze\, università\, monumenti storici\, laboratori aperti per l
 ’occasione\, ospedali e scuole: la scienza la troveremo ad attenderci ne
 i posti più disparati! Il programma sul sito www.frascatiscienza.it è in
  costante aggiornamento così come i protagonisti che animeranno gli incon
 tri della Notte Europea dei Ricercatori 2023 LEAF di Frascati Scienza. \n\
 nStay Tuned and… seguici anche sui canali social di Frascati Scienza: \n
 \nFacebook https://www.facebook.com/associazionefrascatiscienza/\n\nInstag
 ram https://www.instagram.com/frascatiscienza/\n\nTwitter https://twitter.
 com/frascatiscienza\n\noppure iscriviti alla nostra newsletter per rimaner
 e sempre aggiornato sul programma eventi e apertura delle prenotazioni dir
 ettamente dal nostro sito www.frascatiscienza.it\n\nLe grandi scoperte\nal
 la Notte Europea dei Ricercatori LEAF\ndi Frascati Scienza\n29 (e 30) sett
 embre\n\nAl Museo Tuscolano Scuderie Aldobrandini di Frascati\, per la pri
 ma volta proprio in occasione della Notte Europea dei Ricercatori e delle 
 Ricercatrici LEAF\, il pubblico potrà ammirare la bellissima statua femmi
 nile\, una baccante di epoca romana di rarissima ed “eterna bellezza”\
 , con piedi perfetti e particolari dell’abito di incredibile fattura\, s
 coperta nel giugno scorso durante l’ultima campagna di scavi al Parco Ar
 cheologico di Tuscolo. Gli archeologi della Escuela Española de Historia 
 y Arqueología en Roma (EEHAR CSIC) l’hanno ritrovata in perfette condiz
 ioni\, nelle Terme Adrianee dell’antica Tuscolo\, area di proprietà del
 la Comunità Montana Castelli Romani e Prenestini. Si tratta di una scoper
 ta di grande importanza che affascinerà il fortunato pubblico che potrà 
 ammirarla: sono\, infatti\, pochissime al mondo (tra cui\, al Museo di Ate
 ne\, l’Afrodite di Epidauro)\, le sculture femminili in marmo di iconogr
 afia paragonabile\, che possono reggere il confronto con la magnifica “m
 enade” di Tuscolo. Per il pubblico\, visite eccezionali in programma il 
 29 e il 30 all’area archeologica\, oggetto degli scavi tra il 2022 e il 
 2023\, e la statua in esposizione al Museo di Frascati dalle 17 in poi\, c
 on la guida degli archeologi. \n\nIl famosissimo Zoosparkle\, al secolo Wi
 lly Guasti\, è in piazza a parlare della scienza dei dinosauri di Jurassi
 c Park la sera del 29\, mentre “La fisica che ci piace” sarà in scena
 \, con il prof. Schettini\, il 30 sera. \n\nTantissimi gli eventi in progr
 amma a Frascati\, dove si concentra una grossa parte del mondo della Ricer
 ca. Tra questi\, gli appuntamenti del Dipartimento di Biomedicina dell’U
 niversità di Roma Tor Vergata in cui si parla di supereroi tecnologici mi
 nuscoli che in gruppo combattono le malattie del cervello\; di “experien
 ce”\, l’intelligenza artificiale avanzata che può creare ambienti vir
 tuali in base a dati personali e può "riavvolgere il nastro"e far riviver
 e esperienze passate\, con la possibilità di cambiare le emozioni associa
 te a esse\; di piccolissime particelle magnetiche che possono diventare in
 terruttori da remoto dei nostri neuroni profondi\; e persino di cappelli s
 peciali che danno un’occhiata nella nostra testa aiutando a curare malat
 tie come l’epilessia. Neuroscienze digitali e realtà virtuali è invece
  il tema di alcuni eventi al Mercato Coperto di Frascati. Porte aperte\, e
 ccezionalmente\, anche al Centro Donato Menichella della Banca d’Italia:
  si potranno vedere l’archivio di centinaia di migliaia di documenti\, u
 na banca dati stratosferica\, i computer e i server potentissimi\, la tecn
 ologia avanzata con occhio all’ambiente per favorire la sostenibilità n
 el ciclo della banconota e poi arte\, e natura: 370mila metri quadri di te
 rreno da cui il centro\, punto nevralgico per l'intero sistema finanziario
  europeo\, opera. \n\nAlle Mura del Valadier di Frascati\, con la Fondazio
 ne AIRC per la ricerca sul cancro\, la ricerca è… al cubo: parliamo di 
 una mostra interattiva che porterà il pubblico in un viaggio alla scopert
 a delle tappe più curiose e affascinanti nello sviluppo della ricerca sui
  tumori. Libri in osteria e giochi sulle donne scienziate\, laboratori\, e
 sperimenti a cui partecipare\, “trasformanimali”\, “alieni ed ecoinv
 asori”\, messaggi segreti dagli ecosistemi\, e ancora tanto tanto altro.
ATTACH;FMTTYPE=image/jpeg:https://lazioeventi.com/wp-content/uploads/2023/
 07/Leaf_Poster_23.jpg
CATEGORIES:Arte e Cultura nel Lazio,Varie
LOCATION:Frascati\, Comune\, Frascati\, Roma\, Lazio\, Italia
GEO:41.807;12.6786
X-APPLE-STRUCTURED-LOCATION;VALUE=URI;X-ADDRESS=Comune\, Frascati\, Roma\, 
 Lazio\, Italia;X-APPLE-RADIUS=100;X-TITLE=Frascati:geo:41.807,12.6786
END:VEVENT
BEGIN:VTIMEZONE
TZID:Europe/Rome
X-LIC-LOCATION:Europe/Rome
BEGIN:DAYLIGHT
DTSTART:20230326T030000
TZOFFSETFROM:+0100
TZOFFSETTO:+0200
TZNAME:CEST
END:DAYLIGHT
END:VTIMEZONE
END:VCALENDAR