BEGIN:VCALENDAR
VERSION:2.0
PRODID:-//wp-events-plugin.com//7.2.3.1//EN
TZID:Europe/Rome
X-WR-TIMEZONE:Europe/Rome
BEGIN:VEVENT
UID:42777@lazioeventi.com
DTSTART;TZID=Europe/Rome:20251104T100000
DTEND;TZID=Europe/Rome:20251206T100000
DTSTAMP:20251017T112745Z
URL:https://lazioeventi.com/eventi/novembre-nordico-tracce-nordiche-roma
SUMMARY:Novembre Nordico. Tracce nordiche - Roma - 4 Novembre 25 10:00
DESCRIPTION:Dal 4 novembre al 6 dicembre Roma celebra il suo legame con le 
 culture nordiche per la quarta edizione di Novembre Nordico. Tracce nordic
 he a Roma promosso dalle Ambasciate di Danimarca\, Finlandia\, Norvegia e 
 Svezia\, il Circolo Scandinavo e i quattro Istituti culturali e scientific
 i nordici: l’Accademia di Danimarca\, l’Istituto di Finlandia a Roma\,
  l’Istituto di Norvegia in Roma\, l’Istituto Svedese di Studi Classici
  a Roma\, che si uniscono per divulgare un ricco programma di iniziative v
 olte a valorizzare il legame storico dei Paesi Nordici con la città di Ro
 ma e per creare nuovi momenti di scambio attraverso mostre\, passeggiate\,
  talk\, concerti\, corsi di cucina\, laboratori per bambini e conferenze. 
 Novembre Nordico. Tracce nordiche a Roma offre una panoramica della cultur
 a nordica con più di 30 eventi in tutta la città di Roma\, di cui molti 
 gratuiti\, spaziando tra design\, arte visiva\, poesia\, letteratura\, mus
 ica\, food\, cinema. \n\n&nbsp\;\n\nDal 28 al 30 ottobre anticipano il pr
 ogramma alcuni appuntamenti imperdibili: inaugura il 28 ottobre la doppia 
 personale di Nanna Susi (FIN) &amp\; Maurizio Savini (ITA) dal titolo SU(d
 ) a Nord a cura di Riikka Vainio presso SUarte Gallery\, in un incontro tr
 a Nord e Sud\, tra spiritualità quotidiana e visione ecologica globale. L
 e opere di Nanna Susi e Maurizio Savini dialogano attraverso la pittura e 
 la scultura\, esplorando la bellezza nei gesti ordinari e il legame profon
 do tra uomo e natura. Apre il 29 ottobre la mostra Asger Jorn a Roma 1
 954 dedicata al pittore danese presso l’Accademia di Danimarca. Jorn (19
 14‑1973) divenne\, negli anni successivi alla seconda guerra mondiale\, 
 uno degli artisti più influenti d’Europa. Oggi è considerato da molti 
 il più importante artista scandinavo\, superato solo da Edvard Munch. F
 ino al 4 dicembre l’esposizione racconta la storia delle mostre dell’a
 rtista danese a Roma attraverso 21 incisioni\, serigrafie e litografie\, n
 onché archivi che furono creati appena prima di questa sua prima esperien
 za in Italia. In occasione dell’esposizione\, l’Accademia di Danimarca
  ha pubblicato un libro che illumina i primi anni di Jorn in Italia grazie
  a una serie di nuove scoperte negli archivi romani. Giovedì 30 ottobre t
 ornano i concerti nella loggia di Villa Lante con Nice Colours – I color
 i del clarinetto al femminile\, in collaborazione con l’Accademia Sibeli
 us di Helsinki\, l’Istituto di Finlandia a Roma presenta\, nella suggest
 iva cornice della loggia cinquecentesca\, il talento di sei compositrici e
  il timbro distintivo del clarinetto solista in un concerto di musica da c
 amera con pianoforte e viola. Protagonista della serata sarà Hanna Hujane
 n\, giovane clarinettista finlandese tra le più interessanti della sua ge
 nerazione\, accanto alla violista Saara Kurki e al pianista Jussi Littunen
 .\n\n&nbsp\;\n\nApre ufficialmente il programma di Novembre Nordico il 4 n
 ovembre la mostra Nordic Table Design 1900 - 1970. Una silenziosa rivoluzi
 one femminile presso la Casa Museo Hendrik Christian Andersen di Roma\, pr
 omossa da Nordic Council of Ministers’ Culture and Art Programme e dal N
 ordisk Kulturfond\, in collaborazione con l’Ambasciata di Danimarca\, l
 ’Ambasciata di Finlandia\, la Reale Ambasciata di Norvegia e l’Ambasci
 ata di Svezia a Roma. La mostra racconta settant’anni di design nordico 
 femminile attraverso una selezione di oggetti per la tavola e analizza il 
 ruolo che designer\, artigiane\, architette\, artiste\, imprenditrici\, pr
 ovenienti da Danimarca\, Finlandia\, Norvegia e Svezia\, hanno avuto nella
  trasformazione della società del XX secolo. Ideata e curata da Fabia Mas
 ciello\, l’esposizione riunisce centrotrenta pezzi in prestito da musei\
 , archivi\, collezioni private e aziende iconiche del Nord Europa\, e mett
 e in luce come il design per la tavola sia stato molto più di una questio
 ne estetica o funzionale. Una rivoluzione\, silenziosa ma profonda\, porta
 ta avanti da queste donne che nel realizzare oggetti belli\, funzionali e 
 accessibili a tutti\, hanno dimostrato che anche un semplice gesto quotidi
 ano può essere un atto di libertà e di ribellione. Aino Aalto\, Estrid E
 ricson\, Nora Gulbrandsen\, Marianne Westman\, Herta Bengtson\, Ulla Proco
 pè\, Grethe Meyer e molte altre designer\, troppo spesso rimaste nell’o
 mbra di colleghi\, compagni e mariti con cui hanno lavorato\, ci guidano i
 n questo viaggio affascinante in cui gli oggetti riflettono le battaglie c
 ulturali e i cambiamenti sociali avvenuti tra l’inizio del Novecento e l
 a fine degli anni Settanta. Nel periodo della mostra saranno anche organiz
 zate visite guidate e laboratori creativi per bambini ispirati al design n
 ordico.\n\n&nbsp\;\n\nIl 5 novembre l’Istituto di Finlandia a Roma apre 
 le porte agli atelier degli artisti in residenza presso Villa Lante con gl
 i Open Studio di Leena Pylkkö e Jyrki Siukonen. Il pubblico è invitato a
  incontrare gli artisti\, scoprire i loro progetti e immergersi nel proces
 so creativo che li accompagna durante il periodo di residenza.\n\nLeena Py
 lkkö lavora nel nuovo atelier Katy Gyllström\, che si trova nel giardino
  di Villa Lante\, mentre Jyrki Siukonen opera nello storico atelier\, inau
 gurato già nel 1964\, situato sul piano terra della Villa. \n\n&nbsp\;\n
 \nSempre il 5 novembre\, in occasione della mostra Nordic table design 190
 0-1970: Una silenziosa rivoluzione femminile\, Circolo Scandinavo ospita p
 resso il museo Hendrik Christian Andersen un incontro dedicato alle protag
 oniste del design nordico del ‘900. La curatrice della mostra\, Fabia Ma
 sciello\, racconta le vite\, le opere e l’eredità di queste grandi desi
 gner. Il tutto accompagnato da una degustazione di tè e da dolci di ispir
 azione nordica. \n\n&nbsp\;\n\nIl 6 novembre l’Accademia di Danimarca o
 spita la proiezione del film: Grethe Meyer: La Regina del design danese (l
 ingua originale con sottotitoli in italiano). Con il suo film documentario
  la regista Isabel Brammer ci guida in un viaggio appassionante alla scope
 rta della vita e dell’opera di Grethe Meyer\, una delle più celebri arc
 hitette e designer danesi del XX secolo. Attraverso materiali d’archivio
 \, testimonianze inedite e una narrazione personale\, il film restituisce 
 il ritratto di una professionista libera\, colta\, tenace e innovativa\, a
 ncora oggi sorprendentemente attuale. Direttamente collegato alla proiezio
 ne\, il 6 novembre\, l’incontro Ogni ricetta ha la sua pentola: un incon
 tro tra design e gastronomia danesi per celebrare i cinquant’anni della 
 serie Ildpot\, l’iconica linea di pentole disegnata da Grethe Meyer. Ne 
 parlano Isabel Bernadette Brammer\, nipote ed erede della Grethe Meyer Des
 ign\, e Fabia Masciello\, curatrice della mostra Nordic Table Design 1900 
 - 1970. Una silenziosa rivoluzione femminile. \n\n&nbsp\;\n\nImmancabili 
 i talk dedicati al pensiero nordico\, venerdì 7 l’Istituto Norvegese di
  Roma ospita la presentazione del volume Livia’s Room – Researching\, 
 Reflecting\, Staging (evento in lingua inglese). Le curatrici Lene Therese
  Teigen (scrittrice e regista) e Lovisa Brännstedt (Università di Lund) 
 illustrano il processo\, la collaborazione e il libro\, nato da un progett
 o a lungo termine tra artiste e accademiche su come la storia viene raccon
 tata e reinterpretata attraverso le discipline e i confini. Con l’epoca 
 romana come sfondo e una prospettiva femminista\, Livia’s Room rilegge l
 a rappresentazione delle donne potenti\, come Livia\, consigliera dell’i
 mperatore Augusto. \n\n&nbsp\;\n\nL’8 novembre la Chiesa di Svezia dedi
 ca un percorso dedicato a Santa Brigida\, un vero e proprio “Cammino sul
 le Orme di Santa Brigida”\, l'obiettivo è sottolineare il legame tra pa
 ssato e presente\, e l'influenza continua degli artisti nordici a Roma.\n\
 nSempre l’8 novembre il Circolo Scandinavo ospita la produzione teatrale
  Livia’s Room / La stanza di Livia\, uno spettacolo in cui linguaggi art
 istici diversi si incontrano e si intrecciano. Il pubblico è invitato a v
 ivere un’esperienza che unisce danza contemporanea\, sequenze d’opera\
 , scene storiche tradizionali e persino gesti artigianali come la filatura
  e la tessitura.\n\nI meravigliosi tessuti traforati dell’artista tessil
 e Ingrid Aarset vengono illuminati mentre otto interpreti si muovono dentr
 o e attraverso le stoffe\, accompagnati da una musica originale composta d
 all’islandese Þuriður Jónsdóttir. I performer danno voce a testi di 
 generi diversi\, tutti scritti da Lene Therese Teigen. \n\n&nbsp\;\n\nDop
 o due anni di lavori di ristrutturazione\, l’Istituto di Finlandia a Rom
 a riapre le porte di Villa Lante al Gianicolo. Nei giorni 12 e 26 novembre
  sarà possibile visitare la villa rinascimentale\, progettata da Giulio R
 omano\, alunno prediletto di Raffaello\, e considerata\, insieme a Villa M
 adama\, una delle ville del ‘500 meglio conservate a Roma. \n\n&nbsp\;\
 n\nUna giornata completamente dedicata ai talk: il 13 novembre. Anche per 
 questa edizione di Novembre Nordico l’Ambasciata di Finlandia dedica un 
 talk al design presso la Rinascente Roma Via del Tritone dal titolo Design
  Finlandese con Helka Parkkinen\, partner fondatrice dello studio finlande
 se KOKO3 di Helsinki\, promosso dall’Ambasciata di Finlandia in partners
 hip con l’Istituto di Finlandia a Roma\, con il patrocinio dell’ ISIA 
 Roma Design e curato da Arianna Callocchia\, con l’intento di presentare
  l’importanza che la Finlandia riserva al tema del design sostenibile ne
 gli spazi dedicati dell’educazione e all’apprendimento. \n\nMentre pe
 r gli amanti della poesia presso l’Accademia di Danimarca si svolge la c
 onferenza: La poesia è una macchina del tempo. Morten Søndergaard\, scri
 ttore e artista\, e Bruno Berni\, ricercatore e traduttore\, dialogheranno
  su temi che spaziano dalla lirica danese contemporanea alla collana di po
 esia Alfabet\, che curano insieme per l’editrice Kolibris. Al centro del
 l’incontro sarà soprattutto la traduzione\, questione cruciale per Søn
 dergaard\, che da anni vive nel nostro paese e trasforma in versi danesi l
 ’esperienza quotidiana di una vita in italiano. A chiudere il cerchio\, 
 talvolta\, è lo stesso Berni\, che riporta in italiano la sua voce\, filt
 rata attraverso la lingua danese.\nPresso l’Istituto svedese di studi cl
 assici a Roma si terrà invece la conferenza Educare alla bellezza: due ca
 se museo tra passato e presente per mettere a confronto due dimore straord
 inarie: Casa Strand\, sulle rive del lago Vättern in Svezia\, di Ellen Ke
 y e Villa Helene nel cuore di Roma\, di Hendrick Christian Andersen. Un vi
 aggio nella vita e nel tempo di chi le ha abitate con le storiche dell’a
 rte Maja Rahm\, direttrice della Ellen Keys Strand\, e Maria Giuseppina Di
  Monte\, direttrice delle Case Museo Hendrik Christian Andersen e Boncompa
 gni Ludovisi.\n\n&nbsp\;\n\nImmancabili i laboratori e le giornate dedicat
 e ai più piccoli: sabato 15 novembre\, alla Casa Museo H. C. Andersen\, i
  bambini possono partecipare a una visita guidata della mostra di Turi Gra
 mstad Oliver e\, a seguire\, al laboratorio artistico Apparecchia la tua t
 avola! ispirato al design nordico. Accompagnati dalla curatrice della most
 ra\, i bambini conosceranno i coloratissimi oggetti per la tavola decorati
  dall’artista norvegese e avranno la possibilità di trasformarsi in pic
 coli designer tra colori\, forme e personaggi immaginari. Per concludere u
 na gustosa merenda in stile nordico. \n\n&nbsp\;\n\nSempre il 15 novembre
  l’Accademia di Danimarca\, progettata dall'architetto Kay Fisker\, apre
  le sue porte\, offrendo un tour guidato dell’edificio con Adelaide Zocc
 hi. Un’occasione unica per immergersi nella splendida storia dell'archit
 ettura nordica\, tra ampie vetrate\, raffinate pavimentazioni ed eleganti 
 porte. Inaugurata nel 1967\, racchiude al suo interno tutti gli elementi d
 istintivi che caratterizzano il funzionalismo danese di Kay Fisker e dei s
 uoi contemporanei.\n\n&nbsp\;\n\nIl 15\, 23 e 30 novembre Circolo Scandina
 vo ha organizzato tre tour a piedi per esplorare le influenze nordiche nel
 la storia della città di Roma. I tour si concentreranno sulle tracce lasc
 iate dagli artisti scandinavi non solo nel XVIII secolo\, ma anche nel XIX
 \, XX e XXI secolo. Ogni tour coprirà diverse aree della città\, visitan
 do istituti scandinavi\, ex residenze di artisti nordici e altri luoghi st
 orici. In ogni tappa\, un'opera di un artista scandinavo sarà presentata 
 in modo creativo\, tramite poesie\, musica o dipinti ispirati a Roma. \n\
 nDomenica 16 novembre Casina di Raffaello e l’Ambasciata di Svezia a Rom
 a propongono una giornata di festa con un ricco programma di attività gra
 tuite per gli 80 anni di Pippi Calzelunghe\, l’eroina fuori dal comune n
 ata dalla fantasia della scrittrice svedese Astrid Lindgren e diventata\, 
 nel tempo\, un’icona della letteratura per l’infanzia.\n\n&nbsp\;\n\nI
 l 17 novembre presso la Casa del Cinema di Roma verrà proiettata una dell
 e opere più sorprendenti del Festival di Cannes 2024\, The Girl with the 
 Needle regia di Magnus von Horn. Una fiaba oscura che racconta la ricerca 
 di tenerezza e moralità da parte di una donna in un mondo spietato. Inqui
 etante e al tempo stesso di rara bellezza\, l’ultimo film dello sceneggi
 atore e regista Magnus von Horn\, candidato danese agli Oscar® come Migli
 or Film Internazionale alla 97ª edizione dell’Academy.\n\nQuest’anno 
 si festeggia anche l’80° anniversario degli adorabili Mumin\, personagg
 i creati dall’autrice finlandese Tove Jansson. I Mumin riflettono i valo
 ri radicati nella società finlandese: la fiducia\, l’uguaglianza\, il w
 elfare\, la sostenibilità. Il 18 novembre è la giornata a tema Mumin\, o
 rganizzata in collaborazione tra l’Ambasciata di Finlandia a Roma\, la c
 asa editrice Iperborea\, e la libreria Spazio Sette\, offre al pubblico it
 aliano la possibilità di immergersi nel fantastico mondo dei Mumin. \nSem
 pre il 18 novembre\, presso l’Istituto Norvegese di Roma\, Francesco d
 ’Angelo\, dottore di ricerca e docente di storia medievale alla Sapienza
  Università di Roma\, presenta il suo libro La Scandinavia medievale (Car
 occi editore\, 2025). Un testo che ripercorre i principali sviluppi politi
 ci\, religiosi\, culturali ed economici verificatisi in Scandinavia nell
 ’arco storico compreso tra la tarda antichità e l’inizio del Cinquece
 nto. In particolare\, l’incontro verte sulle vicende di una minoranza et
 nica\, i Sámi\, e sulle connessioni tra il Nord e il resto d'Europa.\n\nD
 oppio appuntamento giovedì 20 novembre con la conferenza Danza demoniaca 
 sulla scena Nordica. Bournonville\, Ibsen e il ‘tarantismo’ con il Pro
 fessor Bent Holm e il compositore Mauro Patricelli presso l’Accademia di
  Danimarca. Il Romanticismo Nordico individuò la sua più ricca fonte d
 ’ispirazione in Italia. L'ideale di bellezza del periodo si espresse ico
 nicamente nel balletto Napoli di Bournonville\, del 1842\, la cui protagon
 ista femminile\, Teresina\, si ritrova in una zona di tensione tra forze s
 pirituali e demoniache che si risolve nella festosa tarantella finale. Die
 tro queste scene si scorge il ‘tarantismo’\, fenomeno tipico dell'Ital
 ia meridionale\, in cui la possessione del corpo (femminile)\, causata dal
  morso immaginario della tarantola\, viene esorcizzata attraverso musica e
  danza estatica. \nLo stesso giorno inaugura la mostra fotografica Gli sca
 vi svedesi ad Acquarossa (1966–1975) nelle foto di Göran Söderberg pre
 sso l’Istituto Svedese di Studi Classici a Roma\, un percorso visivo che
  racconta l’attività archeologica svedese ad Acquarossa e il suo vivace
  contesto umano e sociale. Tra i protagonisti immortalati compaiono il Re 
 di Svezia Gustavo VI Adolfo\, mecenate dei progetti svedesi in Italia\, e 
 la principessa Cristina di Svezia\, ritratti mentre interagiscono con rice
 rcatori e studenti svedesi. Il fotografo svedese Göran Söderberg (nato n
 el 1946) accompagnò gli scavi dell’Istituto  alla fine degli anni Sess
 anta e nei primi anni Settanta\, realizzando una straordinaria documentazi
 one che va oltre l’aspetto puramente archeologico. Le sue fotografie res
 tituiscono un vivido ritratto della collaborazione tra studiosi svedesi e 
 lavoratori italiani\, della vita quotidiana nei paesi vicini e della sugge
 stiva bellezza paesaggistica dell’Etruria meridionale.\n\nIl 21\, 22 e 2
 9 Novembre torna un evento sempre molto atteso: il Mercatino di Natale org
 anizzato presso la Chiesa di Svezia con addobbi natalizi\, generi alimenta
 ri tipici e dolcetti svedesi.\n\nDopo il successo delle precedenti edizion
 i saranno a Roma artisti\, registi\, ricercatori\, accademici e musicisti 
 nordici per presentare i loro lavori. Il 22 novembre nell’ambito degli e
 venti collaterali alla mostra Nordic Table Design 1900–1970. Una silenzi
 osa rivoluzione femminile\, la Casa Museo Hendrik Christian Andersen ospit
 a il talk Icone del design norvegese: Turi Gramstad Oliver si racconta a R
 oma con Turi Gramstad Oliver\, una delle voci più rappresentative del des
 ign norvegese in conversazione con Torunn Larsen\, storica dell’arte e a
 utrice della monografia Turi (2023)\, e Fabia Masciello\, architetto e cur
 atrice della mostra.\n\nDomenica 23 novembre\, la libreria Eli ospita la p
 resentazione del libro SeGreta Garbo – La prima diva queer di Stefano Ma
 strosimone\, che racconta l’incredibile ascesa dell’attrice svedese di
  fama mondiale e icona glamour Greta Garbo. Una donna talentuosa e determi
 nata che è rimasta sempre fedele a se stessa\, indipendente e anticonform
 ista in un mondo dominato dal potere maschile. \n\nSi prosegue il 24 nove
 mbre con il talk Il pasto visivo/ the visual meal con Constance Gaard Kris
 tiansen e Tonje Sandberg\, designer e fondatrici Odd Standard ospitato dal
 l’Istituto Europeo di Design di Roma si inserisce negli eventi collatera
 li della mostra Nordic table design 1900-1970. Una silenziosa rivoluzione 
 femminile. I migliori chef del mondo quando progettano un nuovo ristorante
  si rivolgono a loro per capire come servire i piatti che hanno ideato: Od
 d Standard ha trascorso gli ultimi undici anni innovando nei materiali di 
 base e nell'artigianato\, cambiando la percezione di ciò che un piatto pu
 ò essere.\n\nIl 26 novembre il programma si sposta virtualmente in Svezia
  con il workshop online per imparare a preparare le autentiche “köttbul
 lar”: le polpette svedesi con chef Carl Löfvenborg. \n\nIl 27 novembre
  l’Ambasciata di Danimarca propone l’ultima conferenza in programma Un
 o non dovrebbe (mai) venire a Roma. Georg Zoëga e l’archeologia con Gia
 nluca Cabula\, archeologo\, Dottorando in Antichità classiche in dialogo 
 con Dario Cecchi\, Ricercatore di Estetica\, dedicata alla figura di Georg
  Zoëga\, importante archeologo e numismatico danese. \n\nUna parte fonda
 mentale del programma è dedicata alla musica: il 27 novembre sempre a Vil
 la Lante al Gianicolo si terrà il Concerto: Omaggio a Sibelius e Schumann
 \, in occasione dei 160 anni dalla nascita di Jean Sibelius\, un itinerari
 o tra poesia nordica e passione romantica tedesca\, interpretato dal barit
 ono Toni Hintsala e dal pianista Mikko Haapaniemi. \n\nDal 27 al 30 Novem
 bre torna il NORDIC FILM FEST\, la rassegna alla sua quattordicesima edizi
 one nata con l’intento di promuovere la cinematografia e la cultura dei 
 Paesi Nordici (Danimarca\, Finlandia\, Islanda\, Norvegia e Svezia) è a c
 ura delle quattro ambasciate nordiche presenti in Italia in collaborazione
  con il Circolo Scandinavo di Roma\, organizzata dalla ITALE20 di Antonio 
 Flamini\, che ne cura anche la direzione artistica. La manifestazione pres
 enterà una selezione della cinematografia nordica degli ultimi anni reali
 zzata in collaborazione con i FilmInstitutes dei rispettivi paesi e alcuni
  distributori\, con il patrocinio della Regione Lazio\, del MIC ed aderisc
 e al Circuito dei Festival Indipendenti di CNA Roma.\n\nChiudono il progra
 mma due appuntamenti dedicati alla letteratura nordica e all’infanzia\, 
 il 29 novembre sarà possibile fare una visita guidata alla mostra Nordic 
 Table Design 1900 - 1970. Una silenziosa rivoluzione femminile presso la C
 asa Museo Hendrik Christian Andersen di Roma con la curatrice e laboratori
 o creativo per bambini ispirato al design nordico Decora la tua tavola. I 
 bambini e le bambine scopriranno il mondo di Kaija Aarikka\, designer finl
 andese che ha trasformato gli oggetti quotidiani in piccoli capolavori uti
 lizzando forme geometriche semplici\, materiali naturali e colori vivaci. 
 Seguirà un laboratorio artistico in cui ogni piccolo partecipante potrà 
 realizzare uno o più oggetti decorativi per la tavola\, ispirati alle cre
 azioni della designer. \n\nInfine il 6 dicembre la Reale Ambasciata di No
 rvegia in collaborazione con Beisler Editore organizza il laboratorio Avve
 nture a colori con Oscar e Ida negli spazi de La Nuvola a partire dal libr
 o Oscar e io di Maria Parr Åshild Irgens e Alice Tonzig. Il progetto del 
 laboratorio si basa sul libro di Parr e si terrà insieme all’illustratr
 ice Åshild Irgens e la traduttrice Alice Tonzig\, con esercizi di disegno
  focalizzati su due temi principali: l'espressione delle emozioni e la fan
 tasia. Il laboratorio è in linea con la promozione e la diffusione della 
 letteratura d’infanzia norvegese\, in occasione del Bologna Children’s
  Book Fair 2026 di cui la Norvegia sarà ospite d’onore.\n\nLa rassegna 
 è inoltre un’occasione per raccontare numerosi luoghi a Roma particolar
 mente importanti per gli esponenti del mondo nordico come il Cimitero Acat
 tolico\, Palazzo Corsini\, Palazzo Capranica\, Palazzo Gerona Correa\, Ant
 ico Caffè Greco\, Villa Lante sul Gianicolo\, Casa di Santa Brigida\, Cas
 a Buti\, Hotel Cecil\, via Sistina e Via Carlo De Bildt. Attraverso una ma
 ppa interattiva online è possibile riscoprire le tracce nordiche in citt
 à\, una guida nel programma e nei luoghi di Novembre Nordico. \n\n&nbsp\
 ;\n\nIL PROGRAMMA COMPLETO SU https://novembrenordico.com/\n\nUfficio Stam
 pa UC STUDIO - press@ucstudio.it\n\nChiara Ciucci Giuliani chiara@ucstudio
 .it - mob 3929173661\n\nRoberta Pucci roberta@ucstudio.it - mob 3408174090
ATTACH;FMTTYPE=image/jpeg:https://lazioeventi.com/wp-content/uploads/2025/
 10/Novembre-nordico-mostra-sul-design-nordico-femminile-eventi-in-comune.j
 pg
CATEGORIES:Arte e Cultura nel Lazio,Varie
LOCATION:Roma\, Via Leopardi\, Roma\, Roma\, Lazio\, Italia
GEO:41.8942;12.5017
X-APPLE-STRUCTURED-LOCATION;VALUE=URI;X-ADDRESS=Via Leopardi\, Roma\, Roma\
 , Lazio\, Italia;X-APPLE-RADIUS=100;X-TITLE=Roma:geo:41.8942,12.5017
END:VEVENT
BEGIN:VTIMEZONE
TZID:Europe/Rome
X-LIC-LOCATION:Europe/Rome
BEGIN:STANDARD
DTSTART:20251026T020000
TZOFFSETFROM:+0200
TZOFFSETTO:+0100
TZNAME:CET
END:STANDARD
END:VTIMEZONE
END:VCALENDAR