BEGIN:VCALENDAR
VERSION:2.0
PRODID:-//wp-events-plugin.com//7.2.3.1//EN
TZID:Europe/Rome
X-WR-TIMEZONE:Europe/Rome
BEGIN:VEVENT
UID:37667@lazioeventi.com
DTSTART;TZID=Europe/Rome;VALUE=DATE:20231111
DTEND;TZID=Europe/Rome;VALUE=DATE:20231203
DTSTAMP:20231107T071940Z
URL:https://lazioeventi.com/eventi/novembre-sorano
SUMMARY:Novembre Sorano - Sora - 11 Novembre 23 00:00
DESCRIPTION:Novembre Sorano 2023\n\nTante le iniziative in programma: teatr
 o\, cinema\, cultura\, musica\, tradizioni popolari e tanto altro.\nDallo 
 street food allo sport\, dal cinema sotto le stelle agli eventi di piazza.
  E ancora: musica\, laboratori\, intrattenimento.\n\nDi seguito la locandi
 na degli appuntamenti a Sora. 
ATTACH;FMTTYPE=image/jpeg:https://lazioeventi.com/wp-content/uploads/2023/
 11/novembre-sorano.jpg
CATEGORIES:Musica, Spettacoli e Danza nel Lazio,Arte e Cultura nel
 Lazio,Sagre, Gastronomia e Tradizioni nel Lazio,Sport, Tempo Libero e
 Divertimento nel Lazio,Varie
LOCATION:Sora\, Comune di Sora\, Sora\, Frosinone\, Lazio\, Italia
GEO:41.7205;13.6139
X-APPLE-STRUCTURED-LOCATION;VALUE=URI;X-ADDRESS=Comune di Sora\, Sora\, Fro
 sinone\, Lazio\, Italia;X-APPLE-RADIUS=100;X-TITLE=Sora:geo:41.7205,13.613
 9
END:VEVENT
BEGIN:VTIMEZONE
TZID:Europe/Rome
X-LIC-LOCATION:Europe/Rome
BEGIN:STANDARD
DTSTART:20231029T020000
TZOFFSETFROM:+0200
TZOFFSETTO:+0100
TZNAME:CET
END:STANDARD
END:VTIMEZONE
END:VCALENDAR