BEGIN:VCALENDAR
VERSION:2.0
PRODID:-//wp-events-plugin.com//7.2.3.1//EN
TZID:Europe/Rome
X-WR-TIMEZONE:Europe/Rome
BEGIN:VEVENT
UID:43581@lazioeventi.com
DTSTART;TZID=Europe/Rome;VALUE=DATE:20260123
DTEND;TZID=Europe/Rome;VALUE=DATE:20260302
DTSTAMP:20260120T120617Z
URL:https://lazioeventi.com/eventi/o-tuono-e-marzo
SUMMARY:'O tuono 'e marzo - Roma - 23 Gennaio 26 00:00
DESCRIPTION:Il fascino senza tempo del teatro napoletano: al Prati Fabio Gr
 avina porta in scena la commedia corale di Vincenzo Scarpetta\, "'O tuono 
 'e marzo"\,  tra arredi d'antiquariato e sartoria storica\n\nIl fascino s
 enza tempo della commedia napoletana rivive nel cuore pulsante di una Roma
  moderna.\n\nNello spazio culturale del Teatro Prati si mescolano una seri
 e di preziosi elementi:\n\nla tradizione del "teatro vero"\, i costumi con
 fezionati seguendo fedelmente le linee sartoriali dell'epoca\, la scenogra
 fia ricostruita con pezzi di antiquariato e la messa in scena di capolavor
 i senza età che conquistano il pubblico.\n\nPer questo motivo Fabio Gravi
 na\, Direttore Artistico di questo teatro\, situato in via degli Scipioni 
 nel quartiere Prati\, ancora una volta ha deciso di portare sul palco uno 
 spettacolo corale:\n\n“ ‘O tuono ‘e marzo”\, commedia di Vincenzo 
 Scarpetta che Eduardo De Filippo portò alla ribalta in televisione con la
  sua presenza e quella di Paolo Stoppa e Rina Morelli.\n\nLo spettacolo\, 
 nel nuovo adattamento di Gravina che è anche uno dei protagonisti\,  sar
 à in scena dal 23 gennaio e fino all’1 marzo 2026 e prodotto da Arte de
 l Teatro.\n\nCast d'eccezione\, Corrado Taranto e Eduardo Ricciardelli\, A
 lida Tarallo\, Pierre Bresolin\, Sara Scotto Di Luzio\, Luca Cardillo\, Mi
 chele Sibilio\, Sara Guardascione\, Alessandro Casola\, per una trama ricc
 a di satira\, ritmi serrati\, intrecci pronti a scatenare le risate degli 
 spettatori.\n\nAl centro la famiglia\, un pilastro che ieri come oggi rest
 a fondamentale.\n\nSofia\, sorella di Don Saverio\, gli confessa di essere
  stata vittima di un fatale avvenimento:\n\ndurante il loro viaggio a Roma
 \, mentre si riposava in albergo\, nella notte era scoppiato un pauroso te
 mporale con tanto di tuoni e fulmini.\n\nImpaurita era uscita dalla sua ca
 mera per trovare rifugio in quella del fratello ma per errore\, e a causa 
 della mancanza di luce\, era entrata in quella di uno sconosciuto ed era s
 venuta per il terribile rumore di un tuono.\n\nL'ignoto individuo aveva co
 lto l'occasione approfittando di lei.\n\nE così da quell'agitato incontro
  era nato Don Felice Sciosciammocca\, figlio naturale e segreto di Sofia\,
  ora fidanzato con Marietta\, figlia di don Saverio.\n\nSofia aveva fatto 
 di tutto per identificare l'uomo che l'aveva oltraggiata.\n\nEra arrivata 
 perfino ad ingaggiare un investigatore privato\, ma senza esito.\n\nPoi un
  giorno l'infido domestico Turillo\, a conoscenza del segreto dopo averlo 
 ascoltato di nascosto durante una conversazione privata\, si dichiara padr
 e di Don Felice\, il quale è ignaro di essere figlio di Donna Sofia.\n\nL
 e cose si complicano ancora di più quando ritorna dall'America Don Alfons
 o Trocoli\, che l'investigatore riconosce come il vero padre di Felice Sci
 osciammocca.\n\nUn gran finale da non perdere.\n\nOrari spettacoli:\n- Dal
  Martedì al Venerdì ore 21:00\n- Sabato ore 17:30 e ore 21:00\n- Domenic
 a e festivi ore 17:30 (ultimo spettacolo della stagione ore 18:00)
ATTACH;FMTTYPE=image/jpeg:https://lazioeventi.com/wp-content/uploads/2026/
 01/locandina-33x70-6-860x1824-1.jpg
CATEGORIES:Musica, Spettacoli e Danza nel Lazio
LOCATION:Roma\, Via Leopardi\, Roma\, Roma\, Lazio\, Italia
GEO:41.8942;12.5017
X-APPLE-STRUCTURED-LOCATION;VALUE=URI;X-ADDRESS=Via Leopardi\, Roma\, Roma\
 , Lazio\, Italia;X-APPLE-RADIUS=100;X-TITLE=Roma:geo:41.8942,12.5017
END:VEVENT
BEGIN:VTIMEZONE
TZID:Europe/Rome
X-LIC-LOCATION:Europe/Rome
BEGIN:STANDARD
DTSTART:20251026T020000
TZOFFSETFROM:+0200
TZOFFSETTO:+0100
TZNAME:CET
END:STANDARD
END:VTIMEZONE
END:VCALENDAR