BEGIN:VCALENDAR
VERSION:2.0
PRODID:-//wp-events-plugin.com//7.2.3.1//EN
TZID:Europe/Rome
X-WR-TIMEZONE:Europe/Rome
BEGIN:VEVENT
UID:39613@lazioeventi.com
DTSTART;TZID=Europe/Rome:20240717T180000
DTEND;TZID=Europe/Rome:20240721T234500
DTSTAMP:20240716T105832Z
URL:https://lazioeventi.com/eventi/octovision-montenero-rock-festival
SUMMARY:Octovision Montenero Rock Festival - San Felice Circeo - 17 Luglio 
 24 18:00
DESCRIPTION:Inizia il Montenero Rock Festival con Musica\, Food & Drinks m
 a soprattutto tanto DIVERTIMENTO a #BorgoMonteneroSan Felice Circeo LT \
 n\nMERCOLEDÌ 17 LUGLIO:\nOre 18:00: Apertura villaggio\, con Area Gonfiab
 ili e Sala Giochi\, Street Food\, Birra alla spina e Cocktail Bar.\nOre 19
 :00>22:00: Liscio & Balli di Gruppo\nOre 22:00>00:00: Live Concert @heroes
 andmonstersband\nOre 00:00>01:00: Disco #Bar con DJ Set\n\n\nGIOVEDÌ 18 L
 UGLIO:\nOre 18:00: Apertura villaggio\, con Area Gonfiabili e Sala Giochi\
 , Street Food\, Birra alla spina e Cocktail Bar.\nOre 19:00>22:00: Liscio 
 & Balli di Gruppo\nOre 22:00>00:00: Live Concert Vivere Vasco tribute band
 \nOre 00:00>01:00: Disco #Bar con DJ Set.\n\n\nVENERDÌ 19 LUGLIO:\nOre 18
 :00: Apertura villaggio\, con Area Gonfiabili e Sala Giochi\, Street Food\
 , Birra alla spina e Cocktail Bar.\nOre 19:00>22:00: Liscio & Balli di Gru
 ppo\nOre 22:00>00:00: Live Concert Bad Romance - Tribute Band Official Lad
 y Gaga\nOre 00:00>01:00: Disco #Bar con DJ Set.\n\n\nSABATO 20 LUGLIO:\nOr
 e 18:00: Apertura villaggio\, con Area Gonfiabili e Sala Giochi\, Street F
 ood\, Birra alla spina e Cocktail Bar.\nOre 19:00>22:00: Liscio & Balli di
  Gruppo\nOre 22:00>00:00: Live Concert #Musicando\nOre 00:00>01:00: Disco
  #Bar con DJ Set.\n\n\nDOMENICA 21 LUGLIO:\nOre 18:00: Apertura villaggio\
 , con Area Gonfiabili e Sala Giochi\, Street Food\, Birra alla spina e Coc
 ktail Bar.\nOre 19:00>22:00: Liscio & Balli di Gruppo\nOre 22:00>00:00: Li
 ve concert Big Ones Aerosmith Tribute Band\nOre 00:00>01:00: Disco #Bar 
 con DJ Set.
ATTACH;FMTTYPE=image/jpeg:https://lazioeventi.com/wp-content/uploads/2024/
 07/Montenero-Rock-Festival.jpg
CATEGORIES:Musica, Spettacoli e Danza nel Lazio,Sport, Tempo Libero e
 Divertimento nel Lazio
LOCATION:San Felice Circeo\, Comune\, San Felice Circeo\, Latina\, Lazio\, 
 Italia
GEO:41.2331;13.0885
X-APPLE-STRUCTURED-LOCATION;VALUE=URI;X-ADDRESS=Comune\, San Felice Circeo\
 , Latina\, Lazio\, Italia;X-APPLE-RADIUS=100;X-TITLE=San Felice Circeo:geo
 :41.2331,13.0885
END:VEVENT
BEGIN:VTIMEZONE
TZID:Europe/Rome
X-LIC-LOCATION:Europe/Rome
BEGIN:DAYLIGHT
DTSTART:20240331T030000
TZOFFSETFROM:+0100
TZOFFSETTO:+0200
TZNAME:CEST
END:DAYLIGHT
END:VTIMEZONE
END:VCALENDAR