BEGIN:VCALENDAR
VERSION:2.0
PRODID:-//wp-events-plugin.com//7.2.3.1//EN
TZID:Europe/Rome
X-WR-TIMEZONE:Europe/Rome
BEGIN:VEVENT
UID:33148@lazioeventi.com
DTSTART;TZID=Europe/Rome:20221125T210000
DTEND;TZID=Europe/Rome:20221125T223000
DTSTAMP:20221119T071724Z
URL:https://lazioeventi.com/eventi/offprint-2-antologia-delle-moire
SUMMARY:OFFPRINT 2 – Antologia delle Moire - Gradoli - 25 Novembre 22 21:
 00
DESCRIPTION:Parte la prossima settimana una piccola rassegna di tre spettac
 oli al Teatro comunale A. Farnese di Gradoli\, targata teatro Null.\n\nSi 
 comincia venerdì 25 con un gradito ritorno\, l’MP3 Dance Project di Rom
 a\, con un nuovo spettacolo: “OFFPRINT 2 – Antologia delle Moire”. \
 nLa pièce è il frutto di un lungo processo creativo sul tema del mito in
 iziato nel 2020 che ha visto impegnata la Compagnia MP3 Dance Project nell
 a messa in scena di due studi: Nyx (2020) e Love Before Us (2022). \nUna s
 erata proposta dal Teatro Null per guidare lo spettatore nel mondo della d
 anza moderna e svelarne alcuni dettagli legati alla preparazione della cor
 eografia.  \n\nPoi ci sarà un appuntamento per grandi e piccini “Pinocc
 hio o il rifiuto di crescere”\, nostra produzione. \nE’ tratto dalla F
 ilastrocca di G. Rodari dedicata al burattino più famoso al mondo. La par
 ticolarità della nostra operazione su questo Pinocchio\, sta nell’uso d
 ei dialetti per i vari personaggi. \nSiamo in due in scena\, io e Ennio Cu
 ccuini\, ma la gamma di timbri vocali e dialetti usati\, ci danno la possi
 bilità di creare un racconto polifonico che racchiude tutto il mondo di P
 inocchio. \n\nSi chiuderà l’11 dicembre con un concerto molto\, ma molt
 o speciale\, con il gruppo romano di McGraffio\, un concerto come dire\, t
 agliente e graffiante e non anticipo altro! Sosteneteci....\n\nVi aspettia
 mo.\n\nIngresso intero € 10\,00\, ridotto € 7\,00.\nInfo: 3471103270 
 – iportidellateverina.it\n
ATTACH;FMTTYPE=image/jpeg:https://lazioeventi.com/wp-content/uploads/2022/
 11/offspring.jpg
CATEGORIES:Musica, Spettacoli e Danza nel Lazio
LOCATION:Gradoli\, Comune\, Gradoli\, Viterbo\, Lazio\, Italia
GEO:42.6441;11.8562
X-APPLE-STRUCTURED-LOCATION;VALUE=URI;X-ADDRESS=Comune\, Gradoli\, Viterbo\
 , Lazio\, Italia;X-APPLE-RADIUS=100;X-TITLE=Gradoli:geo:42.6441,11.8562
END:VEVENT
BEGIN:VTIMEZONE
TZID:Europe/Rome
X-LIC-LOCATION:Europe/Rome
BEGIN:STANDARD
DTSTART:20221030T020000
TZOFFSETFROM:+0200
TZOFFSETTO:+0100
TZNAME:CET
END:STANDARD
END:VTIMEZONE
END:VCALENDAR