BEGIN:VCALENDAR
VERSION:2.0
PRODID:-//wp-events-plugin.com//7.2.3.1//EN
TZID:Europe/Rome
X-WR-TIMEZONE:Europe/Rome
BEGIN:VEVENT
UID:32374@lazioeventi.com
DTSTART;TZID=Europe/Rome;VALUE=DATE:20220930
DTEND;TZID=Europe/Rome;VALUE=DATE:20221003
DTSTAMP:20220918T192045Z
URL:https://lazioeventi.com/eventi/oktober-fox
SUMMARY:Oktober Fox - Roma - 30 Settembre 22 00:00
DESCRIPTION:Una tre giorni con Fiumi di Birra Tedesca Arrosticini Abruzzesi
  e tanto altre\,  non mancare ti aspettiamo con tanta allegria sete e fam
 e!!!!!\n\nVia Ettore Stampini 36 Roma\n\nC/o il Circolo "The Fox"
ATTACH;FMTTYPE=image/jpeg:https://lazioeventi.com/wp-content/uploads/2022/
 09/IMG-20220910-WA0016.jpg
CATEGORIES:Sagre, Gastronomia e Tradizioni nel Lazio,Sport, Tempo Libero e
 Divertimento nel Lazio
LOCATION:Roma\, Via Leopardi\, Roma\, Roma\, Lazio\, Italia
GEO:41.8942;12.5017
X-APPLE-STRUCTURED-LOCATION;VALUE=URI;X-ADDRESS=Via Leopardi\, Roma\, Roma\
 , Lazio\, Italia;X-APPLE-RADIUS=100;X-TITLE=Roma:geo:41.8942,12.5017
END:VEVENT
BEGIN:VTIMEZONE
TZID:Europe/Rome
X-LIC-LOCATION:Europe/Rome
BEGIN:DAYLIGHT
DTSTART:20220327T030000
TZOFFSETFROM:+0100
TZOFFSETTO:+0200
TZNAME:CEST
END:DAYLIGHT
END:VTIMEZONE
END:VCALENDAR