BEGIN:VCALENDAR
VERSION:2.0
PRODID:-//wp-events-plugin.com//7.2.3.1//EN
TZID:Europe/Rome
X-WR-TIMEZONE:Europe/Rome
BEGIN:VEVENT
UID:32012@lazioeventi.com
DTSTART;TZID=Europe/Rome:20220818T200000
DTEND;TZID=Europe/Rome:20220820T233000
DTSTAMP:20220813T070857Z
URL:https://lazioeventi.com/eventi/oliveto-in-festival
SUMMARY:Oliveto in Festival - Rieti - 18 Agosto 22 20:00
DESCRIPTION:Torna Oliveto in Festival!\n3 giorni di BIRRA ARTIGIANALE\, cib
 o locale e concerti!\n\n18 Agosto\nConcerto Keet&amp\;More\nMenu\nPizza co
 tta nel forno a legna\nFritti misti\n\n19 Agosto\nConcerto I trillanti\nMe
 nu\nPizze fritte farcite\nPatatine fritte\n\n20 Agosto\nConcerto Regina Qu
 een Tribute\nMenu\nArrosticini\nPanini con porchetta o con salsiccia\n\nBi
 rrifici Boerboel - Altaquota - Bravehope!\n\nSeguici su Instagram e Faceb
 ook oppure scrivici a olivetoinfestival@gmail.com
ATTACH;FMTTYPE=image/jpeg:https://lazioeventi.com/wp-content/uploads/2022/
 07/CA28DED9-EFD2-45A9-B4A9-81D8D7ACC808.jpeg
CATEGORIES:Musica, Spettacoli e Danza nel Lazio
LOCATION:Rieti\, Comune di Rieti\, Rieti\, Rieti\, Lazio\, Italia
GEO:42.403;12.8609
X-APPLE-STRUCTURED-LOCATION;VALUE=URI;X-ADDRESS=Comune di Rieti\, Rieti\, R
 ieti\, Lazio\, Italia;X-APPLE-RADIUS=100;X-TITLE=Rieti:geo:42.403,12.8609
END:VEVENT
BEGIN:VTIMEZONE
TZID:Europe/Rome
X-LIC-LOCATION:Europe/Rome
BEGIN:DAYLIGHT
DTSTART:20220327T030000
TZOFFSETFROM:+0100
TZOFFSETTO:+0200
TZNAME:CEST
END:DAYLIGHT
END:VTIMEZONE
END:VCALENDAR