BEGIN:VCALENDAR
VERSION:2.0
PRODID:-//wp-events-plugin.com//7.2.3.1//EN
TZID:Europe/Rome
X-WR-TIMEZONE:Europe/Rome
BEGIN:VEVENT
UID:40058@lazioeventi.com
DTSTART;TZID=Europe/Rome:20241017T163000
DTEND;TZID=Europe/Rome:20241017T183000
DTSTAMP:20241015T144535Z
URL:https://lazioeventi.com/eventi/omaggio-a-gian-maria-volonte
SUMMARY:Omaggio a Gian Maria Volonté - Roma - 17 Ottobre 24 16:30
DESCRIPTION:Appuntamento il 17 ottobre\, alle 16.30\, presso la Casa del Ci
 nema a Villa Borghese con la proiezione del film "La mort de Mario Ricci"\
 , di cui Volonté è protagonista\n\nLa Scuola Volonté e la Festa del Cin
 ema di Roma ricordano Gian Maria Volonté\, a trent'anni dalla scomparsa\,
  con la proiezione del film La mort de Mario Ricci di Claude Goretta\, che
  valse al grande attore italiano il Premio per la Migliore interpretazione
  maschile al Festival di Cannes del 1983.\n\nL'iniziativa si terrà gioved
 ì 17 ottobre\, alle ore 16.30\, presso la Casa del Cinema a Villa Borghes
 e\, nell'ambito del programma ufficiale della Festa. La proiezione sarà i
 ntrodotta da Antonio Medici\, coordinatore generale della Scuola Volonté\
 , e dalle testimonianze dell'attrice Angelica Ippolito (Premio David di Do
 natello 1977)\, compagna di Volonté negli ultimi dieci anni della sua vit
 a\, e da Felice Laudadio\, che nella sua lunga carriera nel cinema italian
 o (tra l'altro\, è stato presidente del Centro Sperimentale di Cinematogr
 afia e di Cinecittà Holding\; ha diretto la Mostra del cinema di Venezia\
 ; è ideatore e direttore del Bif&amp\;st di Bari)\, ha avuto modo di stri
 ngere un rapporto professionale e privato con il grande attore.\n\nLa mort
  de Mario Ricci ha circolato poco in Italia\, e la Scuola ha accolto la pr
 oposta di ripresentarlo di Giovanna Gravina Volonté\, ideatrice e direttr
 ice artistica del festival dedicato al padre "La Valigia dell'Attore"\, ch
 e dal 2003 si svolge nell'Isola della Maddalena. Il protagonista del film\
 , il reporter televisivo Bernard Fontana (interpretato da Volonté) si rec
 a in una cittadina svizzera per intervistare un famoso sociologo. Qui vien
 e per caso a conoscenza della misteriosa morte di Mario Ricci\, un lavorat
 ore italiano immigrato coinvolto in un incidente stradale\, e decide di in
 dagare sul fatto. Emergono così tensioni e pregiudizi nascosti sotto l'ap
 parente tranquillità della vita di provincia. Volonté aveva creduto molt
 o nel personaggio propostogli da Goretta\, come afferma in un'intervista a
 pparsa sul settimanale "Epoca": "Ho lavorato quasi due anni a questo film.
  Volevo arrivare in profondità a questo viaggio immobile\, quasi senza ge
 sti e senza parole\, all’interno di un personaggio che ha coinciso con q
 uello che sono io oggi".\n\nGian Maria Volonté è morto il 6 dicembre 199
 4\, durante le riprese del film Lo sguardo di Ulisse di Theo Angelopoulos.
  Quest'anno\, in occasione del trentennale della scomparsa\, vi sono state
  diverse iniziative di memoria\, tra cui la mostra "Gian Maria Volonté 30
 "\, con le foto di scena di Enrico Appetito\, organizzata dall'omonimo Arc
 hivio nel marzo 2024 presso WEGIL\, l'Hub culturale della Regione Lazio a 
 Roma\; il film Volonté. L'uomo dai mille volti di Francesco Zippel\, pres
 entato all'ultima Mostra Internazionale d'Arte Cinematografica di Venezia\
 ; il festival "La Valigia dell'Attore"\, la cui prima parte si è svolta a
  luglio\, con l'assegnazione del Premio Volonté all'attrice Sonia Bergama
 sco\, mentre la seconda parte è in programma dal 6 all'8 dicembre 2024\, 
 nell'isola della Maddalena\, per chiudere idealmente un anno di iniziative
  dedicate al lavoro artistico e all'impegno civile di Gian Maria Volonté.
 \n\nLa Scuola d’Arte Cinematografica Gian Maria Volonté è un Centro di
  formazione professionale della Regione Lazio\, dedicato alle professioni 
 del cinema. Il percorso formativo triennale\, gratuito\, è cofinanziato d
 al Fondo Sociale Europeo e gestito tramite convenzione dalla società regi
 onale LAZIOcrea S.p.A.
ATTACH;FMTTYPE=image/jpeg:https://lazioeventi.com/wp-content/uploads/2024/
 10/morte-mario-ricci_post-1.jpg
CATEGORIES:Musica, Spettacoli e Danza nel Lazio
LOCATION:Roma\, Via Leopardi\, Roma\, Roma\, Lazio\, Italia
GEO:41.8942;12.5017
X-APPLE-STRUCTURED-LOCATION;VALUE=URI;X-ADDRESS=Via Leopardi\, Roma\, Roma\
 , Lazio\, Italia;X-APPLE-RADIUS=100;X-TITLE=Roma:geo:41.8942,12.5017
END:VEVENT
BEGIN:VTIMEZONE
TZID:Europe/Rome
X-LIC-LOCATION:Europe/Rome
BEGIN:DAYLIGHT
DTSTART:20240331T030000
TZOFFSETFROM:+0100
TZOFFSETTO:+0200
TZNAME:CEST
END:DAYLIGHT
END:VTIMEZONE
END:VCALENDAR