BEGIN:VCALENDAR
VERSION:2.0
PRODID:-//wp-events-plugin.com//7.2.3.1//EN
TZID:Europe/Rome
X-WR-TIMEZONE:Europe/Rome
BEGIN:VEVENT
UID:38427@lazioeventi.com
DTSTART;TZID=Europe/Rome;VALUE=DATE:20240203
DTEND;TZID=Europe/Rome;VALUE=DATE:20240204
DTSTAMP:20240131T125353Z
URL:https://lazioeventi.com/eventi/omaggio-a-little-tony-raduno-ferrari
SUMMARY:Omaggio a Little Tony & Raduno Ferrari - Priverno - 3 Febbraio 24 0
 0:00
DESCRIPTION:La Città di Priverno si prepara ad accogliere le Rosse di Mara
 nello ed il Rock and Roll di Little Tony.\nL’evento\, in programma sabat
 o 3 febbraio\, è organizzato dal Comune di Priverno\, in collaborazione c
 on il “Complesso Bandistico Città di Priverno” e “Notizie dal Campo
 ”\, sotto la direzione artistica del M. Walter Fantozzi e\, organizzativ
 a\, del presidente Gianni Pucci.\n\nLa manifestazione vuole essere un trib
 uto alla musica e alla persona di Little Tony e vedrà la straordinaria pa
 rtecipazione della figlia\, Cristiana Ciacci\, del suo primo tastierista\,
  il Maestro Gianni Mazza\, del road manager storico\, Valerio Degli Abbati
 \, oltre che dell’attuale manager della “Little Tony Family” e stori
 co musicista\, Angelo Petruccetti.\n\nIl programma della giornata prevede\
 , alle ore 15.00\, l’arrivo delle Ferrari in Piazza Giovanni XXIII\; all
 e ore 16\,00\, l’esposizione e la sfilata delle Rosse di Maranello per l
 e vie della città\; alle ore 17.00\, una conferenza stampa di presentazio
 ne e alle ore 21.00\, il grande concerto “OMAGGIO A LITTLE TONY”\, cur
 ato dal Complesso Bandistico Città di Priverno e diretto dalla Maestra Fe
 derica D’Arcangeli\, affiancata per l’occasione dal direttore artistic
 o\, Maestro Walter Fantozzi\, oltre che dai Maestri Ilario Polidoro e Gian
 ni Pucci.\n\nLa presenza delle Rosse di Maranello\, nell’ambito della ma
 nifestazione\, omaggia Little Tony per la sua nota passione per il “cava
 llino rampante”.\nInterverrà per l’occasione la Scuderia Ferrari “R
 oma Appia Antica” di cui Little Tony è stato fondatore e presidente ono
 rario ed il Circolo Pontino della “La manovella”.\n\nDurante l’Omagg
 io musicale\, che si terrà alle ore 21.00 presso il Teatro Comunale “Gi
 gi Proietti”\, saranno riproposti i migliori cavalli di battaglia dell
 ’artista\, alcuni dei quali suonati dalla Band originale di Little Tony 
 che\, durante la serata si unirà al Complesso Bandistico per un unico gra
 nde omaggio musicale.
ATTACH;FMTTYPE=image/jpeg:https://lazioeventi.com/wp-content/uploads/2024/
 01/sabato-3-febbraio-2024.jpg
CATEGORIES:Musica, Spettacoli e Danza nel Lazio,Sport, Tempo Libero e
 Divertimento nel Lazio
LOCATION:Priverno\, Comune di Priverno\, Priverno\, Latina\, Lazio\, Italia
GEO:41.4734;13.1817
X-APPLE-STRUCTURED-LOCATION;VALUE=URI;X-ADDRESS=Comune di Priverno\, Priver
 no\, Latina\, Lazio\, Italia;X-APPLE-RADIUS=100;X-TITLE=Priverno:geo:41.47
 34,13.1817
END:VEVENT
BEGIN:VTIMEZONE
TZID:Europe/Rome
X-LIC-LOCATION:Europe/Rome
BEGIN:STANDARD
DTSTART:20231029T020000
TZOFFSETFROM:+0200
TZOFFSETTO:+0100
TZNAME:CET
END:STANDARD
END:VTIMEZONE
END:VCALENDAR