BEGIN:VCALENDAR
VERSION:2.0
PRODID:-//wp-events-plugin.com//7.2.3.1//EN
TZID:Europe/Rome
X-WR-TIMEZONE:Europe/Rome
BEGIN:VEVENT
UID:41313@lazioeventi.com
DTSTART;TZID=Europe/Rome;VALUE=DATE:20250427
DTEND;TZID=Europe/Rome;VALUE=DATE:20250512
DTSTAMP:20250423T054603Z
URL:https://lazioeventi.com/eventi/omaggio-a-picasso
SUMMARY:Omaggio a Picasso - Roma - 27 Aprile 25 00:00
DESCRIPTION:OMAGGIO A PICASSO\n\nMostra collettiva internazionale alla Gall
 eriaStudioCiCo\n\n27 aprile 2025 - 11 maggio 2025\n\nVia Gallese 8\, 10\, 
 12 Roma\n\nLa GalleriaStudioCiCo è lieta di annunciare l’inaugurazione 
 della mostra collettiva internazionale OMAGGIO A PICASSO\, che si terrà s
 abato 27 aprile alle ore 12.00 presso i suoi spazi in via Gallese 8\, Roma
 .\n\nLa mostra sarà presentata dal critico d’arte prof. Piero Zanetov e
  curata dalla pittrice e curatrice Cinzia Cotellessa\, e resterà aperta a
 l pubblico fino all’11 maggio\, dal lunedì al sabato\, esclusi i festiv
 i\, con orario 12.00 – 19.30.\n\nCon questa collettiva\, la GalleriaStud
 ioCiCo intende rendere tributo a una delle figure più influenti e rivoluz
 ionarie dell’arte del Novecento: Pablo Picasso. Un artista che\, con la 
 sua incessante ricerca e innovazione\, ha tracciato una profonda cesura ne
 lla storia dell’arte moderna\, influenzando generazioni di artisti fino 
 ai giorni nostri.\n\nOMAGGIO A PICASSO raccoglie le opere di dodici artist
 i contemporanei che\, attraverso linguaggi differenti – pittura\, scultu
 ra e installazione – offrono una rilettura personale e intima dell’ere
 dità artistica picassiana. Un dialogo emozionale che si fa messaggio\, po
 nte tra passato e presente\, tra memoria e futuro.\n\nLa mostra si propone
  come un momento di riflessione sul ruolo dell’arte oggi: emozione\, sen
 timento\, comunicazione e memoria. In un mondo che corre veloce e spesso d
 imentica\, questa esposizione invita a soffermarsi\, a guardare\, a sentir
 e.\n\nArtisti in mostra sono Claudio Alicandri\, Franco Bacci\, Dalma Cimi
 no\, Cinzia Cotellessa\, Federica Frati\, Luigi Giambitto\, Assunta Improt
 a\, Barbara Maresti\, Ruggero Marino\, Filomena Petrucci\, Germana Ponti\,
  Serena Rapanotti\, Donatella Ricci Piccirilli\, Filippo Romagnoli\, Lilia
 na Sarrocco e Giancarlo Valdinoci.\n\nUna mostra intensa e variegata\, dov
 e ogni opera diventa eco della potenza creativa di Picasso\, ma anche espr
 essione unica e originale dell’autore che la firma.\n\nIngresso libero.\
 n\nPer informazioni:\nGalleriaStudioCiCo – via Gallese 8\, 10\, 12 Roma\
 nOrari mostra: lun-sab 12.00 – 19.30 (festivi esclusi)\nContatti: cotell
 essacinzia@gmail.com
ATTACH;FMTTYPE=image/jpeg:https://lazioeventi.com/wp-content/uploads/2025/
 04/omaggio-a-picasso.jpeg
CATEGORIES:Arte e Cultura nel Lazio
LOCATION:Roma\, Via Leopardi\, Roma\, Roma\, Lazio\, Italia
GEO:41.8942;12.5017
X-APPLE-STRUCTURED-LOCATION;VALUE=URI;X-ADDRESS=Via Leopardi\, Roma\, Roma\
 , Lazio\, Italia;X-APPLE-RADIUS=100;X-TITLE=Roma:geo:41.8942,12.5017
END:VEVENT
BEGIN:VTIMEZONE
TZID:Europe/Rome
X-LIC-LOCATION:Europe/Rome
BEGIN:DAYLIGHT
DTSTART:20250330T030000
TZOFFSETFROM:+0100
TZOFFSETTO:+0200
TZNAME:CEST
END:DAYLIGHT
END:VTIMEZONE
END:VCALENDAR