BEGIN:VCALENDAR
VERSION:2.0
PRODID:-//wp-events-plugin.com//7.2.3.1//EN
TZID:Europe/Rome
X-WR-TIMEZONE:Europe/Rome
BEGIN:VEVENT
UID:41091@lazioeventi.com
DTSTART;TZID=Europe/Rome:20250412T160000
DTEND;TZID=Europe/Rome:20250412T183000
DTSTAMP:20250331T074331Z
URL:https://lazioeventi.com/eventi/omogirando-castelnuovo-di-porto-e-la-mo
 stra-da-picasso-a-warhol
SUMMARY:Omogirando Castelnuovo di Porto e la mostra Da Picasso a Warhol - C
 astelnuovo di Porto - 12 Aprile 25 16:00
DESCRIPTION:Sabato 12 aprile abbiamo organizzato la visita guidata LGBTQIA+
  friendly Omogirando Castelnuovo di Porto e la mostra Da Picasso a Warhol\
 , le Vinyl Cover dei Grandi Maestri!\n\nUn pomeriggio alla scoperta del ce
 ntro storico di Castelnuovo e della Rocca Colonna.La visita comprenderà l
 a mostra Da Picasso a Warhol dedicata alle copertine d’artista dei vinil
 i. \nDopo la visita\, in forma facoltativa\, ci sarà la possibilità di a
 ssistere alla performance teatrale site specific Io e il Principe portata 
 in scena dalla compagnìa teatrale Carmentalia.\n\nRaccomandiamo di legger
 e accuratamente le norme di partecipazione nel sito.\n\nINFO E PRENOTAZION
 I\nhttps://omogirando.jimdofree.com/le-prossime-uscite/\n\n______\n\nCos
 ’è OmoGirando?\nhttps://omogirando.jimdo.com/chi-siamo/
ATTACH;FMTTYPE=image/jpeg:https://lazioeventi.com/wp-content/uploads/2025/
 03/Da-Picasso-a-Warhol.jpg
CATEGORIES:Arte e Cultura nel Lazio
LOCATION:Castelnuovo di Porto\, Comune\, Castelnuovo di Porto\, Roma\, Lazi
 o\, Italia
GEO:42.1284;12.5013
X-APPLE-STRUCTURED-LOCATION;VALUE=URI;X-ADDRESS=Comune\, Castelnuovo di Por
 to\, Roma\, Lazio\, Italia;X-APPLE-RADIUS=100;X-TITLE=Castelnuovo di Porto
 :geo:42.1284,12.5013
END:VEVENT
BEGIN:VTIMEZONE
TZID:Europe/Rome
X-LIC-LOCATION:Europe/Rome
BEGIN:DAYLIGHT
DTSTART:20250330T030000
TZOFFSETFROM:+0100
TZOFFSETTO:+0200
TZNAME:CEST
END:DAYLIGHT
END:VTIMEZONE
END:VCALENDAR