BEGIN:VCALENDAR
VERSION:2.0
PRODID:-//wp-events-plugin.com//7.2.3.1//EN
TZID:Europe/Rome
X-WR-TIMEZONE:Europe/Rome
BEGIN:VEVENT
UID:42537@lazioeventi.com
DTSTART;TZID=Europe/Rome:20251026T100000
DTEND;TZID=Europe/Rome:20251026T130000
DTSTAMP:20250923T100343Z
URL:https://lazioeventi.com/eventi/omogirando-il-cimitero-acattolico
SUMMARY:OmoGirando il Cimitero Acattolico - Roma - 26 Ottobre 25 10:00
DESCRIPTION:Domenica 26 ottobre a Roma abbiamo organizzato la visita guidat
 a LGBTQIA+ friendly OmoGirando il Cimitero Acattolico!\n\nUna visita al ci
 mitero monumentale della Piramide Cestia e alle sue varie sezioni. Passere
 mo in rassegna tombe di grande pregio artistico ed altre più umili che pe
 rò sono l’ultima dimora di personaggi famosi della letteratura\, dell
 ’arte\, della politica e\, in alcuni casi\, della storia del movimento L
 GBTQIA.\n\nRaccomandiamo di leggere accuratamente le norme di partecipazio
 ne nel sito.\n\nINFO E PRENOTAZIONI\n\nhttps://omogirando.jimdo.com/le-pro
 ssime-uscite/\n\n_______\n\nCos'è OmoGirando?\n\nhttps://omogirando.jimdo
 .com/chi-siamo/
ATTACH;FMTTYPE=image/jpeg:https://lazioeventi.com/wp-content/uploads/2025/
 09/Jacques-Sablet-Elegia-Romana-1791.jpg
CATEGORIES:Arte e Cultura nel Lazio
LOCATION:Roma\, Via Leopardi\, Roma\, Roma\, Lazio\, Italia
GEO:41.8942;12.5017
X-APPLE-STRUCTURED-LOCATION;VALUE=URI;X-ADDRESS=Via Leopardi\, Roma\, Roma\
 , Lazio\, Italia;X-APPLE-RADIUS=100;X-TITLE=Roma:geo:41.8942,12.5017
END:VEVENT
BEGIN:VTIMEZONE
TZID:Europe/Rome
X-LIC-LOCATION:Europe/Rome
BEGIN:STANDARD
DTSTART:20251026T020000
TZOFFSETFROM:+0200
TZOFFSETTO:+0100
TZNAME:CET
END:STANDARD
END:VTIMEZONE
END:VCALENDAR