BEGIN:VCALENDAR
VERSION:2.0
PRODID:-//wp-events-plugin.com//7.2.3.1//EN
TZID:Europe/Rome
X-WR-TIMEZONE:Europe/Rome
BEGIN:VEVENT
UID:38833@lazioeventi.com
DTSTART;TZID=Europe/Rome:20240413T163000
DTEND;TZID=Europe/Rome:20240413T193000
DTSTAMP:20240322T174731Z
URL:https://lazioeventi.com/eventi/omogirando-il-lido-di-ostia-2
SUMMARY:OmoGirando il Lido di Ostia - Roma - 13 Aprile 24 16:30
DESCRIPTION:Sabato 13 aprile a Roma ci sarà la visita guidata LGBTQIA Fr
 iendly OmoGirando il Lido di Ostia!\n\n“Il Lido di Ostia?!? Ma non c’
 è niente!”\n\nAvete pensato questo? Ma nooo! Invece ne ha di storie da 
 raccontare. Vi proponiamo un piacevole tour pomeridiano alla scoperta del 
 quartiere marino di Roma tra narrazione e architettura del Novecento.\n\nR
 accomandiamo di leggere accuratamente le norme di partecipazione nel sito.
 \n\nINFO E PRENOTAZIONI\n\nhttps://omogirando.jimdo.com/le-prossime-uscite
 /\n\n_______\n\nCos'è OmoGirando?\n\nhttps://omogirando.jimdo.com/chi-sia
 mo/
ATTACH;FMTTYPE=image/jpeg:https://lazioeventi.com/wp-content/uploads/2024/
 03/Lido-di-Ostia.jpg
CATEGORIES:Arte e Cultura nel Lazio
LOCATION:Roma\, Via Leopardi\, Roma\, Roma\, Lazio\, Italia
GEO:41.8942;12.5017
X-APPLE-STRUCTURED-LOCATION;VALUE=URI;X-ADDRESS=Via Leopardi\, Roma\, Roma\
 , Lazio\, Italia;X-APPLE-RADIUS=100;X-TITLE=Roma:geo:41.8942,12.5017
END:VEVENT
BEGIN:VTIMEZONE
TZID:Europe/Rome
X-LIC-LOCATION:Europe/Rome
BEGIN:DAYLIGHT
DTSTART:20240331T030000
TZOFFSETFROM:+0100
TZOFFSETTO:+0200
TZNAME:CEST
END:DAYLIGHT
END:VTIMEZONE
END:VCALENDAR