BEGIN:VCALENDAR
VERSION:2.0
PRODID:-//wp-events-plugin.com//7.2.3.1//EN
TZID:Europe/Rome
X-WR-TIMEZONE:Europe/Rome
BEGIN:VEVENT
UID:29755@lazioeventi.com
DTSTART;TZID=Europe/Rome:20220130T100000
DTEND;TZID=Europe/Rome:20220130T130000
DTSTAMP:20220127T105049Z
URL:https://lazioeventi.com/eventi/omogirando-il-museo-piana-delle-orme-il
 -percorso-bellico
SUMMARY:OmoGirando il Museo Piana delle Orme: il percorso bellico! - Roma -
  30 Gennaio 22 10:00
DESCRIPTION:Domenica 30 gennaio a Latina proponiamo la visita guidata gay f
 riendly OmoGirando il Museo Piana delle Orme: il percorso bellico!\n\nVi p
 roponiamo una mattinata alla scoperta del Museo Piana delle Orme\, uno dei
  più importanti e sorprendenti musei demoetnoantropologici d’Italia. Il
  percorso museale è piuttosto lungo ed articolato\, quindi abbiamo scelto
  di dividerlo in due e di proporlo in due visite distinte. La visita di ge
 nnaio\, in concomitanza con la Giornata della Memoria\, propone un percors
 o nei padiglioni dedicati alla II Guerra Mondiale e alla Deportazione.\n\n
 Raccomandiamo di leggere accuratamente le norme di partecipazione nel sito
 .\n\nINFO E PRENOTAZIONI\nhttps://omogirando.jimdofree.com/le-prossime-usc
 ite/\n\n______\n\nCos’è OmoGirando?\nhttps://omogirando.jimdo.com/chi-s
 iamo/
ATTACH;FMTTYPE=image/jpeg:https://lazioeventi.com/wp-content/uploads/2022/
 01/omogirando-il-museo-piana-delle-orme-il-percorso-bellico.jpg
CATEGORIES:Arte e Cultura nel Lazio
LOCATION:Roma\, Via Leopardi\, Roma\, Roma\, Lazio\, Italia
GEO:41.8942;12.5017
X-APPLE-STRUCTURED-LOCATION;VALUE=URI;X-ADDRESS=Via Leopardi\, Roma\, Roma\
 , Lazio\, Italia;X-APPLE-RADIUS=100;X-TITLE=Roma:geo:41.8942,12.5017
END:VEVENT
BEGIN:VTIMEZONE
TZID:Europe/Rome
X-LIC-LOCATION:Europe/Rome
BEGIN:STANDARD
DTSTART:20211031T020000
TZOFFSETFROM:+0200
TZOFFSETTO:+0100
TZNAME:CET
END:STANDARD
END:VTIMEZONE
END:VCALENDAR