BEGIN:VCALENDAR
VERSION:2.0
PRODID:-//wp-events-plugin.com//7.2.3.1//EN
TZID:Europe/Rome
X-WR-TIMEZONE:Europe/Rome
BEGIN:VEVENT
UID:39052@lazioeventi.com
DTSTART;TZID=Europe/Rome:20240525T163000
DTEND;TZID=Europe/Rome:20240525T193000
DTSTAMP:20240430T160326Z
URL:https://lazioeventi.com/eventi/omogirando-il-quartiere-africano-dal-ma
 usoleo-di-tor-di-quinto-a-villa-chigi
SUMMARY:OmoGirando il Quartiere Africano\, dal Mausoleo di Tor di Quinto a 
 Villa Chigi - Roma - 25 Maggio 24 16:30
DESCRIPTION:Sabato 25 maggio a Roma ci sarà la visita guidata LGBTQIA Frie
 ndly OmoGirando il Quartiere Africano\, dal Mausoleo di Tor di Quinto a Vi
 lla Chigi!\n\nUn pomeriggio a scoprire un quartiere novecentesco che ha in
 globato molte preesistenze della primissima Campagna Romana!\n\nRaccomandi
 amo di leggere accuratamente le norme di partecipazione nel sito.\n\nINFO 
 E PRENOTAZIONI\nhttps://omogirando.jimdo.com/le-prossime-uscite/\n_______\
 nCos'è OmoGirando?\nhttps://omogirando.jimdo.com/chi-siamo/
ATTACH;FMTTYPE=image/jpeg:https://lazioeventi.com/wp-content/uploads/2024/
 04/villa-chigi_7_copertina.jpg
CATEGORIES:Arte e Cultura nel Lazio
LOCATION:Roma\, Via Leopardi\, Roma\, Roma\, Lazio\, Italia
GEO:41.8942;12.5017
X-APPLE-STRUCTURED-LOCATION;VALUE=URI;X-ADDRESS=Via Leopardi\, Roma\, Roma\
 , Lazio\, Italia;X-APPLE-RADIUS=100;X-TITLE=Roma:geo:41.8942,12.5017
END:VEVENT
BEGIN:VTIMEZONE
TZID:Europe/Rome
X-LIC-LOCATION:Europe/Rome
BEGIN:DAYLIGHT
DTSTART:20240331T030000
TZOFFSETFROM:+0100
TZOFFSETTO:+0200
TZNAME:CEST
END:DAYLIGHT
END:VTIMEZONE
END:VCALENDAR