BEGIN:VCALENDAR
VERSION:2.0
PRODID:-//wp-events-plugin.com//7.2.3.1//EN
TZID:Europe/Rome
X-WR-TIMEZONE:Europe/Rome
BEGIN:VEVENT
UID:43911@lazioeventi.com
DTSTART;TZID=Europe/Rome:20260328T090000
DTEND;TZID=Europe/Rome:20260328T123000
DTSTAMP:20260303T184623Z
URL:https://lazioeventi.com/eventi/omogirando-il-sepolcro-degli-scipioni-e
 -il-museo-delle-mura
SUMMARY:OmoGirando il Sepolcro degli Scipioni e il Museo delle Mura - Roma 
 - 28 Marzo 26 09:00
DESCRIPTION:Sabato 28 marzo a Roma abbiamo la visita LGBTQIA+ friendly 
 OmoGirando il Sepolcro degli Scipioni e il Museo delle Mura!\n\nProponiamo
  una passeggiata nel tratto urbano della Via Appia visitando il Sepolcro d
 egli Scipioni e il Museo delle Mura ricavato in Porta San Sebastiano\, che
  accoglie la mostra “Gravity of the Wall” dell’artista contemporaneo
  Amir Zainorin.\n\nRaccomandiamo di leggere accuratamente le norme di part
 ecipazione nel sito.\n\nINFO E PRENOTAZIONI\n\nhttps://omogirando.jimdo.co
 m/le-prossime-uscite/\n\n_______\n\nCos'è OmoGirando?\n\nhttps://omogiran
 do.jimdo.com/chi-siamo/
ATTACH;FMTTYPE=image/jpeg:https://lazioeventi.com/wp-content/uploads/2026/
 03/SEPOLCRO-SCIPIONI.jpg
CATEGORIES:Arte e Cultura nel Lazio
LOCATION:Roma\, Via Leopardi\, Roma\, Roma\, Lazio\, Italia
GEO:41.8942;12.5017
X-APPLE-STRUCTURED-LOCATION;VALUE=URI;X-ADDRESS=Via Leopardi\, Roma\, Roma\
 , Lazio\, Italia;X-APPLE-RADIUS=100;X-TITLE=Roma:geo:41.8942,12.5017
END:VEVENT
BEGIN:VTIMEZONE
TZID:Europe/Rome
X-LIC-LOCATION:Europe/Rome
BEGIN:STANDARD
DTSTART:20251026T020000
TZOFFSETFROM:+0200
TZOFFSETTO:+0100
TZNAME:CET
END:STANDARD
END:VTIMEZONE
END:VCALENDAR